BEGIN:VCALENDAR
VERSION:2.0
PRODID:spatie/icalendar-generator
NAME:royal_antwerp_3g_92_reminders
X-WR-CALNAME:royal_antwerp_3g_92_reminders
BEGIN:VTIMEZONE
TZID:Europe/Brussels
BEGIN:DAYLIGHT
DTSTART:20250330T010000
TZOFFSETFROM:+0100
TZOFFSETTO:+0200
END:DAYLIGHT
BEGIN:STANDARD
DTSTART:20251026T030000
TZOFFSETFROM:+0200
TZOFFSETTO:+0100
END:STANDARD
BEGIN:DAYLIGHT
DTSTART:20260329T010000
TZOFFSETFROM:+0100
TZOFFSETTO:+0200
END:DAYLIGHT
BEGIN:STANDARD
DTSTART:20261025T030000
TZOFFSETFROM:+0200
TZOFFSETTO:+0100
END:STANDARD
END:VTIMEZONE
BEGIN:VTIMEZONE
TZID:UTC
BEGIN:STANDARD
DTSTART:20250724T072411
TZOFFSETFROM:+0000
TZOFFSETTO:+0000
END:STANDARD
END:VTIMEZONE
BEGIN:VEVENT
UID:A0E9B3BE-1D47-428D-8EB5-7807839F7498-26-1099_homereminder@164.badminton
 ners.net
DTSTAMP:20260420T072411Z
SUMMARY:Thuismatch ingevuld? (Royal Antwerp 3G (92) - Olve 5G (84))
DESCRIPTION:Je hebt 36 uur na aanvang om een thuismatch op Badmintonvlaande
 ren in te vullen. Match info: Royal Antwerp 3G (92) - Olve 5G (84) - Link:
  https://www.badmintonvlaanderen.be/sport/teammatch.aspx?id=A0E9B3BE-1D47-
 428D-8EB5-7807839F7498&match=1099
DTSTART;TZID=Europe/Brussels:20251007T060000
DTEND;TZID=Europe/Brussels:20251007T060000
END:VEVENT
BEGIN:VEVENT
UID:A0E9B3BE-1D47-428D-8EB5-7807839F7498-26-1089_homereminder@164.badminton
 ners.net
DTSTAMP:20260420T072411Z
SUMMARY:Thuismatch ingevuld? (Royal Antwerp 3G (92) - Spinshuttle 2G (91))
DESCRIPTION:Je hebt 36 uur na aanvang om een thuismatch op Badmintonvlaande
 ren in te vullen. Match info: Royal Antwerp 3G (92) - Spinshuttle 2G (91) 
 - Link: https://www.badmintonvlaanderen.be/sport/teammatch.aspx?id=A0E9B3B
 E-1D47-428D-8EB5-7807839F7498&match=1089
DTSTART;TZID=Europe/Brussels:20251118T070000
DTEND;TZID=Europe/Brussels:20251118T070000
END:VEVENT
BEGIN:VEVENT
UID:A0E9B3BE-1D47-428D-8EB5-7807839F7498-26-1073_homereminder@164.badminton
 ners.net
DTSTAMP:20260420T072411Z
SUMMARY:Thuismatch ingevuld? (Royal Antwerp 3G (92) - Poona 2G (79))
DESCRIPTION:Je hebt 36 uur na aanvang om een thuismatch op Badmintonvlaande
 ren in te vullen. Match info: Royal Antwerp 3G (92) - Poona 2G (79) - Link
 : https://www.badmintonvlaanderen.be/sport/teammatch.aspx?id=A0E9B3BE-1D47
 -428D-8EB5-7807839F7498&match=1073
DTSTART;TZID=Europe/Brussels:20251125T060000
DTEND;TZID=Europe/Brussels:20251125T060000
END:VEVENT
BEGIN:VEVENT
UID:A0E9B3BE-1D47-428D-8EB5-7807839F7498-26-1094_homereminder@164.badminton
 ners.net
DTSTAMP:20260420T072411Z
SUMMARY:Thuismatch ingevuld? (Royal Antwerp 3G (92) - Herentals 3G (84))
DESCRIPTION:Je hebt 36 uur na aanvang om een thuismatch op Badmintonvlaande
 ren in te vullen. Match info: Royal Antwerp 3G (92) - Herentals 3G (84) - 
 Link: https://www.badmintonvlaanderen.be/sport/teammatch.aspx?id=A0E9B3BE-
 1D47-428D-8EB5-7807839F7498&match=1094
DTSTART;TZID=Europe/Brussels:20260217T060000
DTEND;TZID=Europe/Brussels:20260217T060000
END:VEVENT
BEGIN:VEVENT
UID:A0E9B3BE-1D47-428D-8EB5-7807839F7498-26-1078_homereminder@164.badminton
 ners.net
DTSTAMP:20260420T072411Z
SUMMARY:Thuismatch ingevuld? (Royal Antwerp 3G (92) - Klein Boom 4G (85))
DESCRIPTION:Je hebt 36 uur na aanvang om een thuismatch op Badmintonvlaande
 ren in te vullen. Match info: Royal Antwerp 3G (92) - Klein Boom 4G (85) -
  Link: https://www.badmintonvlaanderen.be/sport/teammatch.aspx?id=A0E9B3BE
 -1D47-428D-8EB5-7807839F7498&match=1078
DTSTART;TZID=Europe/Brussels:20260331T060000
DTEND;TZID=Europe/Brussels:20260331T060000
END:VEVENT
BEGIN:VEVENT
UID:A0E9B3BE-1D47-428D-8EB5-7807839F7498-26-1085_awayreminder@164.badminton
 ners.net
DTSTAMP:20260420T072411Z
SUMMARY:Uitmatch bevestigd? (Herentals 3G (84) - Royal Antwerp 3G (92))
DESCRIPTION:Je hebt 72 uur na aanvang om een uitmatch op Badmintonvlaandere
 n in te vullen. Match info: Herentals 3G (84) - Royal Antwerp 3G (92) - Li
 nk: https://www.badmintonvlaanderen.be/sport/teammatch.aspx?id=A0E9B3BE-1D
 47-428D-8EB5-7807839F7498&match=1085
DTSTART;TZID=Europe/Brussels:20251026T200000
DTEND;TZID=Europe/Brussels:20251026T200000
END:VEVENT
BEGIN:VEVENT
UID:A0E9B3BE-1D47-428D-8EB5-7807839F7498-26-1083_awayreminder@164.badminton
 ners.net
DTSTAMP:20260420T072411Z
SUMMARY:Uitmatch bevestigd? (Klein Boom 4G (85) - Royal Antwerp 3G (92))
DESCRIPTION:Je hebt 72 uur na aanvang om een uitmatch op Badmintonvlaandere
 n in te vullen. Match info: Klein Boom 4G (85) - Royal Antwerp 3G (92) - L
 ink: https://www.badmintonvlaanderen.be/sport/teammatch.aspx?id=A0E9B3BE-1
 D47-428D-8EB5-7807839F7498&match=1083
DTSTART;TZID=Europe/Brussels:20251210T190000
DTEND;TZID=Europe/Brussels:20251210T190000
END:VEVENT
BEGIN:VEVENT
UID:A0E9B3BE-1D47-428D-8EB5-7807839F7498-26-1084_awayreminder@164.badminton
 ners.net
DTSTAMP:20260420T072411Z
SUMMARY:Uitmatch bevestigd? (Spinshuttle 2G (91) - Royal Antwerp 3G (92))
DESCRIPTION:Je hebt 72 uur na aanvang om een uitmatch op Badmintonvlaandere
 n in te vullen. Match info: Spinshuttle 2G (91) - Royal Antwerp 3G (92) - 
 Link: https://www.badmintonvlaanderen.be/sport/teammatch.aspx?id=A0E9B3BE-
 1D47-428D-8EB5-7807839F7498&match=1084
DTSTART;TZID=Europe/Brussels:20260130T200000
DTEND;TZID=Europe/Brussels:20260130T200000
END:VEVENT
BEGIN:VEVENT
UID:A0E9B3BE-1D47-428D-8EB5-7807839F7498-26-1086_awayreminder@164.badminton
 ners.net
DTSTAMP:20260420T072411Z
SUMMARY:Uitmatch bevestigd? (Olve 5G (84) - Royal Antwerp 3G (92))
DESCRIPTION:Je hebt 72 uur na aanvang om een uitmatch op Badmintonvlaandere
 n in te vullen. Match info: Olve 5G (84) - Royal Antwerp 3G (92) - Link: h
 ttps://www.badmintonvlaanderen.be/sport/teammatch.aspx?id=A0E9B3BE-1D47-42
 8D-8EB5-7807839F7498&match=1086
DTSTART;TZID=Europe/Brussels:20260317T103000
DTEND;TZID=Europe/Brussels:20260317T103000
END:VEVENT
BEGIN:VEVENT
UID:A0E9B3BE-1D47-428D-8EB5-7807839F7498-26-1082_awayreminder@164.badminton
 ners.net
DTSTAMP:20260420T072411Z
SUMMARY:Uitmatch bevestigd? (Poona 2G (79) - Royal Antwerp 3G (92))
DESCRIPTION:Je hebt 72 uur na aanvang om een uitmatch op Badmintonvlaandere
 n in te vullen. Match info: Poona 2G (79) - Royal Antwerp 3G (92) - Link: 
 https://www.badmintonvlaanderen.be/sport/teammatch.aspx?id=A0E9B3BE-1D47-4
 28D-8EB5-7807839F7498&match=1082
DTSTART;TZID=Europe/Brussels:20260423T200000
DTEND;TZID=Europe/Brussels:20260423T200000
END:VEVENT
END:VCALENDAR