BEGIN:VCALENDAR
VERSION:2.0
PRODID:spatie/icalendar-generator
NAME:klein_boom_4g_85_reminders
X-WR-CALNAME:klein_boom_4g_85_reminders
BEGIN:VTIMEZONE
TZID:Europe/Brussels
BEGIN:DAYLIGHT
DTSTART:20250330T010000
TZOFFSETFROM:+0100
TZOFFSETTO:+0200
END:DAYLIGHT
BEGIN:STANDARD
DTSTART:20251026T030000
TZOFFSETFROM:+0200
TZOFFSETTO:+0100
END:STANDARD
BEGIN:DAYLIGHT
DTSTART:20260329T010000
TZOFFSETFROM:+0100
TZOFFSETTO:+0200
END:DAYLIGHT
END:VTIMEZONE
BEGIN:VTIMEZONE
TZID:UTC
BEGIN:STANDARD
DTSTART:20250724T043741
TZOFFSETFROM:+0000
TZOFFSETTO:+0000
END:STANDARD
END:VTIMEZONE
BEGIN:VEVENT
UID:A0E9B3BE-1D47-428D-8EB5-7807839F7498-26-1093_homereminder@167.badminton
 ners.net
DTSTAMP:20260420T043741Z
SUMMARY:Thuismatch ingevuld? (Klein Boom 4G (85) - Herentals 3G (84))
DESCRIPTION:Je hebt 36 uur na aanvang om een thuismatch op Badmintonvlaande
 ren in te vullen. Match info: Klein Boom 4G (85) - Herentals 3G (84) - Lin
 k: https://www.badmintonvlaanderen.be/sport/teammatch.aspx?id=A0E9B3BE-1D4
 7-428D-8EB5-7807839F7498&match=1093
DTSTART;TZID=Europe/Brussels:20250930T070000
DTEND;TZID=Europe/Brussels:20250930T070000
END:VEVENT
BEGIN:VEVENT
UID:A0E9B3BE-1D47-428D-8EB5-7807839F7498-26-1098_homereminder@167.badminton
 ners.net
DTSTAMP:20260420T043741Z
SUMMARY:Thuismatch ingevuld? (Klein Boom 4G (85) - Olve 5G (84))
DESCRIPTION:Je hebt 36 uur na aanvang om een thuismatch op Badmintonvlaande
 ren in te vullen. Match info: Klein Boom 4G (85) - Olve 5G (84) - Link: ht
 tps://www.badmintonvlaanderen.be/sport/teammatch.aspx?id=A0E9B3BE-1D47-428
 D-8EB5-7807839F7498&match=1098
DTSTART;TZID=Europe/Brussels:20251125T070000
DTEND;TZID=Europe/Brussels:20251125T070000
END:VEVENT
BEGIN:VEVENT
UID:A0E9B3BE-1D47-428D-8EB5-7807839F7498-26-1083_homereminder@167.badminton
 ners.net
DTSTAMP:20260420T043741Z
SUMMARY:Thuismatch ingevuld? (Klein Boom 4G (85) - Royal Antwerp 3G (92))
DESCRIPTION:Je hebt 36 uur na aanvang om een thuismatch op Badmintonvlaande
 ren in te vullen. Match info: Klein Boom 4G (85) - Royal Antwerp 3G (92) -
  Link: https://www.badmintonvlaanderen.be/sport/teammatch.aspx?id=A0E9B3BE
 -1D47-428D-8EB5-7807839F7498&match=1083
DTSTART;TZID=Europe/Brussels:20251209T070000
DTEND;TZID=Europe/Brussels:20251209T070000
END:VEVENT
BEGIN:VEVENT
UID:A0E9B3BE-1D47-428D-8EB5-7807839F7498-26-1072_homereminder@167.badminton
 ners.net
DTSTAMP:20260420T043741Z
SUMMARY:Thuismatch ingevuld? (Klein Boom 4G (85) - Poona 2G (79))
DESCRIPTION:Je hebt 36 uur na aanvang om een thuismatch op Badmintonvlaande
 ren in te vullen. Match info: Klein Boom 4G (85) - Poona 2G (79) - Link: h
 ttps://www.badmintonvlaanderen.be/sport/teammatch.aspx?id=A0E9B3BE-1D47-42
 8D-8EB5-7807839F7498&match=1072
DTSTART;TZID=Europe/Brussels:20260203T070000
DTEND;TZID=Europe/Brussels:20260203T070000
END:VEVENT
BEGIN:VEVENT
UID:A0E9B3BE-1D47-428D-8EB5-7807839F7498-26-1088_homereminder@167.badminton
 ners.net
DTSTAMP:20260420T043741Z
SUMMARY:Thuismatch ingevuld? (Klein Boom 4G (85) - Spinshuttle 2G (91))
DESCRIPTION:Je hebt 36 uur na aanvang om een thuismatch op Badmintonvlaande
 ren in te vullen. Match info: Klein Boom 4G (85) - Spinshuttle 2G (91) - L
 ink: https://www.badmintonvlaanderen.be/sport/teammatch.aspx?id=A0E9B3BE-1
 D47-428D-8EB5-7807839F7498&match=1088
DTSTART;TZID=Europe/Brussels:20260311T080000
DTEND;TZID=Europe/Brussels:20260311T080000
END:VEVENT
BEGIN:VEVENT
UID:A0E9B3BE-1D47-428D-8EB5-7807839F7498-26-1077_awayreminder@167.badminton
 ners.net
DTSTAMP:20260420T043741Z
SUMMARY:Uitmatch bevestigd? (Poona 2G (79) - Klein Boom 4G (85))
DESCRIPTION:Je hebt 72 uur na aanvang om een uitmatch op Badmintonvlaandere
 n in te vullen. Match info: Poona 2G (79) - Klein Boom 4G (85) - Link: htt
 ps://www.badmintonvlaanderen.be/sport/teammatch.aspx?id=A0E9B3BE-1D47-428D
 -8EB5-7807839F7498&match=1077
DTSTART;TZID=Europe/Brussels:20251009T200000
DTEND;TZID=Europe/Brussels:20251009T200000
END:VEVENT
BEGIN:VEVENT
UID:A0E9B3BE-1D47-428D-8EB5-7807839F7498-26-1079_awayreminder@167.badminton
 ners.net
DTSTAMP:20260420T043741Z
SUMMARY:Uitmatch bevestigd? (Spinshuttle 2G (91) - Klein Boom 4G (85))
DESCRIPTION:Je hebt 72 uur na aanvang om een uitmatch op Badmintonvlaandere
 n in te vullen. Match info: Spinshuttle 2G (91) - Klein Boom 4G (85) - Lin
 k: https://www.badmintonvlaanderen.be/sport/teammatch.aspx?id=A0E9B3BE-1D4
 7-428D-8EB5-7807839F7498&match=1079
DTSTART;TZID=Europe/Brussels:20251121T200000
DTEND;TZID=Europe/Brussels:20251121T200000
END:VEVENT
BEGIN:VEVENT
UID:A0E9B3BE-1D47-428D-8EB5-7807839F7498-26-1080_awayreminder@167.badminton
 ners.net
DTSTAMP:20260420T043741Z
SUMMARY:Uitmatch bevestigd? (Herentals 3G (84) - Klein Boom 4G (85))
DESCRIPTION:Je hebt 72 uur na aanvang om een uitmatch op Badmintonvlaandere
 n in te vullen. Match info: Herentals 3G (84) - Klein Boom 4G (85) - Link:
  https://www.badmintonvlaanderen.be/sport/teammatch.aspx?id=A0E9B3BE-1D47-
 428D-8EB5-7807839F7498&match=1080
DTSTART;TZID=Europe/Brussels:20260118T210000
DTEND;TZID=Europe/Brussels:20260118T210000
END:VEVENT
BEGIN:VEVENT
UID:A0E9B3BE-1D47-428D-8EB5-7807839F7498-26-1081_awayreminder@167.badminton
 ners.net
DTSTAMP:20260420T043741Z
SUMMARY:Uitmatch bevestigd? (Olve 5G (84) - Klein Boom 4G (85))
DESCRIPTION:Je hebt 72 uur na aanvang om een uitmatch op Badmintonvlaandere
 n in te vullen. Match info: Olve 5G (84) - Klein Boom 4G (85) - Link: http
 s://www.badmintonvlaanderen.be/sport/teammatch.aspx?id=A0E9B3BE-1D47-428D-
 8EB5-7807839F7498&match=1081
DTSTART;TZID=Europe/Brussels:20260303T103000
DTEND;TZID=Europe/Brussels:20260303T103000
END:VEVENT
BEGIN:VEVENT
UID:A0E9B3BE-1D47-428D-8EB5-7807839F7498-26-1078_awayreminder@167.badminton
 ners.net
DTSTAMP:20260420T043741Z
SUMMARY:Uitmatch bevestigd? (Royal Antwerp 3G (92) - Klein Boom 4G (85))
DESCRIPTION:Je hebt 72 uur na aanvang om een uitmatch op Badmintonvlaandere
 n in te vullen. Match info: Royal Antwerp 3G (92) - Klein Boom 4G (85) - L
 ink: https://www.badmintonvlaanderen.be/sport/teammatch.aspx?id=A0E9B3BE-1
 D47-428D-8EB5-7807839F7498&match=1078
DTSTART;TZID=Europe/Brussels:20260401T180000
DTEND;TZID=Europe/Brussels:20260401T180000
END:VEVENT
END:VCALENDAR