BEGIN:VCALENDAR
VERSION:2.0
PRODID:spatie/icalendar-generator
NAME:bacss_3g_103_reminders
X-WR-CALNAME:bacss_3g_103_reminders
BEGIN:VTIMEZONE
TZID:Europe/Brussels
BEGIN:DAYLIGHT
DTSTART:20250330T010000
TZOFFSETFROM:+0100
TZOFFSETTO:+0200
END:DAYLIGHT
BEGIN:STANDARD
DTSTART:20251026T030000
TZOFFSETFROM:+0200
TZOFFSETTO:+0100
END:STANDARD
BEGIN:DAYLIGHT
DTSTART:20260329T010000
TZOFFSETFROM:+0100
TZOFFSETTO:+0200
END:DAYLIGHT
BEGIN:STANDARD
DTSTART:20261025T030000
TZOFFSETFROM:+0200
TZOFFSETTO:+0100
END:STANDARD
END:VTIMEZONE
BEGIN:VTIMEZONE
TZID:UTC
BEGIN:STANDARD
DTSTART:20250724T043747
TZOFFSETFROM:+0000
TZOFFSETTO:+0000
END:STANDARD
END:VTIMEZONE
BEGIN:VEVENT
UID:A0E9B3BE-1D47-428D-8EB5-7807839F7498-27-1114_homereminder@157.badminton
 ners.net
DTSTAMP:20260420T043747Z
SUMMARY:Thuismatch ingevuld? (Bacss 3G (103) - BC St.Job 1G (105))
DESCRIPTION:Je hebt 36 uur na aanvang om een thuismatch op Badmintonvlaande
 ren in te vullen. Match info: Bacss 3G (103) - BC St.Job 1G (105) - Link: 
 https://www.badmintonvlaanderen.be/sport/teammatch.aspx?id=A0E9B3BE-1D47-4
 28D-8EB5-7807839F7498&match=1114
DTSTART;TZID=Europe/Brussels:20250928T081500
DTEND;TZID=Europe/Brussels:20250928T081500
END:VEVENT
BEGIN:VEVENT
UID:A0E9B3BE-1D47-428D-8EB5-7807839F7498-27-1138_homereminder@157.badminton
 ners.net
DTSTAMP:20260420T043747Z
SUMMARY:Thuismatch ingevuld? (Bacss 3G (103) - Klein Boom 6G (102))
DESCRIPTION:Je hebt 36 uur na aanvang om een thuismatch op Badmintonvlaande
 ren in te vullen. Match info: Bacss 3G (103) - Klein Boom 6G (102) - Link:
  https://www.badmintonvlaanderen.be/sport/teammatch.aspx?id=A0E9B3BE-1D47-
 428D-8EB5-7807839F7498&match=1138
DTSTART;TZID=Europe/Brussels:20251214T081500
DTEND;TZID=Europe/Brussels:20251214T081500
END:VEVENT
BEGIN:VEVENT
UID:A0E9B3BE-1D47-428D-8EB5-7807839F7498-27-1126_homereminder@157.badminton
 ners.net
DTSTAMP:20260420T043747Z
SUMMARY:Thuismatch ingevuld? (Bacss 3G (103) - Duffel 1G (107))
DESCRIPTION:Je hebt 36 uur na aanvang om een thuismatch op Badmintonvlaande
 ren in te vullen. Match info: Bacss 3G (103) - Duffel 1G (107) - Link: htt
 ps://www.badmintonvlaanderen.be/sport/teammatch.aspx?id=A0E9B3BE-1D47-428D
 -8EB5-7807839F7498&match=1126
DTSTART;TZID=Europe/Brussels:20251221T081500
DTEND;TZID=Europe/Brussels:20251221T081500
END:VEVENT
BEGIN:VEVENT
UID:A0E9B3BE-1D47-428D-8EB5-7807839F7498-27-1120_homereminder@157.badminton
 ners.net
DTSTAMP:20260420T043747Z
SUMMARY:Thuismatch ingevuld? (Bacss 3G (103) - Essen 1G (109))
DESCRIPTION:Je hebt 36 uur na aanvang om een thuismatch op Badmintonvlaande
 ren in te vullen. Match info: Bacss 3G (103) - Essen 1G (109) - Link: http
 s://www.badmintonvlaanderen.be/sport/teammatch.aspx?id=A0E9B3BE-1D47-428D-
 8EB5-7807839F7498&match=1120
DTSTART;TZID=Europe/Brussels:20260119T220000
DTEND;TZID=Europe/Brussels:20260119T220000
END:VEVENT
BEGIN:VEVENT
UID:A0E9B3BE-1D47-428D-8EB5-7807839F7498-27-1132_homereminder@157.badminton
 ners.net
DTSTAMP:20260420T043747Z
SUMMARY:Thuismatch ingevuld? (Bacss 3G (103) - Brasschaat 6G (96))
DESCRIPTION:Je hebt 36 uur na aanvang om een thuismatch op Badmintonvlaande
 ren in te vullen. Match info: Bacss 3G (103) - Brasschaat 6G (96) - Link: 
 https://www.badmintonvlaanderen.be/sport/teammatch.aspx?id=A0E9B3BE-1D47-4
 28D-8EB5-7807839F7498&match=1132
DTSTART;TZID=Europe/Brussels:20260222T081500
DTEND;TZID=Europe/Brussels:20260222T081500
END:VEVENT
BEGIN:VEVENT
UID:A0E9B3BE-1D47-428D-8EB5-7807839F7498-27-1144_homereminder@157.badminton
 ners.net
DTSTAMP:20260420T043747Z
SUMMARY:Thuismatch ingevuld? (Bacss 3G (103) - Poona 3G (104))
DESCRIPTION:Je hebt 36 uur na aanvang om een thuismatch op Badmintonvlaande
 ren in te vullen. Match info: Bacss 3G (103) - Poona 3G (104) - Link: http
 s://www.badmintonvlaanderen.be/sport/teammatch.aspx?id=A0E9B3BE-1D47-428D-
 8EB5-7807839F7498&match=1144
DTSTART;TZID=Europe/Brussels:20260309T220000
DTEND;TZID=Europe/Brussels:20260309T220000
END:VEVENT
BEGIN:VEVENT
UID:A0E9B3BE-1D47-428D-8EB5-7807839F7498-27-1148_awayreminder@157.badminton
 ners.net
DTSTAMP:20260420T043747Z
SUMMARY:Uitmatch bevestigd? (Brasschaat 6G (96) - Bacss 3G (103))
DESCRIPTION:Je hebt 72 uur na aanvang om een uitmatch op Badmintonvlaandere
 n in te vullen. Match info: Brasschaat 6G (96) - Bacss 3G (103) - Link: ht
 tps://www.badmintonvlaanderen.be/sport/teammatch.aspx?id=A0E9B3BE-1D47-428
 D-8EB5-7807839F7498&match=1148
DTSTART;TZID=Europe/Brussels:20251001T190000
DTEND;TZID=Europe/Brussels:20251001T190000
END:VEVENT
BEGIN:VEVENT
UID:A0E9B3BE-1D47-428D-8EB5-7807839F7498-27-1150_awayreminder@157.badminton
 ners.net
DTSTAMP:20260420T043747Z
SUMMARY:Uitmatch bevestigd? (Poona 3G (104) - Bacss 3G (103))
DESCRIPTION:Je hebt 72 uur na aanvang om een uitmatch op Badmintonvlaandere
 n in te vullen. Match info: Poona 3G (104) - Bacss 3G (103) - Link: https:
 //www.badmintonvlaanderen.be/sport/teammatch.aspx?id=A0E9B3BE-1D47-428D-8E
 B5-7807839F7498&match=1150
DTSTART;TZID=Europe/Brussels:20251023T200000
DTEND;TZID=Europe/Brussels:20251023T200000
END:VEVENT
BEGIN:VEVENT
UID:A0E9B3BE-1D47-428D-8EB5-7807839F7498-27-1146_awayreminder@157.badminton
 ners.net
DTSTAMP:20260420T043747Z
SUMMARY:Uitmatch bevestigd? (Essen 1G (109) - Bacss 3G (103))
DESCRIPTION:Je hebt 72 uur na aanvang om een uitmatch op Badmintonvlaandere
 n in te vullen. Match info: Essen 1G (109) - Bacss 3G (103) - Link: https:
 //www.badmintonvlaanderen.be/sport/teammatch.aspx?id=A0E9B3BE-1D47-428D-8E
 B5-7807839F7498&match=1146
DTSTART;TZID=Europe/Brussels:20251210T190000
DTEND;TZID=Europe/Brussels:20251210T190000
END:VEVENT
BEGIN:VEVENT
UID:A0E9B3BE-1D47-428D-8EB5-7807839F7498-27-1147_awayreminder@157.badminton
 ners.net
DTSTAMP:20260420T043747Z
SUMMARY:Uitmatch bevestigd? (Duffel 1G (107) - Bacss 3G (103))
DESCRIPTION:Je hebt 72 uur na aanvang om een uitmatch op Badmintonvlaandere
 n in te vullen. Match info: Duffel 1G (107) - Bacss 3G (103) - Link: https
 ://www.badmintonvlaanderen.be/sport/teammatch.aspx?id=A0E9B3BE-1D47-428D-8
 EB5-7807839F7498&match=1147
DTSTART;TZID=Europe/Brussels:20260204T200000
DTEND;TZID=Europe/Brussels:20260204T200000
END:VEVENT
BEGIN:VEVENT
UID:A0E9B3BE-1D47-428D-8EB5-7807839F7498-27-1149_awayreminder@157.badminton
 ners.net
DTSTAMP:20260420T043747Z
SUMMARY:Uitmatch bevestigd? (Klein Boom 6G (102) - Bacss 3G (103))
DESCRIPTION:Je hebt 72 uur na aanvang om een uitmatch op Badmintonvlaandere
 n in te vullen. Match info: Klein Boom 6G (102) - Bacss 3G (103) - Link: h
 ttps://www.badmintonvlaanderen.be/sport/teammatch.aspx?id=A0E9B3BE-1D47-42
 8D-8EB5-7807839F7498&match=1149
DTSTART;TZID=Europe/Brussels:20260304T190000
DTEND;TZID=Europe/Brussels:20260304T190000
END:VEVENT
BEGIN:VEVENT
UID:A0E9B3BE-1D47-428D-8EB5-7807839F7498-27-1145_awayreminder@157.badminton
 ners.net
DTSTAMP:20260420T043747Z
SUMMARY:Uitmatch bevestigd? (BC St.Job 1G (105) - Bacss 3G (103))
DESCRIPTION:Je hebt 72 uur na aanvang om een uitmatch op Badmintonvlaandere
 n in te vullen. Match info: BC St.Job 1G (105) - Bacss 3G (103) - Link: ht
 tps://www.badmintonvlaanderen.be/sport/teammatch.aspx?id=A0E9B3BE-1D47-428
 D-8EB5-7807839F7498&match=1145
DTSTART;TZID=Europe/Brussels:20260429T100000
DTEND;TZID=Europe/Brussels:20260429T100000
END:VEVENT
END:VCALENDAR