BEGIN:VCALENDAR
VERSION:2.0
PRODID:spatie/icalendar-generator
NAME:klein_boom_6g_102_reminders
X-WR-CALNAME:klein_boom_6g_102_reminders
BEGIN:VTIMEZONE
TZID:Europe/Brussels
BEGIN:DAYLIGHT
DTSTART:20250330T010000
TZOFFSETFROM:+0100
TZOFFSETTO:+0200
END:DAYLIGHT
BEGIN:STANDARD
DTSTART:20251026T030000
TZOFFSETFROM:+0200
TZOFFSETTO:+0100
END:STANDARD
BEGIN:DAYLIGHT
DTSTART:20260329T010000
TZOFFSETFROM:+0100
TZOFFSETTO:+0200
END:DAYLIGHT
END:VTIMEZONE
BEGIN:VTIMEZONE
TZID:UTC
BEGIN:STANDARD
DTSTART:20250724T043741
TZOFFSETFROM:+0000
TZOFFSETTO:+0000
END:STANDARD
END:VTIMEZONE
BEGIN:VEVENT
UID:A0E9B3BE-1D47-428D-8EB5-7807839F7498-27-1143_homereminder@171.badminton
 ners.net
DTSTAMP:20260420T043741Z
SUMMARY:Thuismatch ingevuld? (Klein Boom 6G (102) - Poona 3G (104))
DESCRIPTION:Je hebt 36 uur na aanvang om een thuismatch op Badmintonvlaande
 ren in te vullen. Match info: Klein Boom 6G (102) - Poona 3G (104) - Link:
  https://www.badmintonvlaanderen.be/sport/teammatch.aspx?id=A0E9B3BE-1D47-
 428D-8EB5-7807839F7498&match=1143
DTSTART;TZID=Europe/Brussels:20250930T070000
DTEND;TZID=Europe/Brussels:20250930T070000
END:VEVENT
BEGIN:VEVENT
UID:A0E9B3BE-1D47-428D-8EB5-7807839F7498-27-1112_homereminder@171.badminton
 ners.net
DTSTAMP:20260420T043741Z
SUMMARY:Thuismatch ingevuld? (Klein Boom 6G (102) - BC St.Job 1G (105))
DESCRIPTION:Je hebt 36 uur na aanvang om een thuismatch op Badmintonvlaande
 ren in te vullen. Match info: Klein Boom 6G (102) - BC St.Job 1G (105) - L
 ink: https://www.badmintonvlaanderen.be/sport/teammatch.aspx?id=A0E9B3BE-1
 D47-428D-8EB5-7807839F7498&match=1112
DTSTART;TZID=Europe/Brussels:20251028T070000
DTEND;TZID=Europe/Brussels:20251028T070000
END:VEVENT
BEGIN:VEVENT
UID:A0E9B3BE-1D47-428D-8EB5-7807839F7498-27-1124_homereminder@171.badminton
 ners.net
DTSTAMP:20260420T043741Z
SUMMARY:Thuismatch ingevuld? (Klein Boom 6G (102) - Duffel 1G (107))
DESCRIPTION:Je hebt 36 uur na aanvang om een thuismatch op Badmintonvlaande
 ren in te vullen. Match info: Klein Boom 6G (102) - Duffel 1G (107) - Link
 : https://www.badmintonvlaanderen.be/sport/teammatch.aspx?id=A0E9B3BE-1D47
 -428D-8EB5-7807839F7498&match=1124
DTSTART;TZID=Europe/Brussels:20251125T070000
DTEND;TZID=Europe/Brussels:20251125T070000
END:VEVENT
BEGIN:VEVENT
UID:A0E9B3BE-1D47-428D-8EB5-7807839F7498-27-1130_homereminder@171.badminton
 ners.net
DTSTAMP:20260420T043741Z
SUMMARY:Thuismatch ingevuld? (Klein Boom 6G (102) - Brasschaat 6G (96))
DESCRIPTION:Je hebt 36 uur na aanvang om een thuismatch op Badmintonvlaande
 ren in te vullen. Match info: Klein Boom 6G (102) - Brasschaat 6G (96) - L
 ink: https://www.badmintonvlaanderen.be/sport/teammatch.aspx?id=A0E9B3BE-1
 D47-428D-8EB5-7807839F7498&match=1130
DTSTART;TZID=Europe/Brussels:20260106T070000
DTEND;TZID=Europe/Brussels:20260106T070000
END:VEVENT
BEGIN:VEVENT
UID:A0E9B3BE-1D47-428D-8EB5-7807839F7498-27-1149_homereminder@171.badminton
 ners.net
DTSTAMP:20260420T043741Z
SUMMARY:Thuismatch ingevuld? (Klein Boom 6G (102) - Bacss 3G (103))
DESCRIPTION:Je hebt 36 uur na aanvang om een thuismatch op Badmintonvlaande
 ren in te vullen. Match info: Klein Boom 6G (102) - Bacss 3G (103) - Link:
  https://www.badmintonvlaanderen.be/sport/teammatch.aspx?id=A0E9B3BE-1D47-
 428D-8EB5-7807839F7498&match=1149
DTSTART;TZID=Europe/Brussels:20260303T070000
DTEND;TZID=Europe/Brussels:20260303T070000
END:VEVENT
BEGIN:VEVENT
UID:A0E9B3BE-1D47-428D-8EB5-7807839F7498-27-1118_homereminder@171.badminton
 ners.net
DTSTAMP:20260420T043741Z
SUMMARY:Thuismatch ingevuld? (Klein Boom 6G (102) - Essen 1G (109))
DESCRIPTION:Je hebt 36 uur na aanvang om een thuismatch op Badmintonvlaande
 ren in te vullen. Match info: Klein Boom 6G (102) - Essen 1G (109) - Link:
  https://www.badmintonvlaanderen.be/sport/teammatch.aspx?id=A0E9B3BE-1D47-
 428D-8EB5-7807839F7498&match=1118
DTSTART;TZID=Europe/Brussels:20260331T070000
DTEND;TZID=Europe/Brussels:20260331T070000
END:VEVENT
BEGIN:VEVENT
UID:A0E9B3BE-1D47-428D-8EB5-7807839F7498-27-1134_awayreminder@171.badminton
 ners.net
DTSTAMP:20260420T043741Z
SUMMARY:Uitmatch bevestigd? (Essen 1G (109) - Klein Boom 6G (102))
DESCRIPTION:Je hebt 72 uur na aanvang om een uitmatch op Badmintonvlaandere
 n in te vullen. Match info: Essen 1G (109) - Klein Boom 6G (102) - Link: h
 ttps://www.badmintonvlaanderen.be/sport/teammatch.aspx?id=A0E9B3BE-1D47-42
 8D-8EB5-7807839F7498&match=1134
DTSTART;TZID=Europe/Brussels:20251112T190000
DTEND;TZID=Europe/Brussels:20251112T190000
END:VEVENT
BEGIN:VEVENT
UID:A0E9B3BE-1D47-428D-8EB5-7807839F7498-27-1138_awayreminder@171.badminton
 ners.net
DTSTAMP:20260420T043741Z
SUMMARY:Uitmatch bevestigd? (Bacss 3G (103) - Klein Boom 6G (102))
DESCRIPTION:Je hebt 72 uur na aanvang om een uitmatch op Badmintonvlaandere
 n in te vullen. Match info: Bacss 3G (103) - Klein Boom 6G (102) - Link: h
 ttps://www.badmintonvlaanderen.be/sport/teammatch.aspx?id=A0E9B3BE-1D47-42
 8D-8EB5-7807839F7498&match=1138
DTSTART;TZID=Europe/Brussels:20251215T201500
DTEND;TZID=Europe/Brussels:20251215T201500
END:VEVENT
BEGIN:VEVENT
UID:A0E9B3BE-1D47-428D-8EB5-7807839F7498-27-1136_awayreminder@171.badminton
 ners.net
DTSTAMP:20260420T043741Z
SUMMARY:Uitmatch bevestigd? (Brasschaat 6G (96) - Klein Boom 6G (102))
DESCRIPTION:Je hebt 72 uur na aanvang om een uitmatch op Badmintonvlaandere
 n in te vullen. Match info: Brasschaat 6G (96) - Klein Boom 6G (102) - Lin
 k: https://www.badmintonvlaanderen.be/sport/teammatch.aspx?id=A0E9B3BE-1D4
 7-428D-8EB5-7807839F7498&match=1136
DTSTART;TZID=Europe/Brussels:20251224T190000
DTEND;TZID=Europe/Brussels:20251224T190000
END:VEVENT
BEGIN:VEVENT
UID:A0E9B3BE-1D47-428D-8EB5-7807839F7498-27-1133_awayreminder@171.badminton
 ners.net
DTSTAMP:20260420T043741Z
SUMMARY:Uitmatch bevestigd? (BC St.Job 1G (105) - Klein Boom 6G (102))
DESCRIPTION:Je hebt 72 uur na aanvang om een uitmatch op Badmintonvlaandere
 n in te vullen. Match info: BC St.Job 1G (105) - Klein Boom 6G (102) - Lin
 k: https://www.badmintonvlaanderen.be/sport/teammatch.aspx?id=A0E9B3BE-1D4
 7-428D-8EB5-7807839F7498&match=1133
DTSTART;TZID=Europe/Brussels:20260121T100000
DTEND;TZID=Europe/Brussels:20260121T100000
END:VEVENT
BEGIN:VEVENT
UID:A0E9B3BE-1D47-428D-8EB5-7807839F7498-27-1137_awayreminder@171.badminton
 ners.net
DTSTAMP:20260420T043741Z
SUMMARY:Uitmatch bevestigd? (Poona 3G (104) - Klein Boom 6G (102))
DESCRIPTION:Je hebt 72 uur na aanvang om een uitmatch op Badmintonvlaandere
 n in te vullen. Match info: Poona 3G (104) - Klein Boom 6G (102) - Link: h
 ttps://www.badmintonvlaanderen.be/sport/teammatch.aspx?id=A0E9B3BE-1D47-42
 8D-8EB5-7807839F7498&match=1137
DTSTART;TZID=Europe/Brussels:20260212T200000
DTEND;TZID=Europe/Brussels:20260212T200000
END:VEVENT
BEGIN:VEVENT
UID:A0E9B3BE-1D47-428D-8EB5-7807839F7498-27-1135_awayreminder@171.badminton
 ners.net
DTSTAMP:20260420T043741Z
SUMMARY:Uitmatch bevestigd? (Duffel 1G (107) - Klein Boom 6G (102))
DESCRIPTION:Je hebt 72 uur na aanvang om een uitmatch op Badmintonvlaandere
 n in te vullen. Match info: Duffel 1G (107) - Klein Boom 6G (102) - Link: 
 https://www.badmintonvlaanderen.be/sport/teammatch.aspx?id=A0E9B3BE-1D47-4
 28D-8EB5-7807839F7498&match=1135
DTSTART;TZID=Europe/Brussels:20260415T200000
DTEND;TZID=Europe/Brussels:20260415T200000
END:VEVENT
END:VCALENDAR