BEGIN:VCALENDAR
VERSION:2.0
PRODID:spatie/icalendar-generator
NAME:duffel_1g_107_reminders
X-WR-CALNAME:duffel_1g_107_reminders
BEGIN:VTIMEZONE
TZID:Europe/Brussels
BEGIN:DAYLIGHT
DTSTART:20250330T010000
TZOFFSETFROM:+0100
TZOFFSETTO:+0200
END:DAYLIGHT
BEGIN:STANDARD
DTSTART:20251026T030000
TZOFFSETFROM:+0200
TZOFFSETTO:+0100
END:STANDARD
BEGIN:DAYLIGHT
DTSTART:20260329T010000
TZOFFSETFROM:+0100
TZOFFSETTO:+0200
END:DAYLIGHT
END:VTIMEZONE
BEGIN:VTIMEZONE
TZID:UTC
BEGIN:STANDARD
DTSTART:20250724T055109
TZOFFSETFROM:+0000
TZOFFSETTO:+0000
END:STANDARD
END:VTIMEZONE
BEGIN:VEVENT
UID:A0E9B3BE-1D47-428D-8EB5-7807839F7498-27-1110_homereminder@174.badminton
 ners.net
DTSTAMP:20260420T055109Z
SUMMARY:Thuismatch ingevuld? (Duffel 1G (107) - BC St.Job 1G (105))
DESCRIPTION:Je hebt 36 uur na aanvang om een thuismatch op Badmintonvlaande
 ren in te vullen. Match info: Duffel 1G (107) - BC St.Job 1G (105) - Link:
  https://www.badmintonvlaanderen.be/sport/teammatch.aspx?id=A0E9B3BE-1D47-
 428D-8EB5-7807839F7498&match=1110
DTSTART;TZID=Europe/Brussels:20251021T080000
DTEND;TZID=Europe/Brussels:20251021T080000
END:VEVENT
BEGIN:VEVENT
UID:A0E9B3BE-1D47-428D-8EB5-7807839F7498-27-1129_homereminder@174.badminton
 ners.net
DTSTAMP:20260420T055109Z
SUMMARY:Thuismatch ingevuld? (Duffel 1G (107) - Brasschaat 6G (96))
DESCRIPTION:Je hebt 36 uur na aanvang om een thuismatch op Badmintonvlaande
 ren in te vullen. Match info: Duffel 1G (107) - Brasschaat 6G (96) - Link:
  https://www.badmintonvlaanderen.be/sport/teammatch.aspx?id=A0E9B3BE-1D47-
 428D-8EB5-7807839F7498&match=1129
DTSTART;TZID=Europe/Brussels:20251111T080000
DTEND;TZID=Europe/Brussels:20251111T080000
END:VEVENT
BEGIN:VEVENT
UID:A0E9B3BE-1D47-428D-8EB5-7807839F7498-27-1141_homereminder@174.badminton
 ners.net
DTSTAMP:20260420T055109Z
SUMMARY:Thuismatch ingevuld? (Duffel 1G (107) - Poona 3G (104))
DESCRIPTION:Je hebt 36 uur na aanvang om een thuismatch op Badmintonvlaande
 ren in te vullen. Match info: Duffel 1G (107) - Poona 3G (104) - Link: htt
 ps://www.badmintonvlaanderen.be/sport/teammatch.aspx?id=A0E9B3BE-1D47-428D
 -8EB5-7807839F7498&match=1141
DTSTART;TZID=Europe/Brussels:20251209T080000
DTEND;TZID=Europe/Brussels:20251209T080000
END:VEVENT
BEGIN:VEVENT
UID:A0E9B3BE-1D47-428D-8EB5-7807839F7498-27-1147_homereminder@174.badminton
 ners.net
DTSTAMP:20260420T055109Z
SUMMARY:Thuismatch ingevuld? (Duffel 1G (107) - Bacss 3G (103))
DESCRIPTION:Je hebt 36 uur na aanvang om een thuismatch op Badmintonvlaande
 ren in te vullen. Match info: Duffel 1G (107) - Bacss 3G (103) - Link: htt
 ps://www.badmintonvlaanderen.be/sport/teammatch.aspx?id=A0E9B3BE-1D47-428D
 -8EB5-7807839F7498&match=1147
DTSTART;TZID=Europe/Brussels:20260203T080000
DTEND;TZID=Europe/Brussels:20260203T080000
END:VEVENT
BEGIN:VEVENT
UID:A0E9B3BE-1D47-428D-8EB5-7807839F7498-27-1116_homereminder@174.badminton
 ners.net
DTSTAMP:20260420T055109Z
SUMMARY:Thuismatch ingevuld? (Duffel 1G (107) - Essen 1G (109))
DESCRIPTION:Je hebt 36 uur na aanvang om een thuismatch op Badmintonvlaande
 ren in te vullen. Match info: Duffel 1G (107) - Essen 1G (109) - Link: htt
 ps://www.badmintonvlaanderen.be/sport/teammatch.aspx?id=A0E9B3BE-1D47-428D
 -8EB5-7807839F7498&match=1116
DTSTART;TZID=Europe/Brussels:20260303T080000
DTEND;TZID=Europe/Brussels:20260303T080000
END:VEVENT
BEGIN:VEVENT
UID:A0E9B3BE-1D47-428D-8EB5-7807839F7498-27-1135_homereminder@174.badminton
 ners.net
DTSTAMP:20260420T055109Z
SUMMARY:Thuismatch ingevuld? (Duffel 1G (107) - Klein Boom 6G (102))
DESCRIPTION:Je hebt 36 uur na aanvang om een thuismatch op Badmintonvlaande
 ren in te vullen. Match info: Duffel 1G (107) - Klein Boom 6G (102) - Link
 : https://www.badmintonvlaanderen.be/sport/teammatch.aspx?id=A0E9B3BE-1D47
 -428D-8EB5-7807839F7498&match=1135
DTSTART;TZID=Europe/Brussels:20260414T080000
DTEND;TZID=Europe/Brussels:20260414T080000
END:VEVENT
BEGIN:VEVENT
UID:A0E9B3BE-1D47-428D-8EB5-7807839F7498-27-1122_awayreminder@174.badminton
 ners.net
DTSTAMP:20260420T055109Z
SUMMARY:Uitmatch bevestigd? (Essen 1G (109) - Duffel 1G (107))
DESCRIPTION:Je hebt 72 uur na aanvang om een uitmatch op Badmintonvlaandere
 n in te vullen. Match info: Essen 1G (109) - Duffel 1G (107) - Link: https
 ://www.badmintonvlaanderen.be/sport/teammatch.aspx?id=A0E9B3BE-1D47-428D-8
 EB5-7807839F7498&match=1122
DTSTART;TZID=Europe/Brussels:20251015T190000
DTEND;TZID=Europe/Brussels:20251015T190000
END:VEVENT
BEGIN:VEVENT
UID:A0E9B3BE-1D47-428D-8EB5-7807839F7498-27-1124_awayreminder@174.badminton
 ners.net
DTSTAMP:20260420T055109Z
SUMMARY:Uitmatch bevestigd? (Klein Boom 6G (102) - Duffel 1G (107))
DESCRIPTION:Je hebt 72 uur na aanvang om een uitmatch op Badmintonvlaandere
 n in te vullen. Match info: Klein Boom 6G (102) - Duffel 1G (107) - Link: 
 https://www.badmintonvlaanderen.be/sport/teammatch.aspx?id=A0E9B3BE-1D47-4
 28D-8EB5-7807839F7498&match=1124
DTSTART;TZID=Europe/Brussels:20251126T190000
DTEND;TZID=Europe/Brussels:20251126T190000
END:VEVENT
BEGIN:VEVENT
UID:A0E9B3BE-1D47-428D-8EB5-7807839F7498-27-1126_awayreminder@174.badminton
 ners.net
DTSTAMP:20260420T055109Z
SUMMARY:Uitmatch bevestigd? (Bacss 3G (103) - Duffel 1G (107))
DESCRIPTION:Je hebt 72 uur na aanvang om een uitmatch op Badmintonvlaandere
 n in te vullen. Match info: Bacss 3G (103) - Duffel 1G (107) - Link: https
 ://www.badmintonvlaanderen.be/sport/teammatch.aspx?id=A0E9B3BE-1D47-428D-8
 EB5-7807839F7498&match=1126
DTSTART;TZID=Europe/Brussels:20251222T201500
DTEND;TZID=Europe/Brussels:20251222T201500
END:VEVENT
BEGIN:VEVENT
UID:A0E9B3BE-1D47-428D-8EB5-7807839F7498-27-1125_awayreminder@174.badminton
 ners.net
DTSTAMP:20260420T055109Z
SUMMARY:Uitmatch bevestigd? (Poona 3G (104) - Duffel 1G (107))
DESCRIPTION:Je hebt 72 uur na aanvang om een uitmatch op Badmintonvlaandere
 n in te vullen. Match info: Poona 3G (104) - Duffel 1G (107) - Link: https
 ://www.badmintonvlaanderen.be/sport/teammatch.aspx?id=A0E9B3BE-1D47-428D-8
 EB5-7807839F7498&match=1125
DTSTART;TZID=Europe/Brussels:20260115T200000
DTEND;TZID=Europe/Brussels:20260115T200000
END:VEVENT
BEGIN:VEVENT
UID:A0E9B3BE-1D47-428D-8EB5-7807839F7498-27-1121_awayreminder@174.badminton
 ners.net
DTSTAMP:20260420T055109Z
SUMMARY:Uitmatch bevestigd? (BC St.Job 1G (105) - Duffel 1G (107))
DESCRIPTION:Je hebt 72 uur na aanvang om een uitmatch op Badmintonvlaandere
 n in te vullen. Match info: BC St.Job 1G (105) - Duffel 1G (107) - Link: h
 ttps://www.badmintonvlaanderen.be/sport/teammatch.aspx?id=A0E9B3BE-1D47-42
 8D-8EB5-7807839F7498&match=1121
DTSTART;TZID=Europe/Brussels:20260218T100000
DTEND;TZID=Europe/Brussels:20260218T100000
END:VEVENT
BEGIN:VEVENT
UID:A0E9B3BE-1D47-428D-8EB5-7807839F7498-27-1123_awayreminder@174.badminton
 ners.net
DTSTAMP:20260420T055109Z
SUMMARY:Uitmatch bevestigd? (Brasschaat 6G (96) - Duffel 1G (107))
DESCRIPTION:Je hebt 72 uur na aanvang om een uitmatch op Badmintonvlaandere
 n in te vullen. Match info: Brasschaat 6G (96) - Duffel 1G (107) - Link: h
 ttps://www.badmintonvlaanderen.be/sport/teammatch.aspx?id=A0E9B3BE-1D47-42
 8D-8EB5-7807839F7498&match=1123
DTSTART;TZID=Europe/Brussels:20260401T190000
DTEND;TZID=Europe/Brussels:20260401T190000
END:VEVENT
END:VCALENDAR