BEGIN:VCALENDAR
VERSION:2.0
PRODID:spatie/icalendar-generator
NAME:brasschaat_6g_96_reminders
X-WR-CALNAME:brasschaat_6g_96_reminders
BEGIN:VTIMEZONE
TZID:Europe/Brussels
BEGIN:DAYLIGHT
DTSTART:20250330T010000
TZOFFSETFROM:+0100
TZOFFSETTO:+0200
END:DAYLIGHT
BEGIN:STANDARD
DTSTART:20251026T030000
TZOFFSETFROM:+0200
TZOFFSETTO:+0100
END:STANDARD
BEGIN:DAYLIGHT
DTSTART:20260329T010000
TZOFFSETFROM:+0100
TZOFFSETTO:+0200
END:DAYLIGHT
END:VTIMEZONE
BEGIN:VTIMEZONE
TZID:UTC
BEGIN:STANDARD
DTSTART:20250724T043741
TZOFFSETFROM:+0000
TZOFFSETTO:+0000
END:STANDARD
END:VTIMEZONE
BEGIN:VEVENT
UID:A0E9B3BE-1D47-428D-8EB5-7807839F7498-27-1148_homereminder@177.badminton
 ners.net
DTSTAMP:20260420T043741Z
SUMMARY:Thuismatch ingevuld? (Brasschaat 6G (96) - Bacss 3G (103))
DESCRIPTION:Je hebt 36 uur na aanvang om een thuismatch op Badmintonvlaande
 ren in te vullen. Match info: Brasschaat 6G (96) - Bacss 3G (103) - Link: 
 https://www.badmintonvlaanderen.be/sport/teammatch.aspx?id=A0E9B3BE-1D47-4
 28D-8EB5-7807839F7498&match=1148
DTSTART;TZID=Europe/Brussels:20250930T070000
DTEND;TZID=Europe/Brussels:20250930T070000
END:VEVENT
BEGIN:VEVENT
UID:A0E9B3BE-1D47-428D-8EB5-7807839F7498-27-1117_homereminder@177.badminton
 ners.net
DTSTAMP:20260420T043741Z
SUMMARY:Thuismatch ingevuld? (Brasschaat 6G (96) - Essen 1G (109))
DESCRIPTION:Je hebt 36 uur na aanvang om een thuismatch op Badmintonvlaande
 ren in te vullen. Match info: Brasschaat 6G (96) - Essen 1G (109) - Link: 
 https://www.badmintonvlaanderen.be/sport/teammatch.aspx?id=A0E9B3BE-1D47-4
 28D-8EB5-7807839F7498&match=1117
DTSTART;TZID=Europe/Brussels:20251028T070000
DTEND;TZID=Europe/Brussels:20251028T070000
END:VEVENT
BEGIN:VEVENT
UID:A0E9B3BE-1D47-428D-8EB5-7807839F7498-27-1136_homereminder@177.badminton
 ners.net
DTSTAMP:20260420T043741Z
SUMMARY:Thuismatch ingevuld? (Brasschaat 6G (96) - Klein Boom 6G (102))
DESCRIPTION:Je hebt 36 uur na aanvang om een thuismatch op Badmintonvlaande
 ren in te vullen. Match info: Brasschaat 6G (96) - Klein Boom 6G (102) - L
 ink: https://www.badmintonvlaanderen.be/sport/teammatch.aspx?id=A0E9B3BE-1
 D47-428D-8EB5-7807839F7498&match=1136
DTSTART;TZID=Europe/Brussels:20251223T070000
DTEND;TZID=Europe/Brussels:20251223T070000
END:VEVENT
BEGIN:VEVENT
UID:A0E9B3BE-1D47-428D-8EB5-7807839F7498-27-1142_homereminder@177.badminton
 ners.net
DTSTAMP:20260420T043741Z
SUMMARY:Thuismatch ingevuld? (Brasschaat 6G (96) - Poona 3G (104))
DESCRIPTION:Je hebt 36 uur na aanvang om een thuismatch op Badmintonvlaande
 ren in te vullen. Match info: Brasschaat 6G (96) - Poona 3G (104) - Link: 
 https://www.badmintonvlaanderen.be/sport/teammatch.aspx?id=A0E9B3BE-1D47-4
 28D-8EB5-7807839F7498&match=1142
DTSTART;TZID=Europe/Brussels:20260203T070000
DTEND;TZID=Europe/Brussels:20260203T070000
END:VEVENT
BEGIN:VEVENT
UID:A0E9B3BE-1D47-428D-8EB5-7807839F7498-27-1111_homereminder@177.badminton
 ners.net
DTSTAMP:20260420T043741Z
SUMMARY:Thuismatch ingevuld? (Brasschaat 6G (96) - BC St.Job 1G (105))
DESCRIPTION:Je hebt 36 uur na aanvang om een thuismatch op Badmintonvlaande
 ren in te vullen. Match info: Brasschaat 6G (96) - BC St.Job 1G (105) - Li
 nk: https://www.badmintonvlaanderen.be/sport/teammatch.aspx?id=A0E9B3BE-1D
 47-428D-8EB5-7807839F7498&match=1111
DTSTART;TZID=Europe/Brussels:20260303T070000
DTEND;TZID=Europe/Brussels:20260303T070000
END:VEVENT
BEGIN:VEVENT
UID:A0E9B3BE-1D47-428D-8EB5-7807839F7498-27-1123_homereminder@177.badminton
 ners.net
DTSTAMP:20260420T043741Z
SUMMARY:Thuismatch ingevuld? (Brasschaat 6G (96) - Duffel 1G (107))
DESCRIPTION:Je hebt 36 uur na aanvang om een thuismatch op Badmintonvlaande
 ren in te vullen. Match info: Brasschaat 6G (96) - Duffel 1G (107) - Link:
  https://www.badmintonvlaanderen.be/sport/teammatch.aspx?id=A0E9B3BE-1D47-
 428D-8EB5-7807839F7498&match=1123
DTSTART;TZID=Europe/Brussels:20260331T070000
DTEND;TZID=Europe/Brussels:20260331T070000
END:VEVENT
BEGIN:VEVENT
UID:A0E9B3BE-1D47-428D-8EB5-7807839F7498-27-1129_awayreminder@177.badminton
 ners.net
DTSTAMP:20260420T043741Z
SUMMARY:Uitmatch bevestigd? (Duffel 1G (107) - Brasschaat 6G (96))
DESCRIPTION:Je hebt 72 uur na aanvang om een uitmatch op Badmintonvlaandere
 n in te vullen. Match info: Duffel 1G (107) - Brasschaat 6G (96) - Link: h
 ttps://www.badmintonvlaanderen.be/sport/teammatch.aspx?id=A0E9B3BE-1D47-42
 8D-8EB5-7807839F7498&match=1129
DTSTART;TZID=Europe/Brussels:20251112T200000
DTEND;TZID=Europe/Brussels:20251112T200000
END:VEVENT
BEGIN:VEVENT
UID:A0E9B3BE-1D47-428D-8EB5-7807839F7498-27-1131_awayreminder@177.badminton
 ners.net
DTSTAMP:20260420T043741Z
SUMMARY:Uitmatch bevestigd? (Poona 3G (104) - Brasschaat 6G (96))
DESCRIPTION:Je hebt 72 uur na aanvang om een uitmatch op Badmintonvlaandere
 n in te vullen. Match info: Poona 3G (104) - Brasschaat 6G (96) - Link: ht
 tps://www.badmintonvlaanderen.be/sport/teammatch.aspx?id=A0E9B3BE-1D47-428
 D-8EB5-7807839F7498&match=1131
DTSTART;TZID=Europe/Brussels:20251127T200000
DTEND;TZID=Europe/Brussels:20251127T200000
END:VEVENT
BEGIN:VEVENT
UID:A0E9B3BE-1D47-428D-8EB5-7807839F7498-27-1127_awayreminder@177.badminton
 ners.net
DTSTAMP:20260420T043741Z
SUMMARY:Uitmatch bevestigd? (BC St.Job 1G (105) - Brasschaat 6G (96))
DESCRIPTION:Je hebt 72 uur na aanvang om een uitmatch op Badmintonvlaandere
 n in te vullen. Match info: BC St.Job 1G (105) - Brasschaat 6G (96) - Link
 : https://www.badmintonvlaanderen.be/sport/teammatch.aspx?id=A0E9B3BE-1D47
 -428D-8EB5-7807839F7498&match=1127
DTSTART;TZID=Europe/Brussels:20251203T100000
DTEND;TZID=Europe/Brussels:20251203T100000
END:VEVENT
BEGIN:VEVENT
UID:A0E9B3BE-1D47-428D-8EB5-7807839F7498-27-1130_awayreminder@177.badminton
 ners.net
DTSTAMP:20260420T043741Z
SUMMARY:Uitmatch bevestigd? (Klein Boom 6G (102) - Brasschaat 6G (96))
DESCRIPTION:Je hebt 72 uur na aanvang om een uitmatch op Badmintonvlaandere
 n in te vullen. Match info: Klein Boom 6G (102) - Brasschaat 6G (96) - Lin
 k: https://www.badmintonvlaanderen.be/sport/teammatch.aspx?id=A0E9B3BE-1D4
 7-428D-8EB5-7807839F7498&match=1130
DTSTART;TZID=Europe/Brussels:20260107T190000
DTEND;TZID=Europe/Brussels:20260107T190000
END:VEVENT
BEGIN:VEVENT
UID:A0E9B3BE-1D47-428D-8EB5-7807839F7498-27-1132_awayreminder@177.badminton
 ners.net
DTSTAMP:20260420T043741Z
SUMMARY:Uitmatch bevestigd? (Bacss 3G (103) - Brasschaat 6G (96))
DESCRIPTION:Je hebt 72 uur na aanvang om een uitmatch op Badmintonvlaandere
 n in te vullen. Match info: Bacss 3G (103) - Brasschaat 6G (96) - Link: ht
 tps://www.badmintonvlaanderen.be/sport/teammatch.aspx?id=A0E9B3BE-1D47-428
 D-8EB5-7807839F7498&match=1132
DTSTART;TZID=Europe/Brussels:20260223T201500
DTEND;TZID=Europe/Brussels:20260223T201500
END:VEVENT
BEGIN:VEVENT
UID:A0E9B3BE-1D47-428D-8EB5-7807839F7498-27-1128_awayreminder@177.badminton
 ners.net
DTSTAMP:20260420T043741Z
SUMMARY:Uitmatch bevestigd? (Essen 1G (109) - Brasschaat 6G (96))
DESCRIPTION:Je hebt 72 uur na aanvang om een uitmatch op Badmintonvlaandere
 n in te vullen. Match info: Essen 1G (109) - Brasschaat 6G (96) - Link: ht
 tps://www.badmintonvlaanderen.be/sport/teammatch.aspx?id=A0E9B3BE-1D47-428
 D-8EB5-7807839F7498&match=1128
DTSTART;TZID=Europe/Brussels:20260318T190000
DTEND;TZID=Europe/Brussels:20260318T190000
END:VEVENT
END:VCALENDAR