BEGIN:VCALENDAR
VERSION:2.0
PRODID:spatie/icalendar-generator
NAME:poona_3g_104_reminders
X-WR-CALNAME:poona_3g_104_reminders
BEGIN:VTIMEZONE
TZID:Europe/Brussels
BEGIN:DAYLIGHT
DTSTART:20250330T010000
TZOFFSETFROM:+0100
TZOFFSETTO:+0200
END:DAYLIGHT
BEGIN:STANDARD
DTSTART:20251026T030000
TZOFFSETFROM:+0200
TZOFFSETTO:+0100
END:STANDARD
BEGIN:DAYLIGHT
DTSTART:20260329T010000
TZOFFSETFROM:+0100
TZOFFSETTO:+0200
END:DAYLIGHT
BEGIN:STANDARD
DTSTART:20261025T030000
TZOFFSETFROM:+0200
TZOFFSETTO:+0100
END:STANDARD
END:VTIMEZONE
BEGIN:VTIMEZONE
TZID:UTC
BEGIN:STANDARD
DTSTART:20250724T043754
TZOFFSETFROM:+0000
TZOFFSETTO:+0000
END:STANDARD
END:VTIMEZONE
BEGIN:VEVENT
UID:A0E9B3BE-1D47-428D-8EB5-7807839F7498-27-1150_homereminder@179.badminton
 ners.net
DTSTAMP:20260420T043754Z
SUMMARY:Thuismatch ingevuld? (Poona 3G (104) - Bacss 3G (103))
DESCRIPTION:Je hebt 36 uur na aanvang om een thuismatch op Badmintonvlaande
 ren in te vullen. Match info: Poona 3G (104) - Bacss 3G (103) - Link: http
 s://www.badmintonvlaanderen.be/sport/teammatch.aspx?id=A0E9B3BE-1D47-428D-
 8EB5-7807839F7498&match=1150
DTSTART;TZID=Europe/Brussels:20251022T080000
DTEND;TZID=Europe/Brussels:20251022T080000
END:VEVENT
BEGIN:VEVENT
UID:A0E9B3BE-1D47-428D-8EB5-7807839F7498-27-1119_homereminder@179.badminton
 ners.net
DTSTAMP:20260420T043754Z
SUMMARY:Thuismatch ingevuld? (Poona 3G (104) - Essen 1G (109))
DESCRIPTION:Je hebt 36 uur na aanvang om een thuismatch op Badmintonvlaande
 ren in te vullen. Match info: Poona 3G (104) - Essen 1G (109) - Link: http
 s://www.badmintonvlaanderen.be/sport/teammatch.aspx?id=A0E9B3BE-1D47-428D-
 8EB5-7807839F7498&match=1119
DTSTART;TZID=Europe/Brussels:20251119T080000
DTEND;TZID=Europe/Brussels:20251119T080000
END:VEVENT
BEGIN:VEVENT
UID:A0E9B3BE-1D47-428D-8EB5-7807839F7498-27-1131_homereminder@179.badminton
 ners.net
DTSTAMP:20260420T043754Z
SUMMARY:Thuismatch ingevuld? (Poona 3G (104) - Brasschaat 6G (96))
DESCRIPTION:Je hebt 36 uur na aanvang om een thuismatch op Badmintonvlaande
 ren in te vullen. Match info: Poona 3G (104) - Brasschaat 6G (96) - Link: 
 https://www.badmintonvlaanderen.be/sport/teammatch.aspx?id=A0E9B3BE-1D47-4
 28D-8EB5-7807839F7498&match=1131
DTSTART;TZID=Europe/Brussels:20251126T080000
DTEND;TZID=Europe/Brussels:20251126T080000
END:VEVENT
BEGIN:VEVENT
UID:A0E9B3BE-1D47-428D-8EB5-7807839F7498-27-1125_homereminder@179.badminton
 ners.net
DTSTAMP:20260420T043754Z
SUMMARY:Thuismatch ingevuld? (Poona 3G (104) - Duffel 1G (107))
DESCRIPTION:Je hebt 36 uur na aanvang om een thuismatch op Badmintonvlaande
 ren in te vullen. Match info: Poona 3G (104) - Duffel 1G (107) - Link: htt
 ps://www.badmintonvlaanderen.be/sport/teammatch.aspx?id=A0E9B3BE-1D47-428D
 -8EB5-7807839F7498&match=1125
DTSTART;TZID=Europe/Brussels:20260114T080000
DTEND;TZID=Europe/Brussels:20260114T080000
END:VEVENT
BEGIN:VEVENT
UID:A0E9B3BE-1D47-428D-8EB5-7807839F7498-27-1137_homereminder@179.badminton
 ners.net
DTSTAMP:20260420T043754Z
SUMMARY:Thuismatch ingevuld? (Poona 3G (104) - Klein Boom 6G (102))
DESCRIPTION:Je hebt 36 uur na aanvang om een thuismatch op Badmintonvlaande
 ren in te vullen. Match info: Poona 3G (104) - Klein Boom 6G (102) - Link:
  https://www.badmintonvlaanderen.be/sport/teammatch.aspx?id=A0E9B3BE-1D47-
 428D-8EB5-7807839F7498&match=1137
DTSTART;TZID=Europe/Brussels:20260211T080000
DTEND;TZID=Europe/Brussels:20260211T080000
END:VEVENT
BEGIN:VEVENT
UID:A0E9B3BE-1D47-428D-8EB5-7807839F7498-27-1113_homereminder@179.badminton
 ners.net
DTSTAMP:20260420T043754Z
SUMMARY:Thuismatch ingevuld? (Poona 3G (104) - BC St.Job 1G (105))
DESCRIPTION:Je hebt 36 uur na aanvang om een thuismatch op Badmintonvlaande
 ren in te vullen. Match info: Poona 3G (104) - BC St.Job 1G (105) - Link: 
 https://www.badmintonvlaanderen.be/sport/teammatch.aspx?id=A0E9B3BE-1D47-4
 28D-8EB5-7807839F7498&match=1113
DTSTART;TZID=Europe/Brussels:20260325T080000
DTEND;TZID=Europe/Brussels:20260325T080000
END:VEVENT
BEGIN:VEVENT
UID:A0E9B3BE-1D47-428D-8EB5-7807839F7498-27-1143_awayreminder@179.badminton
 ners.net
DTSTAMP:20260420T043754Z
SUMMARY:Uitmatch bevestigd? (Klein Boom 6G (102) - Poona 3G (104))
DESCRIPTION:Je hebt 72 uur na aanvang om een uitmatch op Badmintonvlaandere
 n in te vullen. Match info: Klein Boom 6G (102) - Poona 3G (104) - Link: h
 ttps://www.badmintonvlaanderen.be/sport/teammatch.aspx?id=A0E9B3BE-1D47-42
 8D-8EB5-7807839F7498&match=1143
DTSTART;TZID=Europe/Brussels:20251001T190000
DTEND;TZID=Europe/Brussels:20251001T190000
END:VEVENT
BEGIN:VEVENT
UID:A0E9B3BE-1D47-428D-8EB5-7807839F7498-27-1139_awayreminder@179.badminton
 ners.net
DTSTAMP:20260420T043754Z
SUMMARY:Uitmatch bevestigd? (BC St.Job 1G (105) - Poona 3G (104))
DESCRIPTION:Je hebt 72 uur na aanvang om een uitmatch op Badmintonvlaandere
 n in te vullen. Match info: BC St.Job 1G (105) - Poona 3G (104) - Link: ht
 tps://www.badmintonvlaanderen.be/sport/teammatch.aspx?id=A0E9B3BE-1D47-428
 D-8EB5-7807839F7498&match=1139
DTSTART;TZID=Europe/Brussels:20251126T100000
DTEND;TZID=Europe/Brussels:20251126T100000
END:VEVENT
BEGIN:VEVENT
UID:A0E9B3BE-1D47-428D-8EB5-7807839F7498-27-1141_awayreminder@179.badminton
 ners.net
DTSTAMP:20260420T043754Z
SUMMARY:Uitmatch bevestigd? (Duffel 1G (107) - Poona 3G (104))
DESCRIPTION:Je hebt 72 uur na aanvang om een uitmatch op Badmintonvlaandere
 n in te vullen. Match info: Duffel 1G (107) - Poona 3G (104) - Link: https
 ://www.badmintonvlaanderen.be/sport/teammatch.aspx?id=A0E9B3BE-1D47-428D-8
 EB5-7807839F7498&match=1141
DTSTART;TZID=Europe/Brussels:20251210T200000
DTEND;TZID=Europe/Brussels:20251210T200000
END:VEVENT
BEGIN:VEVENT
UID:A0E9B3BE-1D47-428D-8EB5-7807839F7498-27-1142_awayreminder@179.badminton
 ners.net
DTSTAMP:20260420T043754Z
SUMMARY:Uitmatch bevestigd? (Brasschaat 6G (96) - Poona 3G (104))
DESCRIPTION:Je hebt 72 uur na aanvang om een uitmatch op Badmintonvlaandere
 n in te vullen. Match info: Brasschaat 6G (96) - Poona 3G (104) - Link: ht
 tps://www.badmintonvlaanderen.be/sport/teammatch.aspx?id=A0E9B3BE-1D47-428
 D-8EB5-7807839F7498&match=1142
DTSTART;TZID=Europe/Brussels:20260204T190000
DTEND;TZID=Europe/Brussels:20260204T190000
END:VEVENT
BEGIN:VEVENT
UID:A0E9B3BE-1D47-428D-8EB5-7807839F7498-27-1144_awayreminder@179.badminton
 ners.net
DTSTAMP:20260420T043754Z
SUMMARY:Uitmatch bevestigd? (Bacss 3G (103) - Poona 3G (104))
DESCRIPTION:Je hebt 72 uur na aanvang om een uitmatch op Badmintonvlaandere
 n in te vullen. Match info: Bacss 3G (103) - Poona 3G (104) - Link: https:
 //www.badmintonvlaanderen.be/sport/teammatch.aspx?id=A0E9B3BE-1D47-428D-8E
 B5-7807839F7498&match=1144
DTSTART;TZID=Europe/Brussels:20260311T100000
DTEND;TZID=Europe/Brussels:20260311T100000
END:VEVENT
BEGIN:VEVENT
UID:A0E9B3BE-1D47-428D-8EB5-7807839F7498-27-1140_awayreminder@179.badminton
 ners.net
DTSTAMP:20260420T043754Z
SUMMARY:Uitmatch bevestigd? (Essen 1G (109) - Poona 3G (104))
DESCRIPTION:Je hebt 72 uur na aanvang om een uitmatch op Badmintonvlaandere
 n in te vullen. Match info: Essen 1G (109) - Poona 3G (104) - Link: https:
 //www.badmintonvlaanderen.be/sport/teammatch.aspx?id=A0E9B3BE-1D47-428D-8E
 B5-7807839F7498&match=1140
DTSTART;TZID=Europe/Brussels:20260429T190000
DTEND;TZID=Europe/Brussels:20260429T190000
END:VEVENT
END:VCALENDAR