BEGIN:VCALENDAR
VERSION:2.0
PRODID:spatie/icalendar-generator
NAME:essen_1g_109_reminders
X-WR-CALNAME:essen_1g_109_reminders
BEGIN:VTIMEZONE
TZID:Europe/Brussels
BEGIN:DAYLIGHT
DTSTART:20250330T010000
TZOFFSETFROM:+0100
TZOFFSETTO:+0200
END:DAYLIGHT
BEGIN:STANDARD
DTSTART:20251026T030000
TZOFFSETFROM:+0200
TZOFFSETTO:+0100
END:STANDARD
BEGIN:DAYLIGHT
DTSTART:20260329T010000
TZOFFSETFROM:+0100
TZOFFSETTO:+0200
END:DAYLIGHT
BEGIN:STANDARD
DTSTART:20261025T030000
TZOFFSETFROM:+0200
TZOFFSETTO:+0100
END:STANDARD
END:VTIMEZONE
BEGIN:VTIMEZONE
TZID:UTC
BEGIN:STANDARD
DTSTART:20250724T043556
TZOFFSETFROM:+0000
TZOFFSETTO:+0000
END:STANDARD
END:VTIMEZONE
BEGIN:VEVENT
UID:A0E9B3BE-1D47-428D-8EB5-7807839F7498-27-1122_homereminder@183.badminton
 ners.net
DTSTAMP:20260420T043556Z
SUMMARY:Thuismatch ingevuld? (Essen 1G (109) - Duffel 1G (107))
DESCRIPTION:Je hebt 36 uur na aanvang om een thuismatch op Badmintonvlaande
 ren in te vullen. Match info: Essen 1G (109) - Duffel 1G (107) - Link: htt
 ps://www.badmintonvlaanderen.be/sport/teammatch.aspx?id=A0E9B3BE-1D47-428D
 -8EB5-7807839F7498&match=1122
DTSTART;TZID=Europe/Brussels:20251014T070000
DTEND;TZID=Europe/Brussels:20251014T070000
END:VEVENT
BEGIN:VEVENT
UID:A0E9B3BE-1D47-428D-8EB5-7807839F7498-27-1134_homereminder@183.badminton
 ners.net
DTSTAMP:20260420T043556Z
SUMMARY:Thuismatch ingevuld? (Essen 1G (109) - Klein Boom 6G (102))
DESCRIPTION:Je hebt 36 uur na aanvang om een thuismatch op Badmintonvlaande
 ren in te vullen. Match info: Essen 1G (109) - Klein Boom 6G (102) - Link:
  https://www.badmintonvlaanderen.be/sport/teammatch.aspx?id=A0E9B3BE-1D47-
 428D-8EB5-7807839F7498&match=1134
DTSTART;TZID=Europe/Brussels:20251111T070000
DTEND;TZID=Europe/Brussels:20251111T070000
END:VEVENT
BEGIN:VEVENT
UID:A0E9B3BE-1D47-428D-8EB5-7807839F7498-27-1146_homereminder@183.badminton
 ners.net
DTSTAMP:20260420T043556Z
SUMMARY:Thuismatch ingevuld? (Essen 1G (109) - Bacss 3G (103))
DESCRIPTION:Je hebt 36 uur na aanvang om een thuismatch op Badmintonvlaande
 ren in te vullen. Match info: Essen 1G (109) - Bacss 3G (103) - Link: http
 s://www.badmintonvlaanderen.be/sport/teammatch.aspx?id=A0E9B3BE-1D47-428D-
 8EB5-7807839F7498&match=1146
DTSTART;TZID=Europe/Brussels:20251209T070000
DTEND;TZID=Europe/Brussels:20251209T070000
END:VEVENT
BEGIN:VEVENT
UID:A0E9B3BE-1D47-428D-8EB5-7807839F7498-27-1109_homereminder@183.badminton
 ners.net
DTSTAMP:20260420T043556Z
SUMMARY:Thuismatch ingevuld? (Essen 1G (109) - BC St.Job 1G (105))
DESCRIPTION:Je hebt 36 uur na aanvang om een thuismatch op Badmintonvlaande
 ren in te vullen. Match info: Essen 1G (109) - BC St.Job 1G (105) - Link: 
 https://www.badmintonvlaanderen.be/sport/teammatch.aspx?id=A0E9B3BE-1D47-4
 28D-8EB5-7807839F7498&match=1109
DTSTART;TZID=Europe/Brussels:20260203T070000
DTEND;TZID=Europe/Brussels:20260203T070000
END:VEVENT
BEGIN:VEVENT
UID:A0E9B3BE-1D47-428D-8EB5-7807839F7498-27-1128_homereminder@183.badminton
 ners.net
DTSTAMP:20260420T043556Z
SUMMARY:Thuismatch ingevuld? (Essen 1G (109) - Brasschaat 6G (96))
DESCRIPTION:Je hebt 36 uur na aanvang om een thuismatch op Badmintonvlaande
 ren in te vullen. Match info: Essen 1G (109) - Brasschaat 6G (96) - Link: 
 https://www.badmintonvlaanderen.be/sport/teammatch.aspx?id=A0E9B3BE-1D47-4
 28D-8EB5-7807839F7498&match=1128
DTSTART;TZID=Europe/Brussels:20260317T070000
DTEND;TZID=Europe/Brussels:20260317T070000
END:VEVENT
BEGIN:VEVENT
UID:A0E9B3BE-1D47-428D-8EB5-7807839F7498-27-1140_homereminder@183.badminton
 ners.net
DTSTAMP:20260420T043556Z
SUMMARY:Thuismatch ingevuld? (Essen 1G (109) - Poona 3G (104))
DESCRIPTION:Je hebt 36 uur na aanvang om een thuismatch op Badmintonvlaande
 ren in te vullen. Match info: Essen 1G (109) - Poona 3G (104) - Link: http
 s://www.badmintonvlaanderen.be/sport/teammatch.aspx?id=A0E9B3BE-1D47-428D-
 8EB5-7807839F7498&match=1140
DTSTART;TZID=Europe/Brussels:20260428T070000
DTEND;TZID=Europe/Brussels:20260428T070000
END:VEVENT
BEGIN:VEVENT
UID:A0E9B3BE-1D47-428D-8EB5-7807839F7498-27-1117_awayreminder@183.badminton
 ners.net
DTSTAMP:20260420T043556Z
SUMMARY:Uitmatch bevestigd? (Brasschaat 6G (96) - Essen 1G (109))
DESCRIPTION:Je hebt 72 uur na aanvang om een uitmatch op Badmintonvlaandere
 n in te vullen. Match info: Brasschaat 6G (96) - Essen 1G (109) - Link: ht
 tps://www.badmintonvlaanderen.be/sport/teammatch.aspx?id=A0E9B3BE-1D47-428
 D-8EB5-7807839F7498&match=1117
DTSTART;TZID=Europe/Brussels:20251029T190000
DTEND;TZID=Europe/Brussels:20251029T190000
END:VEVENT
BEGIN:VEVENT
UID:A0E9B3BE-1D47-428D-8EB5-7807839F7498-27-1119_awayreminder@183.badminton
 ners.net
DTSTAMP:20260420T043556Z
SUMMARY:Uitmatch bevestigd? (Poona 3G (104) - Essen 1G (109))
DESCRIPTION:Je hebt 72 uur na aanvang om een uitmatch op Badmintonvlaandere
 n in te vullen. Match info: Poona 3G (104) - Essen 1G (109) - Link: https:
 //www.badmintonvlaanderen.be/sport/teammatch.aspx?id=A0E9B3BE-1D47-428D-8E
 B5-7807839F7498&match=1119
DTSTART;TZID=Europe/Brussels:20251120T200000
DTEND;TZID=Europe/Brussels:20251120T200000
END:VEVENT
BEGIN:VEVENT
UID:A0E9B3BE-1D47-428D-8EB5-7807839F7498-27-1115_awayreminder@183.badminton
 ners.net
DTSTAMP:20260420T043556Z
SUMMARY:Uitmatch bevestigd? (BC St.Job 1G (105) - Essen 1G (109))
DESCRIPTION:Je hebt 72 uur na aanvang om een uitmatch op Badmintonvlaandere
 n in te vullen. Match info: BC St.Job 1G (105) - Essen 1G (109) - Link: ht
 tps://www.badmintonvlaanderen.be/sport/teammatch.aspx?id=A0E9B3BE-1D47-428
 D-8EB5-7807839F7498&match=1115
DTSTART;TZID=Europe/Brussels:20251224T100000
DTEND;TZID=Europe/Brussels:20251224T100000
END:VEVENT
BEGIN:VEVENT
UID:A0E9B3BE-1D47-428D-8EB5-7807839F7498-27-1120_awayreminder@183.badminton
 ners.net
DTSTAMP:20260420T043556Z
SUMMARY:Uitmatch bevestigd? (Bacss 3G (103) - Essen 1G (109))
DESCRIPTION:Je hebt 72 uur na aanvang om een uitmatch op Badmintonvlaandere
 n in te vullen. Match info: Bacss 3G (103) - Essen 1G (109) - Link: https:
 //www.badmintonvlaanderen.be/sport/teammatch.aspx?id=A0E9B3BE-1D47-428D-8E
 B5-7807839F7498&match=1120
DTSTART;TZID=Europe/Brussels:20260121T100000
DTEND;TZID=Europe/Brussels:20260121T100000
END:VEVENT
BEGIN:VEVENT
UID:A0E9B3BE-1D47-428D-8EB5-7807839F7498-27-1116_awayreminder@183.badminton
 ners.net
DTSTAMP:20260420T043556Z
SUMMARY:Uitmatch bevestigd? (Duffel 1G (107) - Essen 1G (109))
DESCRIPTION:Je hebt 72 uur na aanvang om een uitmatch op Badmintonvlaandere
 n in te vullen. Match info: Duffel 1G (107) - Essen 1G (109) - Link: https
 ://www.badmintonvlaanderen.be/sport/teammatch.aspx?id=A0E9B3BE-1D47-428D-8
 EB5-7807839F7498&match=1116
DTSTART;TZID=Europe/Brussels:20260304T200000
DTEND;TZID=Europe/Brussels:20260304T200000
END:VEVENT
BEGIN:VEVENT
UID:A0E9B3BE-1D47-428D-8EB5-7807839F7498-27-1118_awayreminder@183.badminton
 ners.net
DTSTAMP:20260420T043556Z
SUMMARY:Uitmatch bevestigd? (Klein Boom 6G (102) - Essen 1G (109))
DESCRIPTION:Je hebt 72 uur na aanvang om een uitmatch op Badmintonvlaandere
 n in te vullen. Match info: Klein Boom 6G (102) - Essen 1G (109) - Link: h
 ttps://www.badmintonvlaanderen.be/sport/teammatch.aspx?id=A0E9B3BE-1D47-42
 8D-8EB5-7807839F7498&match=1118
DTSTART;TZID=Europe/Brussels:20260401T190000
DTEND;TZID=Europe/Brussels:20260401T190000
END:VEVENT
END:VCALENDAR