BEGIN:VCALENDAR
VERSION:2.0
PRODID:spatie/icalendar-generator
NAME:spinshuttle_4g_103_reminders
X-WR-CALNAME:spinshuttle_4g_103_reminders
BEGIN:VTIMEZONE
TZID:Europe/Brussels
BEGIN:DAYLIGHT
DTSTART:20250330T010000
TZOFFSETFROM:+0100
TZOFFSETTO:+0200
END:DAYLIGHT
BEGIN:STANDARD
DTSTART:20251026T030000
TZOFFSETFROM:+0200
TZOFFSETTO:+0100
END:STANDARD
BEGIN:DAYLIGHT
DTSTART:20260329T010000
TZOFFSETFROM:+0100
TZOFFSETTO:+0200
END:DAYLIGHT
BEGIN:STANDARD
DTSTART:20261025T030000
TZOFFSETFROM:+0200
TZOFFSETTO:+0100
END:STANDARD
END:VTIMEZONE
BEGIN:VTIMEZONE
TZID:UTC
BEGIN:STANDARD
DTSTART:20250724T043608
TZOFFSETFROM:+0000
TZOFFSETTO:+0000
END:STANDARD
END:VTIMEZONE
BEGIN:VEVENT
UID:A0E9B3BE-1D47-428D-8EB5-7807839F7498-29-1227_homereminder@170.badminton
 ners.net
DTSTAMP:20260420T043608Z
SUMMARY:Thuismatch ingevuld? (Spinshuttle 4G (103) - Klein Boom 5G (100))
DESCRIPTION:Je hebt 36 uur na aanvang om een thuismatch op Badmintonvlaande
 ren in te vullen. Match info: Spinshuttle 4G (103) - Klein Boom 5G (100) -
  Link: https://www.badmintonvlaanderen.be/sport/teammatch.aspx?id=A0E9B3BE
 -1D47-428D-8EB5-7807839F7498&match=1227
DTSTART;TZID=Europe/Brussels:20250925T080000
DTEND;TZID=Europe/Brussels:20250925T080000
END:VEVENT
BEGIN:VEVENT
UID:A0E9B3BE-1D47-428D-8EB5-7807839F7498-29-1232_homereminder@170.badminton
 ners.net
DTSTAMP:20260420T043608Z
SUMMARY:Thuismatch ingevuld? (Spinshuttle 4G (103) - Berlaar 3G (125))
DESCRIPTION:Je hebt 36 uur na aanvang om een thuismatch op Badmintonvlaande
 ren in te vullen. Match info: Spinshuttle 4G (103) - Berlaar 3G (125) - Li
 nk: https://www.badmintonvlaanderen.be/sport/teammatch.aspx?id=A0E9B3BE-1D
 47-428D-8EB5-7807839F7498&match=1232
DTSTART;TZID=Europe/Brussels:20251023T080000
DTEND;TZID=Europe/Brussels:20251023T080000
END:VEVENT
BEGIN:VEVENT
UID:A0E9B3BE-1D47-428D-8EB5-7807839F7498-29-1217_homereminder@170.badminton
 ners.net
DTSTAMP:20260420T043608Z
SUMMARY:Thuismatch ingevuld? (Spinshuttle 4G (103) - Beerke 5G (104))
DESCRIPTION:Je hebt 36 uur na aanvang om een thuismatch op Badmintonvlaande
 ren in te vullen. Match info: Spinshuttle 4G (103) - Beerke 5G (104) - Lin
 k: https://www.badmintonvlaanderen.be/sport/teammatch.aspx?id=A0E9B3BE-1D4
 7-428D-8EB5-7807839F7498&match=1217
DTSTART;TZID=Europe/Brussels:20251120T080000
DTEND;TZID=Europe/Brussels:20251120T080000
END:VEVENT
BEGIN:VEVENT
UID:A0E9B3BE-1D47-428D-8EB5-7807839F7498-29-1206_homereminder@170.badminton
 ners.net
DTSTAMP:20260420T043608Z
SUMMARY:Thuismatch ingevuld? (Spinshuttle 4G (103) - Rita Serveert 2G (102)
 )
DESCRIPTION:Je hebt 36 uur na aanvang om een thuismatch op Badmintonvlaande
 ren in te vullen. Match info: Spinshuttle 4G (103) - Rita Serveert 2G (102
 ) - Link: https://www.badmintonvlaanderen.be/sport/teammatch.aspx?id=A0E9B
 3BE-1D47-428D-8EB5-7807839F7498&match=1206
DTSTART;TZID=Europe/Brussels:20260129T080000
DTEND;TZID=Europe/Brussels:20260129T080000
END:VEVENT
BEGIN:VEVENT
UID:A0E9B3BE-1D47-428D-8EB5-7807839F7498-29-1222_homereminder@170.badminton
 ners.net
DTSTAMP:20260420T043608Z
SUMMARY:Thuismatch ingevuld? (Spinshuttle 4G (103) - Herentals 5G (98))
DESCRIPTION:Je hebt 36 uur na aanvang om een thuismatch op Badmintonvlaande
 ren in te vullen. Match info: Spinshuttle 4G (103) - Herentals 5G (98) - L
 ink: https://www.badmintonvlaanderen.be/sport/teammatch.aspx?id=A0E9B3BE-1
 D47-428D-8EB5-7807839F7498&match=1222
DTSTART;TZID=Europe/Brussels:20260423T080000
DTEND;TZID=Europe/Brussels:20260423T080000
END:VEVENT
BEGIN:VEVENT
UID:A0E9B3BE-1D47-428D-8EB5-7807839F7498-29-1211_awayreminder@170.badminton
 ners.net
DTSTAMP:20260420T043608Z
SUMMARY:Uitmatch bevestigd? (Rita Serveert 2G (102) - Spinshuttle 4G (103))
DESCRIPTION:Je hebt 72 uur na aanvang om een uitmatch op Badmintonvlaandere
 n in te vullen. Match info: Rita Serveert 2G (102) - Spinshuttle 4G (103) 
 - Link: https://www.badmintonvlaanderen.be/sport/teammatch.aspx?id=A0E9B3B
 E-1D47-428D-8EB5-7807839F7498&match=1211
DTSTART;TZID=Europe/Brussels:20251015T190000
DTEND;TZID=Europe/Brussels:20251015T190000
END:VEVENT
BEGIN:VEVENT
UID:A0E9B3BE-1D47-428D-8EB5-7807839F7498-29-1213_awayreminder@170.badminton
 ners.net
DTSTAMP:20260420T043608Z
SUMMARY:Uitmatch bevestigd? (Herentals 5G (98) - Spinshuttle 4G (103))
DESCRIPTION:Je hebt 72 uur na aanvang om een uitmatch op Badmintonvlaandere
 n in te vullen. Match info: Herentals 5G (98) - Spinshuttle 4G (103) - Lin
 k: https://www.badmintonvlaanderen.be/sport/teammatch.aspx?id=A0E9B3BE-1D4
 7-428D-8EB5-7807839F7498&match=1213
DTSTART;TZID=Europe/Brussels:20251204T210000
DTEND;TZID=Europe/Brussels:20251204T210000
END:VEVENT
BEGIN:VEVENT
UID:A0E9B3BE-1D47-428D-8EB5-7807839F7498-29-1214_awayreminder@170.badminton
 ners.net
DTSTAMP:20260420T043608Z
SUMMARY:Uitmatch bevestigd? (Klein Boom 5G (100) - Spinshuttle 4G (103))
DESCRIPTION:Je hebt 72 uur na aanvang om een uitmatch op Badmintonvlaandere
 n in te vullen. Match info: Klein Boom 5G (100) - Spinshuttle 4G (103) - L
 ink: https://www.badmintonvlaanderen.be/sport/teammatch.aspx?id=A0E9B3BE-1
 D47-428D-8EB5-7807839F7498&match=1214
DTSTART;TZID=Europe/Brussels:20260107T190000
DTEND;TZID=Europe/Brussels:20260107T190000
END:VEVENT
BEGIN:VEVENT
UID:A0E9B3BE-1D47-428D-8EB5-7807839F7498-29-1215_awayreminder@170.badminton
 ners.net
DTSTAMP:20260420T043608Z
SUMMARY:Uitmatch bevestigd? (Berlaar 3G (125) - Spinshuttle 4G (103))
DESCRIPTION:Je hebt 72 uur na aanvang om een uitmatch op Badmintonvlaandere
 n in te vullen. Match info: Berlaar 3G (125) - Spinshuttle 4G (103) - Link
 : https://www.badmintonvlaanderen.be/sport/teammatch.aspx?id=A0E9B3BE-1D47
 -428D-8EB5-7807839F7498&match=1215
DTSTART;TZID=Europe/Brussels:20260304T100000
DTEND;TZID=Europe/Brussels:20260304T100000
END:VEVENT
BEGIN:VEVENT
UID:A0E9B3BE-1D47-428D-8EB5-7807839F7498-29-1212_awayreminder@170.badminton
 ners.net
DTSTAMP:20260420T043608Z
SUMMARY:Uitmatch bevestigd? (Beerke 5G (104) - Spinshuttle 4G (103))
DESCRIPTION:Je hebt 72 uur na aanvang om een uitmatch op Badmintonvlaandere
 n in te vullen. Match info: Beerke 5G (104) - Spinshuttle 4G (103) - Link:
  https://www.badmintonvlaanderen.be/sport/teammatch.aspx?id=A0E9B3BE-1D47-
 428D-8EB5-7807839F7498&match=1212
DTSTART;TZID=Europe/Brussels:20260318T100000
DTEND;TZID=Europe/Brussels:20260318T100000
END:VEVENT
END:VCALENDAR