BEGIN:VCALENDAR
VERSION:2.0
PRODID:spatie/icalendar-generator
NAME:herentals_5g_98_reminders
X-WR-CALNAME:herentals_5g_98_reminders
BEGIN:VTIMEZONE
TZID:Europe/Brussels
BEGIN:DAYLIGHT
DTSTART:20250330T010000
TZOFFSETFROM:+0100
TZOFFSETTO:+0200
END:DAYLIGHT
BEGIN:STANDARD
DTSTART:20251026T030000
TZOFFSETFROM:+0200
TZOFFSETTO:+0100
END:STANDARD
BEGIN:DAYLIGHT
DTSTART:20260329T010000
TZOFFSETFROM:+0100
TZOFFSETTO:+0200
END:DAYLIGHT
BEGIN:STANDARD
DTSTART:20261025T030000
TZOFFSETFROM:+0200
TZOFFSETTO:+0100
END:STANDARD
END:VTIMEZONE
BEGIN:VTIMEZONE
TZID:UTC
BEGIN:STANDARD
DTSTART:20250724T043630
TZOFFSETFROM:+0000
TZOFFSETTO:+0000
END:STANDARD
END:VTIMEZONE
BEGIN:VEVENT
UID:A0E9B3BE-1D47-428D-8EB5-7807839F7498-29-1229_homereminder@173.badminton
 ners.net
DTSTAMP:20260420T043630Z
SUMMARY:Thuismatch ingevuld? (Herentals 5G (98) - Klein Boom 5G (100))
DESCRIPTION:Je hebt 36 uur na aanvang om een thuismatch op Badmintonvlaande
 ren in te vullen. Match info: Herentals 5G (98) - Klein Boom 5G (100) - Li
 nk: https://www.badmintonvlaanderen.be/sport/teammatch.aspx?id=A0E9B3BE-1D
 47-428D-8EB5-7807839F7498&match=1229
DTSTART;TZID=Europe/Brussels:20251022T090000
DTEND;TZID=Europe/Brussels:20251022T090000
END:VEVENT
BEGIN:VEVENT
UID:A0E9B3BE-1D47-428D-8EB5-7807839F7498-29-1213_homereminder@173.badminton
 ners.net
DTSTAMP:20260420T043630Z
SUMMARY:Thuismatch ingevuld? (Herentals 5G (98) - Spinshuttle 4G (103))
DESCRIPTION:Je hebt 36 uur na aanvang om een thuismatch op Badmintonvlaande
 ren in te vullen. Match info: Herentals 5G (98) - Spinshuttle 4G (103) - L
 ink: https://www.badmintonvlaanderen.be/sport/teammatch.aspx?id=A0E9B3BE-1
 D47-428D-8EB5-7807839F7498&match=1213
DTSTART;TZID=Europe/Brussels:20251203T090000
DTEND;TZID=Europe/Brussels:20251203T090000
END:VEVENT
BEGIN:VEVENT
UID:A0E9B3BE-1D47-428D-8EB5-7807839F7498-29-1218_homereminder@173.badminton
 ners.net
DTSTAMP:20260420T043630Z
SUMMARY:Thuismatch ingevuld? (Herentals 5G (98) - Beerke 5G (104))
DESCRIPTION:Je hebt 36 uur na aanvang om een thuismatch op Badmintonvlaande
 ren in te vullen. Match info: Herentals 5G (98) - Beerke 5G (104) - Link: 
 https://www.badmintonvlaanderen.be/sport/teammatch.aspx?id=A0E9B3BE-1D47-4
 28D-8EB5-7807839F7498&match=1218
DTSTART;TZID=Europe/Brussels:20260114T090000
DTEND;TZID=Europe/Brussels:20260114T090000
END:VEVENT
BEGIN:VEVENT
UID:A0E9B3BE-1D47-428D-8EB5-7807839F7498-29-1234_homereminder@173.badminton
 ners.net
DTSTAMP:20260420T043630Z
SUMMARY:Thuismatch ingevuld? (Herentals 5G (98) - Berlaar 3G (125))
DESCRIPTION:Je hebt 36 uur na aanvang om een thuismatch op Badmintonvlaande
 ren in te vullen. Match info: Herentals 5G (98) - Berlaar 3G (125) - Link:
  https://www.badmintonvlaanderen.be/sport/teammatch.aspx?id=A0E9B3BE-1D47-
 428D-8EB5-7807839F7498&match=1234
DTSTART;TZID=Europe/Brussels:20260128T090000
DTEND;TZID=Europe/Brussels:20260128T090000
END:VEVENT
BEGIN:VEVENT
UID:A0E9B3BE-1D47-428D-8EB5-7807839F7498-29-1208_homereminder@173.badminton
 ners.net
DTSTAMP:20260420T043630Z
SUMMARY:Thuismatch ingevuld? (Herentals 5G (98) - Rita Serveert 2G (102))
DESCRIPTION:Je hebt 36 uur na aanvang om een thuismatch op Badmintonvlaande
 ren in te vullen. Match info: Herentals 5G (98) - Rita Serveert 2G (102) -
  Link: https://www.badmintonvlaanderen.be/sport/teammatch.aspx?id=A0E9B3BE
 -1D47-428D-8EB5-7807839F7498&match=1208
DTSTART;TZID=Europe/Brussels:20260318T090000
DTEND;TZID=Europe/Brussels:20260318T090000
END:VEVENT
BEGIN:VEVENT
UID:A0E9B3BE-1D47-428D-8EB5-7807839F7498-29-1225_awayreminder@173.badminton
 ners.net
DTSTAMP:20260420T043630Z
SUMMARY:Uitmatch bevestigd? (Berlaar 3G (125) - Herentals 5G (98))
DESCRIPTION:Je hebt 72 uur na aanvang om een uitmatch op Badmintonvlaandere
 n in te vullen. Match info: Berlaar 3G (125) - Herentals 5G (98) - Link: h
 ttps://www.badmintonvlaanderen.be/sport/teammatch.aspx?id=A0E9B3BE-1D47-42
 8D-8EB5-7807839F7498&match=1225
DTSTART;TZID=Europe/Brussels:20251018T203000
DTEND;TZID=Europe/Brussels:20251018T203000
END:VEVENT
BEGIN:VEVENT
UID:A0E9B3BE-1D47-428D-8EB5-7807839F7498-29-1223_awayreminder@173.badminton
 ners.net
DTSTAMP:20260420T043630Z
SUMMARY:Uitmatch bevestigd? (Beerke 5G (104) - Herentals 5G (98))
DESCRIPTION:Je hebt 72 uur na aanvang om een uitmatch op Badmintonvlaandere
 n in te vullen. Match info: Beerke 5G (104) - Herentals 5G (98) - Link: ht
 tps://www.badmintonvlaanderen.be/sport/teammatch.aspx?id=A0E9B3BE-1D47-428
 D-8EB5-7807839F7498&match=1223
DTSTART;TZID=Europe/Brussels:20251119T100000
DTEND;TZID=Europe/Brussels:20251119T100000
END:VEVENT
BEGIN:VEVENT
UID:A0E9B3BE-1D47-428D-8EB5-7807839F7498-29-1221_awayreminder@173.badminton
 ners.net
DTSTAMP:20260420T043630Z
SUMMARY:Uitmatch bevestigd? (Rita Serveert 2G (102) - Herentals 5G (98))
DESCRIPTION:Je hebt 72 uur na aanvang om een uitmatch op Badmintonvlaandere
 n in te vullen. Match info: Rita Serveert 2G (102) - Herentals 5G (98) - L
 ink: https://www.badmintonvlaanderen.be/sport/teammatch.aspx?id=A0E9B3BE-1
 D47-428D-8EB5-7807839F7498&match=1221
DTSTART;TZID=Europe/Brussels:20251126T190000
DTEND;TZID=Europe/Brussels:20251126T190000
END:VEVENT
BEGIN:VEVENT
UID:A0E9B3BE-1D47-428D-8EB5-7807839F7498-29-1224_awayreminder@173.badminton
 ners.net
DTSTAMP:20260420T043630Z
SUMMARY:Uitmatch bevestigd? (Klein Boom 5G (100) - Herentals 5G (98))
DESCRIPTION:Je hebt 72 uur na aanvang om een uitmatch op Badmintonvlaandere
 n in te vullen. Match info: Klein Boom 5G (100) - Herentals 5G (98) - Link
 : https://www.badmintonvlaanderen.be/sport/teammatch.aspx?id=A0E9B3BE-1D47
 -428D-8EB5-7807839F7498&match=1224
DTSTART;TZID=Europe/Brussels:20260121T190000
DTEND;TZID=Europe/Brussels:20260121T190000
END:VEVENT
BEGIN:VEVENT
UID:A0E9B3BE-1D47-428D-8EB5-7807839F7498-29-1222_awayreminder@173.badminton
 ners.net
DTSTAMP:20260420T043630Z
SUMMARY:Uitmatch bevestigd? (Spinshuttle 4G (103) - Herentals 5G (98))
DESCRIPTION:Je hebt 72 uur na aanvang om een uitmatch op Badmintonvlaandere
 n in te vullen. Match info: Spinshuttle 4G (103) - Herentals 5G (98) - Lin
 k: https://www.badmintonvlaanderen.be/sport/teammatch.aspx?id=A0E9B3BE-1D4
 7-428D-8EB5-7807839F7498&match=1222
DTSTART;TZID=Europe/Brussels:20260424T200000
DTEND;TZID=Europe/Brussels:20260424T200000
END:VEVENT
END:VCALENDAR