BEGIN:VCALENDAR
VERSION:2.0
PRODID:spatie/icalendar-generator
NAME:berlaar_3g_125_reminders
X-WR-CALNAME:berlaar_3g_125_reminders
BEGIN:VTIMEZONE
TZID:Europe/Brussels
BEGIN:DAYLIGHT
DTSTART:20250330T010000
TZOFFSETFROM:+0100
TZOFFSETTO:+0200
END:DAYLIGHT
BEGIN:STANDARD
DTSTART:20251026T030000
TZOFFSETFROM:+0200
TZOFFSETTO:+0100
END:STANDARD
BEGIN:DAYLIGHT
DTSTART:20260329T010000
TZOFFSETFROM:+0100
TZOFFSETTO:+0200
END:DAYLIGHT
END:VTIMEZONE
BEGIN:VTIMEZONE
TZID:UTC
BEGIN:STANDARD
DTSTART:20250724T043609
TZOFFSETFROM:+0000
TZOFFSETTO:+0000
END:STANDARD
END:VTIMEZONE
BEGIN:VEVENT
UID:A0E9B3BE-1D47-428D-8EB5-7807839F7498-29-1225_homereminder@176.badminton
 ners.net
DTSTAMP:20260420T043609Z
SUMMARY:Thuismatch ingevuld? (Berlaar 3G (125) - Herentals 5G (98))
DESCRIPTION:Je hebt 36 uur na aanvang om een thuismatch op Badmintonvlaande
 ren in te vullen. Match info: Berlaar 3G (125) - Herentals 5G (98) - Link:
  https://www.badmintonvlaanderen.be/sport/teammatch.aspx?id=A0E9B3BE-1D47-
 428D-8EB5-7807839F7498&match=1225
DTSTART;TZID=Europe/Brussels:20251017T083000
DTEND;TZID=Europe/Brussels:20251017T083000
END:VEVENT
BEGIN:VEVENT
UID:A0E9B3BE-1D47-428D-8EB5-7807839F7498-29-1230_homereminder@176.badminton
 ners.net
DTSTAMP:20260420T043609Z
SUMMARY:Thuismatch ingevuld? (Berlaar 3G (125) - Klein Boom 5G (100))
DESCRIPTION:Je hebt 36 uur na aanvang om een thuismatch op Badmintonvlaande
 ren in te vullen. Match info: Berlaar 3G (125) - Klein Boom 5G (100) - Lin
 k: https://www.badmintonvlaanderen.be/sport/teammatch.aspx?id=A0E9B3BE-1D4
 7-428D-8EB5-7807839F7498&match=1230
DTSTART;TZID=Europe/Brussels:20251222T220000
DTEND;TZID=Europe/Brussels:20251222T220000
END:VEVENT
BEGIN:VEVENT
UID:A0E9B3BE-1D47-428D-8EB5-7807839F7498-29-1210_homereminder@176.badminton
 ners.net
DTSTAMP:20260420T043609Z
SUMMARY:Thuismatch ingevuld? (Berlaar 3G (125) - Rita Serveert 2G (102))
DESCRIPTION:Je hebt 36 uur na aanvang om een thuismatch op Badmintonvlaande
 ren in te vullen. Match info: Berlaar 3G (125) - Rita Serveert 2G (102) - 
 Link: https://www.badmintonvlaanderen.be/sport/teammatch.aspx?id=A0E9B3BE-
 1D47-428D-8EB5-7807839F7498&match=1210
DTSTART;TZID=Europe/Brussels:20260119T220000
DTEND;TZID=Europe/Brussels:20260119T220000
END:VEVENT
BEGIN:VEVENT
UID:A0E9B3BE-1D47-428D-8EB5-7807839F7498-29-1220_homereminder@176.badminton
 ners.net
DTSTAMP:20260420T043609Z
SUMMARY:Thuismatch ingevuld? (Berlaar 3G (125) - Beerke 5G (104))
DESCRIPTION:Je hebt 36 uur na aanvang om een thuismatch op Badmintonvlaande
 ren in te vullen. Match info: Berlaar 3G (125) - Beerke 5G (104) - Link: h
 ttps://www.badmintonvlaanderen.be/sport/teammatch.aspx?id=A0E9B3BE-1D47-42
 8D-8EB5-7807839F7498&match=1220
DTSTART;TZID=Europe/Brussels:20260216T220000
DTEND;TZID=Europe/Brussels:20260216T220000
END:VEVENT
BEGIN:VEVENT
UID:A0E9B3BE-1D47-428D-8EB5-7807839F7498-29-1215_homereminder@176.badminton
 ners.net
DTSTAMP:20260420T043609Z
SUMMARY:Thuismatch ingevuld? (Berlaar 3G (125) - Spinshuttle 4G (103))
DESCRIPTION:Je hebt 36 uur na aanvang om een thuismatch op Badmintonvlaande
 ren in te vullen. Match info: Berlaar 3G (125) - Spinshuttle 4G (103) - Li
 nk: https://www.badmintonvlaanderen.be/sport/teammatch.aspx?id=A0E9B3BE-1D
 47-428D-8EB5-7807839F7498&match=1215
DTSTART;TZID=Europe/Brussels:20260302T220000
DTEND;TZID=Europe/Brussels:20260302T220000
END:VEVENT
BEGIN:VEVENT
UID:A0E9B3BE-1D47-428D-8EB5-7807839F7498-29-1231_awayreminder@176.badminton
 ners.net
DTSTAMP:20260420T043609Z
SUMMARY:Uitmatch bevestigd? (Rita Serveert 2G (102) - Berlaar 3G (125))
DESCRIPTION:Je hebt 72 uur na aanvang om een uitmatch op Badmintonvlaandere
 n in te vullen. Match info: Rita Serveert 2G (102) - Berlaar 3G (125) - Li
 nk: https://www.badmintonvlaanderen.be/sport/teammatch.aspx?id=A0E9B3BE-1D
 47-428D-8EB5-7807839F7498&match=1231
DTSTART;TZID=Europe/Brussels:20250917T190000
DTEND;TZID=Europe/Brussels:20250917T190000
END:VEVENT
BEGIN:VEVENT
UID:A0E9B3BE-1D47-428D-8EB5-7807839F7498-29-1232_awayreminder@176.badminton
 ners.net
DTSTAMP:20260420T043609Z
SUMMARY:Uitmatch bevestigd? (Spinshuttle 4G (103) - Berlaar 3G (125))
DESCRIPTION:Je hebt 72 uur na aanvang om een uitmatch op Badmintonvlaandere
 n in te vullen. Match info: Spinshuttle 4G (103) - Berlaar 3G (125) - Link
 : https://www.badmintonvlaanderen.be/sport/teammatch.aspx?id=A0E9B3BE-1D47
 -428D-8EB5-7807839F7498&match=1232
DTSTART;TZID=Europe/Brussels:20251024T200000
DTEND;TZID=Europe/Brussels:20251024T200000
END:VEVENT
BEGIN:VEVENT
UID:A0E9B3BE-1D47-428D-8EB5-7807839F7498-29-1233_awayreminder@176.badminton
 ners.net
DTSTAMP:20260420T043609Z
SUMMARY:Uitmatch bevestigd? (Beerke 5G (104) - Berlaar 3G (125))
DESCRIPTION:Je hebt 72 uur na aanvang om een uitmatch op Badmintonvlaandere
 n in te vullen. Match info: Beerke 5G (104) - Berlaar 3G (125) - Link: htt
 ps://www.badmintonvlaanderen.be/sport/teammatch.aspx?id=A0E9B3BE-1D47-428D
 -8EB5-7807839F7498&match=1233
DTSTART;TZID=Europe/Brussels:20251210T100000
DTEND;TZID=Europe/Brussels:20251210T100000
END:VEVENT
BEGIN:VEVENT
UID:A0E9B3BE-1D47-428D-8EB5-7807839F7498-29-1234_awayreminder@176.badminton
 ners.net
DTSTAMP:20260420T043609Z
SUMMARY:Uitmatch bevestigd? (Herentals 5G (98) - Berlaar 3G (125))
DESCRIPTION:Je hebt 72 uur na aanvang om een uitmatch op Badmintonvlaandere
 n in te vullen. Match info: Herentals 5G (98) - Berlaar 3G (125) - Link: h
 ttps://www.badmintonvlaanderen.be/sport/teammatch.aspx?id=A0E9B3BE-1D47-42
 8D-8EB5-7807839F7498&match=1234
DTSTART;TZID=Europe/Brussels:20260129T210000
DTEND;TZID=Europe/Brussels:20260129T210000
END:VEVENT
BEGIN:VEVENT
UID:A0E9B3BE-1D47-428D-8EB5-7807839F7498-29-1235_awayreminder@176.badminton
 ners.net
DTSTAMP:20260420T043609Z
SUMMARY:Uitmatch bevestigd? (Klein Boom 5G (100) - Berlaar 3G (125))
DESCRIPTION:Je hebt 72 uur na aanvang om een uitmatch op Badmintonvlaandere
 n in te vullen. Match info: Klein Boom 5G (100) - Berlaar 3G (125) - Link:
  https://www.badmintonvlaanderen.be/sport/teammatch.aspx?id=A0E9B3BE-1D47-
 428D-8EB5-7807839F7498&match=1235
DTSTART;TZID=Europe/Brussels:20260318T190000
DTEND;TZID=Europe/Brussels:20260318T190000
END:VEVENT
END:VCALENDAR