BEGIN:VCALENDAR
VERSION:2.0
PRODID:spatie/icalendar-generator
NAME:rita_serveert_2g_102_reminders
X-WR-CALNAME:rita_serveert_2g_102_reminders
BEGIN:VTIMEZONE
TZID:Europe/Brussels
BEGIN:DAYLIGHT
DTSTART:20250330T010000
TZOFFSETFROM:+0100
TZOFFSETTO:+0200
END:DAYLIGHT
BEGIN:STANDARD
DTSTART:20251026T030000
TZOFFSETFROM:+0200
TZOFFSETTO:+0100
END:STANDARD
BEGIN:DAYLIGHT
DTSTART:20260329T010000
TZOFFSETFROM:+0100
TZOFFSETTO:+0200
END:DAYLIGHT
END:VTIMEZONE
BEGIN:VTIMEZONE
TZID:UTC
BEGIN:STANDARD
DTSTART:20250724T043747
TZOFFSETFROM:+0000
TZOFFSETTO:+0000
END:STANDARD
END:VTIMEZONE
BEGIN:VEVENT
UID:A0E9B3BE-1D47-428D-8EB5-7807839F7498-29-1231_homereminder@180.badminton
 ners.net
DTSTAMP:20260420T043747Z
SUMMARY:Thuismatch ingevuld? (Rita Serveert 2G (102) - Berlaar 3G (125))
DESCRIPTION:Je hebt 36 uur na aanvang om een thuismatch op Badmintonvlaande
 ren in te vullen. Match info: Rita Serveert 2G (102) - Berlaar 3G (125) - 
 Link: https://www.badmintonvlaanderen.be/sport/teammatch.aspx?id=A0E9B3BE-
 1D47-428D-8EB5-7807839F7498&match=1231
DTSTART;TZID=Europe/Brussels:20250916T070000
DTEND;TZID=Europe/Brussels:20250916T070000
END:VEVENT
BEGIN:VEVENT
UID:A0E9B3BE-1D47-428D-8EB5-7807839F7498-29-1211_homereminder@180.badminton
 ners.net
DTSTAMP:20260420T043747Z
SUMMARY:Thuismatch ingevuld? (Rita Serveert 2G (102) - Spinshuttle 4G (103)
 )
DESCRIPTION:Je hebt 36 uur na aanvang om een thuismatch op Badmintonvlaande
 ren in te vullen. Match info: Rita Serveert 2G (102) - Spinshuttle 4G (103
 ) - Link: https://www.badmintonvlaanderen.be/sport/teammatch.aspx?id=A0E9B
 3BE-1D47-428D-8EB5-7807839F7498&match=1211
DTSTART;TZID=Europe/Brussels:20251014T070000
DTEND;TZID=Europe/Brussels:20251014T070000
END:VEVENT
BEGIN:VEVENT
UID:A0E9B3BE-1D47-428D-8EB5-7807839F7498-29-1221_homereminder@180.badminton
 ners.net
DTSTAMP:20260420T043747Z
SUMMARY:Thuismatch ingevuld? (Rita Serveert 2G (102) - Herentals 5G (98))
DESCRIPTION:Je hebt 36 uur na aanvang om een thuismatch op Badmintonvlaande
 ren in te vullen. Match info: Rita Serveert 2G (102) - Herentals 5G (98) -
  Link: https://www.badmintonvlaanderen.be/sport/teammatch.aspx?id=A0E9B3BE
 -1D47-428D-8EB5-7807839F7498&match=1221
DTSTART;TZID=Europe/Brussels:20251125T070000
DTEND;TZID=Europe/Brussels:20251125T070000
END:VEVENT
BEGIN:VEVENT
UID:A0E9B3BE-1D47-428D-8EB5-7807839F7498-29-1216_homereminder@180.badminton
 ners.net
DTSTAMP:20260420T043747Z
SUMMARY:Thuismatch ingevuld? (Rita Serveert 2G (102) - Beerke 5G (104))
DESCRIPTION:Je hebt 36 uur na aanvang om een thuismatch op Badmintonvlaande
 ren in te vullen. Match info: Rita Serveert 2G (102) - Beerke 5G (104) - L
 ink: https://www.badmintonvlaanderen.be/sport/teammatch.aspx?id=A0E9B3BE-1
 D47-428D-8EB5-7807839F7498&match=1216
DTSTART;TZID=Europe/Brussels:20260331T070000
DTEND;TZID=Europe/Brussels:20260331T070000
END:VEVENT
BEGIN:VEVENT
UID:A0E9B3BE-1D47-428D-8EB5-7807839F7498-29-1226_homereminder@180.badminton
 ners.net
DTSTAMP:20260420T043747Z
SUMMARY:Thuismatch ingevuld? (Rita Serveert 2G (102) - Klein Boom 5G (100))
DESCRIPTION:Je hebt 36 uur na aanvang om een thuismatch op Badmintonvlaande
 ren in te vullen. Match info: Rita Serveert 2G (102) - Klein Boom 5G (100)
  - Link: https://www.badmintonvlaanderen.be/sport/teammatch.aspx?id=A0E9B3
 BE-1D47-428D-8EB5-7807839F7498&match=1226
DTSTART;TZID=Europe/Brussels:20260421T070000
DTEND;TZID=Europe/Brussels:20260421T070000
END:VEVENT
BEGIN:VEVENT
UID:A0E9B3BE-1D47-428D-8EB5-7807839F7498-29-1207_awayreminder@180.badminton
 ners.net
DTSTAMP:20260420T043747Z
SUMMARY:Uitmatch bevestigd? (Beerke 5G (104) - Rita Serveert 2G (102))
DESCRIPTION:Je hebt 72 uur na aanvang om een uitmatch op Badmintonvlaandere
 n in te vullen. Match info: Beerke 5G (104) - Rita Serveert 2G (102) - Lin
 k: https://www.badmintonvlaanderen.be/sport/teammatch.aspx?id=A0E9B3BE-1D4
 7-428D-8EB5-7807839F7498&match=1207
DTSTART;TZID=Europe/Brussels:20251019T200000
DTEND;TZID=Europe/Brussels:20251019T200000
END:VEVENT
BEGIN:VEVENT
UID:A0E9B3BE-1D47-428D-8EB5-7807839F7498-29-1209_awayreminder@180.badminton
 ners.net
DTSTAMP:20260420T043747Z
SUMMARY:Uitmatch bevestigd? (Klein Boom 5G (100) - Rita Serveert 2G (102))
DESCRIPTION:Je hebt 72 uur na aanvang om een uitmatch op Badmintonvlaandere
 n in te vullen. Match info: Klein Boom 5G (100) - Rita Serveert 2G (102) -
  Link: https://www.badmintonvlaanderen.be/sport/teammatch.aspx?id=A0E9B3BE
 -1D47-428D-8EB5-7807839F7498&match=1209
DTSTART;TZID=Europe/Brussels:20251210T190000
DTEND;TZID=Europe/Brussels:20251210T190000
END:VEVENT
BEGIN:VEVENT
UID:A0E9B3BE-1D47-428D-8EB5-7807839F7498-29-1210_awayreminder@180.badminton
 ners.net
DTSTAMP:20260420T043747Z
SUMMARY:Uitmatch bevestigd? (Berlaar 3G (125) - Rita Serveert 2G (102))
DESCRIPTION:Je hebt 72 uur na aanvang om een uitmatch op Badmintonvlaandere
 n in te vullen. Match info: Berlaar 3G (125) - Rita Serveert 2G (102) - Li
 nk: https://www.badmintonvlaanderen.be/sport/teammatch.aspx?id=A0E9B3BE-1D
 47-428D-8EB5-7807839F7498&match=1210
DTSTART;TZID=Europe/Brussels:20260121T100000
DTEND;TZID=Europe/Brussels:20260121T100000
END:VEVENT
BEGIN:VEVENT
UID:A0E9B3BE-1D47-428D-8EB5-7807839F7498-29-1206_awayreminder@180.badminton
 ners.net
DTSTAMP:20260420T043747Z
SUMMARY:Uitmatch bevestigd? (Spinshuttle 4G (103) - Rita Serveert 2G (102))
DESCRIPTION:Je hebt 72 uur na aanvang om een uitmatch op Badmintonvlaandere
 n in te vullen. Match info: Spinshuttle 4G (103) - Rita Serveert 2G (102) 
 - Link: https://www.badmintonvlaanderen.be/sport/teammatch.aspx?id=A0E9B3B
 E-1D47-428D-8EB5-7807839F7498&match=1206
DTSTART;TZID=Europe/Brussels:20260130T200000
DTEND;TZID=Europe/Brussels:20260130T200000
END:VEVENT
BEGIN:VEVENT
UID:A0E9B3BE-1D47-428D-8EB5-7807839F7498-29-1208_awayreminder@180.badminton
 ners.net
DTSTAMP:20260420T043747Z
SUMMARY:Uitmatch bevestigd? (Herentals 5G (98) - Rita Serveert 2G (102))
DESCRIPTION:Je hebt 72 uur na aanvang om een uitmatch op Badmintonvlaandere
 n in te vullen. Match info: Herentals 5G (98) - Rita Serveert 2G (102) - L
 ink: https://www.badmintonvlaanderen.be/sport/teammatch.aspx?id=A0E9B3BE-1
 D47-428D-8EB5-7807839F7498&match=1208
DTSTART;TZID=Europe/Brussels:20260319T210000
DTEND;TZID=Europe/Brussels:20260319T210000
END:VEVENT
END:VCALENDAR