BEGIN:VCALENDAR
VERSION:2.0
PRODID:spatie/icalendar-generator
NAME:beerke_5g_104_reminders
X-WR-CALNAME:beerke_5g_104_reminders
BEGIN:VTIMEZONE
TZID:Europe/Brussels
BEGIN:DAYLIGHT
DTSTART:20250330T010000
TZOFFSETFROM:+0100
TZOFFSETTO:+0200
END:DAYLIGHT
BEGIN:STANDARD
DTSTART:20251026T030000
TZOFFSETFROM:+0200
TZOFFSETTO:+0100
END:STANDARD
BEGIN:DAYLIGHT
DTSTART:20260329T010000
TZOFFSETFROM:+0100
TZOFFSETTO:+0200
END:DAYLIGHT
END:VTIMEZONE
BEGIN:VTIMEZONE
TZID:UTC
BEGIN:STANDARD
DTSTART:20250724T042236
TZOFFSETFROM:+0000
TZOFFSETTO:+0000
END:STANDARD
END:VTIMEZONE
BEGIN:VEVENT
UID:A0E9B3BE-1D47-428D-8EB5-7807839F7498-29-1207_homereminder@185.badminton
 ners.net
DTSTAMP:20260420T042236Z
SUMMARY:Thuismatch ingevuld? (Beerke 5G (104) - Rita Serveert 2G (102))
DESCRIPTION:Je hebt 36 uur na aanvang om een thuismatch op Badmintonvlaande
 ren in te vullen. Match info: Beerke 5G (104) - Rita Serveert 2G (102) - L
 ink: https://www.badmintonvlaanderen.be/sport/teammatch.aspx?id=A0E9B3BE-1
 D47-428D-8EB5-7807839F7498&match=1207
DTSTART;TZID=Europe/Brussels:20251018T080000
DTEND;TZID=Europe/Brussels:20251018T080000
END:VEVENT
BEGIN:VEVENT
UID:A0E9B3BE-1D47-428D-8EB5-7807839F7498-29-1223_homereminder@185.badminton
 ners.net
DTSTAMP:20260420T042236Z
SUMMARY:Thuismatch ingevuld? (Beerke 5G (104) - Herentals 5G (98))
DESCRIPTION:Je hebt 36 uur na aanvang om een thuismatch op Badmintonvlaande
 ren in te vullen. Match info: Beerke 5G (104) - Herentals 5G (98) - Link: 
 https://www.badmintonvlaanderen.be/sport/teammatch.aspx?id=A0E9B3BE-1D47-4
 28D-8EB5-7807839F7498&match=1223
DTSTART;TZID=Europe/Brussels:20251117T220000
DTEND;TZID=Europe/Brussels:20251117T220000
END:VEVENT
BEGIN:VEVENT
UID:A0E9B3BE-1D47-428D-8EB5-7807839F7498-29-1233_homereminder@185.badminton
 ners.net
DTSTAMP:20260420T042236Z
SUMMARY:Thuismatch ingevuld? (Beerke 5G (104) - Berlaar 3G (125))
DESCRIPTION:Je hebt 36 uur na aanvang om een thuismatch op Badmintonvlaande
 ren in te vullen. Match info: Beerke 5G (104) - Berlaar 3G (125) - Link: h
 ttps://www.badmintonvlaanderen.be/sport/teammatch.aspx?id=A0E9B3BE-1D47-42
 8D-8EB5-7807839F7498&match=1233
DTSTART;TZID=Europe/Brussels:20251208T220000
DTEND;TZID=Europe/Brussels:20251208T220000
END:VEVENT
BEGIN:VEVENT
UID:A0E9B3BE-1D47-428D-8EB5-7807839F7498-29-1228_homereminder@185.badminton
 ners.net
DTSTAMP:20260420T042236Z
SUMMARY:Thuismatch ingevuld? (Beerke 5G (104) - Klein Boom 5G (100))
DESCRIPTION:Je hebt 36 uur na aanvang om een thuismatch op Badmintonvlaande
 ren in te vullen. Match info: Beerke 5G (104) - Klein Boom 5G (100) - Link
 : https://www.badmintonvlaanderen.be/sport/teammatch.aspx?id=A0E9B3BE-1D47
 -428D-8EB5-7807839F7498&match=1228
DTSTART;TZID=Europe/Brussels:20260202T220000
DTEND;TZID=Europe/Brussels:20260202T220000
END:VEVENT
BEGIN:VEVENT
UID:A0E9B3BE-1D47-428D-8EB5-7807839F7498-29-1212_homereminder@185.badminton
 ners.net
DTSTAMP:20260420T042236Z
SUMMARY:Thuismatch ingevuld? (Beerke 5G (104) - Spinshuttle 4G (103))
DESCRIPTION:Je hebt 36 uur na aanvang om een thuismatch op Badmintonvlaande
 ren in te vullen. Match info: Beerke 5G (104) - Spinshuttle 4G (103) - Lin
 k: https://www.badmintonvlaanderen.be/sport/teammatch.aspx?id=A0E9B3BE-1D4
 7-428D-8EB5-7807839F7498&match=1212
DTSTART;TZID=Europe/Brussels:20260316T220000
DTEND;TZID=Europe/Brussels:20260316T220000
END:VEVENT
BEGIN:VEVENT
UID:A0E9B3BE-1D47-428D-8EB5-7807839F7498-29-1219_awayreminder@185.badminton
 ners.net
DTSTAMP:20260420T042236Z
SUMMARY:Uitmatch bevestigd? (Klein Boom 5G (100) - Beerke 5G (104))
DESCRIPTION:Je hebt 72 uur na aanvang om een uitmatch op Badmintonvlaandere
 n in te vullen. Match info: Klein Boom 5G (100) - Beerke 5G (104) - Link: 
 https://www.badmintonvlaanderen.be/sport/teammatch.aspx?id=A0E9B3BE-1D47-4
 28D-8EB5-7807839F7498&match=1219
DTSTART;TZID=Europe/Brussels:20251015T190000
DTEND;TZID=Europe/Brussels:20251015T190000
END:VEVENT
BEGIN:VEVENT
UID:A0E9B3BE-1D47-428D-8EB5-7807839F7498-29-1217_awayreminder@185.badminton
 ners.net
DTSTAMP:20260420T042236Z
SUMMARY:Uitmatch bevestigd? (Spinshuttle 4G (103) - Beerke 5G (104))
DESCRIPTION:Je hebt 72 uur na aanvang om een uitmatch op Badmintonvlaandere
 n in te vullen. Match info: Spinshuttle 4G (103) - Beerke 5G (104) - Link:
  https://www.badmintonvlaanderen.be/sport/teammatch.aspx?id=A0E9B3BE-1D47-
 428D-8EB5-7807839F7498&match=1217
DTSTART;TZID=Europe/Brussels:20251121T200000
DTEND;TZID=Europe/Brussels:20251121T200000
END:VEVENT
BEGIN:VEVENT
UID:A0E9B3BE-1D47-428D-8EB5-7807839F7498-29-1218_awayreminder@185.badminton
 ners.net
DTSTAMP:20260420T042236Z
SUMMARY:Uitmatch bevestigd? (Herentals 5G (98) - Beerke 5G (104))
DESCRIPTION:Je hebt 72 uur na aanvang om een uitmatch op Badmintonvlaandere
 n in te vullen. Match info: Herentals 5G (98) - Beerke 5G (104) - Link: ht
 tps://www.badmintonvlaanderen.be/sport/teammatch.aspx?id=A0E9B3BE-1D47-428
 D-8EB5-7807839F7498&match=1218
DTSTART;TZID=Europe/Brussels:20260115T210000
DTEND;TZID=Europe/Brussels:20260115T210000
END:VEVENT
BEGIN:VEVENT
UID:A0E9B3BE-1D47-428D-8EB5-7807839F7498-29-1220_awayreminder@185.badminton
 ners.net
DTSTAMP:20260420T042236Z
SUMMARY:Uitmatch bevestigd? (Berlaar 3G (125) - Beerke 5G (104))
DESCRIPTION:Je hebt 72 uur na aanvang om een uitmatch op Badmintonvlaandere
 n in te vullen. Match info: Berlaar 3G (125) - Beerke 5G (104) - Link: htt
 ps://www.badmintonvlaanderen.be/sport/teammatch.aspx?id=A0E9B3BE-1D47-428D
 -8EB5-7807839F7498&match=1220
DTSTART;TZID=Europe/Brussels:20260218T100000
DTEND;TZID=Europe/Brussels:20260218T100000
END:VEVENT
BEGIN:VEVENT
UID:A0E9B3BE-1D47-428D-8EB5-7807839F7498-29-1216_awayreminder@185.badminton
 ners.net
DTSTAMP:20260420T042236Z
SUMMARY:Uitmatch bevestigd? (Rita Serveert 2G (102) - Beerke 5G (104))
DESCRIPTION:Je hebt 72 uur na aanvang om een uitmatch op Badmintonvlaandere
 n in te vullen. Match info: Rita Serveert 2G (102) - Beerke 5G (104) - Lin
 k: https://www.badmintonvlaanderen.be/sport/teammatch.aspx?id=A0E9B3BE-1D4
 7-428D-8EB5-7807839F7498&match=1216
DTSTART;TZID=Europe/Brussels:20260401T190000
DTEND;TZID=Europe/Brussels:20260401T190000
END:VEVENT
END:VCALENDAR