BEGIN:VCALENDAR
VERSION:2.0
PRODID:spatie/icalendar-generator
NAME:klein_boom_5g_100_reminders
X-WR-CALNAME:klein_boom_5g_100_reminders
BEGIN:VTIMEZONE
TZID:Europe/Brussels
BEGIN:DAYLIGHT
DTSTART:20250330T010000
TZOFFSETFROM:+0100
TZOFFSETTO:+0200
END:DAYLIGHT
BEGIN:STANDARD
DTSTART:20251026T030000
TZOFFSETFROM:+0200
TZOFFSETTO:+0100
END:STANDARD
BEGIN:DAYLIGHT
DTSTART:20260329T010000
TZOFFSETFROM:+0100
TZOFFSETTO:+0200
END:DAYLIGHT
END:VTIMEZONE
BEGIN:VTIMEZONE
TZID:UTC
BEGIN:STANDARD
DTSTART:20250724T055149
TZOFFSETFROM:+0000
TZOFFSETTO:+0000
END:STANDARD
END:VTIMEZONE
BEGIN:VEVENT
UID:A0E9B3BE-1D47-428D-8EB5-7807839F7498-29-1219_homereminder@195.badminton
 ners.net
DTSTAMP:20260420T055149Z
SUMMARY:Thuismatch ingevuld? (Klein Boom 5G (100) - Beerke 5G (104))
DESCRIPTION:Je hebt 36 uur na aanvang om een thuismatch op Badmintonvlaande
 ren in te vullen. Match info: Klein Boom 5G (100) - Beerke 5G (104) - Link
 : https://www.badmintonvlaanderen.be/sport/teammatch.aspx?id=A0E9B3BE-1D47
 -428D-8EB5-7807839F7498&match=1219
DTSTART;TZID=Europe/Brussels:20251014T070000
DTEND;TZID=Europe/Brussels:20251014T070000
END:VEVENT
BEGIN:VEVENT
UID:A0E9B3BE-1D47-428D-8EB5-7807839F7498-29-1209_homereminder@195.badminton
 ners.net
DTSTAMP:20260420T055149Z
SUMMARY:Thuismatch ingevuld? (Klein Boom 5G (100) - Rita Serveert 2G (102))
DESCRIPTION:Je hebt 36 uur na aanvang om een thuismatch op Badmintonvlaande
 ren in te vullen. Match info: Klein Boom 5G (100) - Rita Serveert 2G (102)
  - Link: https://www.badmintonvlaanderen.be/sport/teammatch.aspx?id=A0E9B3
 BE-1D47-428D-8EB5-7807839F7498&match=1209
DTSTART;TZID=Europe/Brussels:20251209T070000
DTEND;TZID=Europe/Brussels:20251209T070000
END:VEVENT
BEGIN:VEVENT
UID:A0E9B3BE-1D47-428D-8EB5-7807839F7498-29-1214_homereminder@195.badminton
 ners.net
DTSTAMP:20260420T055149Z
SUMMARY:Thuismatch ingevuld? (Klein Boom 5G (100) - Spinshuttle 4G (103))
DESCRIPTION:Je hebt 36 uur na aanvang om een thuismatch op Badmintonvlaande
 ren in te vullen. Match info: Klein Boom 5G (100) - Spinshuttle 4G (103) -
  Link: https://www.badmintonvlaanderen.be/sport/teammatch.aspx?id=A0E9B3BE
 -1D47-428D-8EB5-7807839F7498&match=1214
DTSTART;TZID=Europe/Brussels:20260106T070000
DTEND;TZID=Europe/Brussels:20260106T070000
END:VEVENT
BEGIN:VEVENT
UID:A0E9B3BE-1D47-428D-8EB5-7807839F7498-29-1224_homereminder@195.badminton
 ners.net
DTSTAMP:20260420T055149Z
SUMMARY:Thuismatch ingevuld? (Klein Boom 5G (100) - Herentals 5G (98))
DESCRIPTION:Je hebt 36 uur na aanvang om een thuismatch op Badmintonvlaande
 ren in te vullen. Match info: Klein Boom 5G (100) - Herentals 5G (98) - Li
 nk: https://www.badmintonvlaanderen.be/sport/teammatch.aspx?id=A0E9B3BE-1D
 47-428D-8EB5-7807839F7498&match=1224
DTSTART;TZID=Europe/Brussels:20260120T070000
DTEND;TZID=Europe/Brussels:20260120T070000
END:VEVENT
BEGIN:VEVENT
UID:A0E9B3BE-1D47-428D-8EB5-7807839F7498-29-1235_homereminder@195.badminton
 ners.net
DTSTAMP:20260420T055149Z
SUMMARY:Thuismatch ingevuld? (Klein Boom 5G (100) - Berlaar 3G (125))
DESCRIPTION:Je hebt 36 uur na aanvang om een thuismatch op Badmintonvlaande
 ren in te vullen. Match info: Klein Boom 5G (100) - Berlaar 3G (125) - Lin
 k: https://www.badmintonvlaanderen.be/sport/teammatch.aspx?id=A0E9B3BE-1D4
 7-428D-8EB5-7807839F7498&match=1235
DTSTART;TZID=Europe/Brussels:20260317T070000
DTEND;TZID=Europe/Brussels:20260317T070000
END:VEVENT
BEGIN:VEVENT
UID:A0E9B3BE-1D47-428D-8EB5-7807839F7498-29-1227_awayreminder@195.badminton
 ners.net
DTSTAMP:20260420T055149Z
SUMMARY:Uitmatch bevestigd? (Spinshuttle 4G (103) - Klein Boom 5G (100))
DESCRIPTION:Je hebt 72 uur na aanvang om een uitmatch op Badmintonvlaandere
 n in te vullen. Match info: Spinshuttle 4G (103) - Klein Boom 5G (100) - L
 ink: https://www.badmintonvlaanderen.be/sport/teammatch.aspx?id=A0E9B3BE-1
 D47-428D-8EB5-7807839F7498&match=1227
DTSTART;TZID=Europe/Brussels:20250926T200000
DTEND;TZID=Europe/Brussels:20250926T200000
END:VEVENT
BEGIN:VEVENT
UID:A0E9B3BE-1D47-428D-8EB5-7807839F7498-29-1229_awayreminder@195.badminton
 ners.net
DTSTAMP:20260420T055149Z
SUMMARY:Uitmatch bevestigd? (Herentals 5G (98) - Klein Boom 5G (100))
DESCRIPTION:Je hebt 72 uur na aanvang om een uitmatch op Badmintonvlaandere
 n in te vullen. Match info: Herentals 5G (98) - Klein Boom 5G (100) - Link
 : https://www.badmintonvlaanderen.be/sport/teammatch.aspx?id=A0E9B3BE-1D47
 -428D-8EB5-7807839F7498&match=1229
DTSTART;TZID=Europe/Brussels:20251023T210000
DTEND;TZID=Europe/Brussels:20251023T210000
END:VEVENT
BEGIN:VEVENT
UID:A0E9B3BE-1D47-428D-8EB5-7807839F7498-29-1230_awayreminder@195.badminton
 ners.net
DTSTAMP:20260420T055149Z
SUMMARY:Uitmatch bevestigd? (Berlaar 3G (125) - Klein Boom 5G (100))
DESCRIPTION:Je hebt 72 uur na aanvang om een uitmatch op Badmintonvlaandere
 n in te vullen. Match info: Berlaar 3G (125) - Klein Boom 5G (100) - Link:
  https://www.badmintonvlaanderen.be/sport/teammatch.aspx?id=A0E9B3BE-1D47-
 428D-8EB5-7807839F7498&match=1230
DTSTART;TZID=Europe/Brussels:20251224T100000
DTEND;TZID=Europe/Brussels:20251224T100000
END:VEVENT
BEGIN:VEVENT
UID:A0E9B3BE-1D47-428D-8EB5-7807839F7498-29-1228_awayreminder@195.badminton
 ners.net
DTSTAMP:20260420T055149Z
SUMMARY:Uitmatch bevestigd? (Beerke 5G (104) - Klein Boom 5G (100))
DESCRIPTION:Je hebt 72 uur na aanvang om een uitmatch op Badmintonvlaandere
 n in te vullen. Match info: Beerke 5G (104) - Klein Boom 5G (100) - Link: 
 https://www.badmintonvlaanderen.be/sport/teammatch.aspx?id=A0E9B3BE-1D47-4
 28D-8EB5-7807839F7498&match=1228
DTSTART;TZID=Europe/Brussels:20260204T100000
DTEND;TZID=Europe/Brussels:20260204T100000
END:VEVENT
BEGIN:VEVENT
UID:A0E9B3BE-1D47-428D-8EB5-7807839F7498-29-1226_awayreminder@195.badminton
 ners.net
DTSTAMP:20260420T055149Z
SUMMARY:Uitmatch bevestigd? (Rita Serveert 2G (102) - Klein Boom 5G (100))
DESCRIPTION:Je hebt 72 uur na aanvang om een uitmatch op Badmintonvlaandere
 n in te vullen. Match info: Rita Serveert 2G (102) - Klein Boom 5G (100) -
  Link: https://www.badmintonvlaanderen.be/sport/teammatch.aspx?id=A0E9B3BE
 -1D47-428D-8EB5-7807839F7498&match=1226
DTSTART;TZID=Europe/Brussels:20260422T190000
DTEND;TZID=Europe/Brussels:20260422T190000
END:VEVENT
END:VCALENDAR