BEGIN:VCALENDAR
VERSION:2.0
PRODID:spatie/icalendar-generator
NAME:duffel_2g_118_reminders
X-WR-CALNAME:duffel_2g_118_reminders
BEGIN:VTIMEZONE
TZID:Europe/Brussels
BEGIN:DAYLIGHT
DTSTART:20250330T010000
TZOFFSETFROM:+0100
TZOFFSETTO:+0200
END:DAYLIGHT
BEGIN:STANDARD
DTSTART:20251026T030000
TZOFFSETFROM:+0200
TZOFFSETTO:+0100
END:STANDARD
BEGIN:DAYLIGHT
DTSTART:20260329T010000
TZOFFSETFROM:+0100
TZOFFSETTO:+0200
END:DAYLIGHT
BEGIN:STANDARD
DTSTART:20261025T030000
TZOFFSETFROM:+0200
TZOFFSETTO:+0100
END:STANDARD
END:VTIMEZONE
BEGIN:VTIMEZONE
TZID:UTC
BEGIN:STANDARD
DTSTART:20250724T041200
TZOFFSETFROM:+0000
TZOFFSETTO:+0000
END:STANDARD
END:VTIMEZONE
BEGIN:VEVENT
UID:A0E9B3BE-1D47-428D-8EB5-7807839F7498-30-1245_homereminder@175.badminton
 ners.net
DTSTAMP:20260420T041200Z
SUMMARY:Thuismatch ingevuld? (Duffel 2G (118) - Amateurs 1G (110))
DESCRIPTION:Je hebt 36 uur na aanvang om een thuismatch op Badmintonvlaande
 ren in te vullen. Match info: Duffel 2G (118) - Amateurs 1G (110) - Link: 
 https://www.badmintonvlaanderen.be/sport/teammatch.aspx?id=A0E9B3BE-1D47-4
 28D-8EB5-7807839F7498&match=1245
DTSTART;TZID=Europe/Brussels:20251028T080000
DTEND;TZID=Europe/Brussels:20251028T080000
END:VEVENT
BEGIN:VEVENT
UID:A0E9B3BE-1D47-428D-8EB5-7807839F7498-30-1255_homereminder@175.badminton
 ners.net
DTSTAMP:20260420T041200Z
SUMMARY:Thuismatch ingevuld? (Duffel 2G (118) - Spinshuttle 5G (104))
DESCRIPTION:Je hebt 36 uur na aanvang om een thuismatch op Badmintonvlaande
 ren in te vullen. Match info: Duffel 2G (118) - Spinshuttle 5G (104) - Lin
 k: https://www.badmintonvlaanderen.be/sport/teammatch.aspx?id=A0E9B3BE-1D4
 7-428D-8EB5-7807839F7498&match=1255
DTSTART;TZID=Europe/Brussels:20251216T080000
DTEND;TZID=Europe/Brussels:20251216T080000
END:VEVENT
BEGIN:VEVENT
UID:A0E9B3BE-1D47-428D-8EB5-7807839F7498-30-1250_homereminder@175.badminton
 ners.net
DTSTAMP:20260420T041200Z
SUMMARY:Thuismatch ingevuld? (Duffel 2G (118) - Klein Boom 7G (105))
DESCRIPTION:Je hebt 36 uur na aanvang om een thuismatch op Badmintonvlaande
 ren in te vullen. Match info: Duffel 2G (118) - Klein Boom 7G (105) - Link
 : https://www.badmintonvlaanderen.be/sport/teammatch.aspx?id=A0E9B3BE-1D47
 -428D-8EB5-7807839F7498&match=1250
DTSTART;TZID=Europe/Brussels:20260120T080000
DTEND;TZID=Europe/Brussels:20260120T080000
END:VEVENT
BEGIN:VEVENT
UID:A0E9B3BE-1D47-428D-8EB5-7807839F7498-30-1260_homereminder@175.badminton
 ners.net
DTSTAMP:20260420T041200Z
SUMMARY:Thuismatch ingevuld? (Duffel 2G (118) - Beerke 4G (98))
DESCRIPTION:Je hebt 36 uur na aanvang om een thuismatch op Badmintonvlaande
 ren in te vullen. Match info: Duffel 2G (118) - Beerke 4G (98) - Link: htt
 ps://www.badmintonvlaanderen.be/sport/teammatch.aspx?id=A0E9B3BE-1D47-428D
 -8EB5-7807839F7498&match=1260
DTSTART;TZID=Europe/Brussels:20260303T080000
DTEND;TZID=Europe/Brussels:20260303T080000
END:VEVENT
BEGIN:VEVENT
UID:A0E9B3BE-1D47-428D-8EB5-7807839F7498-30-1271_homereminder@175.badminton
 ners.net
DTSTAMP:20260420T041200Z
SUMMARY:Thuismatch ingevuld? (Duffel 2G (118) - Plumula 3G (105))
DESCRIPTION:Je hebt 36 uur na aanvang om een thuismatch op Badmintonvlaande
 ren in te vullen. Match info: Duffel 2G (118) - Plumula 3G (105) - Link: h
 ttps://www.badmintonvlaanderen.be/sport/teammatch.aspx?id=A0E9B3BE-1D47-42
 8D-8EB5-7807839F7498&match=1271
DTSTART;TZID=Europe/Brussels:20260414T080000
DTEND;TZID=Europe/Brussels:20260414T080000
END:VEVENT
BEGIN:VEVENT
UID:A0E9B3BE-1D47-428D-8EB5-7807839F7498-30-1263_awayreminder@175.badminton
 ners.net
DTSTAMP:20260420T041200Z
SUMMARY:Uitmatch bevestigd? (Klein Boom 7G (105) - Duffel 2G (118))
DESCRIPTION:Je hebt 72 uur na aanvang om een uitmatch op Badmintonvlaandere
 n in te vullen. Match info: Klein Boom 7G (105) - Duffel 2G (118) - Link: 
 https://www.badmintonvlaanderen.be/sport/teammatch.aspx?id=A0E9B3BE-1D47-4
 28D-8EB5-7807839F7498&match=1263
DTSTART;TZID=Europe/Brussels:20250917T190000
DTEND;TZID=Europe/Brussels:20250917T190000
END:VEVENT
BEGIN:VEVENT
UID:A0E9B3BE-1D47-428D-8EB5-7807839F7498-30-1265_awayreminder@175.badminton
 ners.net
DTSTAMP:20260420T041200Z
SUMMARY:Uitmatch bevestigd? (Beerke 4G (98) - Duffel 2G (118))
DESCRIPTION:Je hebt 72 uur na aanvang om een uitmatch op Badmintonvlaandere
 n in te vullen. Match info: Beerke 4G (98) - Duffel 2G (118) - Link: https
 ://www.badmintonvlaanderen.be/sport/teammatch.aspx?id=A0E9B3BE-1D47-428D-8
 EB5-7807839F7498&match=1265
DTSTART;TZID=Europe/Brussels:20251126T100000
DTEND;TZID=Europe/Brussels:20251126T100000
END:VEVENT
BEGIN:VEVENT
UID:A0E9B3BE-1D47-428D-8EB5-7807839F7498-30-1266_awayreminder@175.badminton
 ners.net
DTSTAMP:20260420T041200Z
SUMMARY:Uitmatch bevestigd? (Plumula 3G (105) - Duffel 2G (118))
DESCRIPTION:Je hebt 72 uur na aanvang om een uitmatch op Badmintonvlaandere
 n in te vullen. Match info: Plumula 3G (105) - Duffel 2G (118) - Link: htt
 ps://www.badmintonvlaanderen.be/sport/teammatch.aspx?id=A0E9B3BE-1D47-428D
 -8EB5-7807839F7498&match=1266
DTSTART;TZID=Europe/Brussels:20251224T173000
DTEND;TZID=Europe/Brussels:20251224T173000
END:VEVENT
BEGIN:VEVENT
UID:A0E9B3BE-1D47-428D-8EB5-7807839F7498-30-1264_awayreminder@175.badminton
 ners.net
DTSTAMP:20260420T041200Z
SUMMARY:Uitmatch bevestigd? (Spinshuttle 5G (104) - Duffel 2G (118))
DESCRIPTION:Je hebt 72 uur na aanvang om een uitmatch op Badmintonvlaandere
 n in te vullen. Match info: Spinshuttle 5G (104) - Duffel 2G (118) - Link:
  https://www.badmintonvlaanderen.be/sport/teammatch.aspx?id=A0E9B3BE-1D47-
 428D-8EB5-7807839F7498&match=1264
DTSTART;TZID=Europe/Brussels:20260215T200000
DTEND;TZID=Europe/Brussels:20260215T200000
END:VEVENT
BEGIN:VEVENT
UID:A0E9B3BE-1D47-428D-8EB5-7807839F7498-30-1262_awayreminder@175.badminton
 ners.net
DTSTAMP:20260420T041200Z
SUMMARY:Uitmatch bevestigd? (Amateurs 1G (110) - Duffel 2G (118))
DESCRIPTION:Je hebt 72 uur na aanvang om een uitmatch op Badmintonvlaandere
 n in te vullen. Match info: Amateurs 1G (110) - Duffel 2G (118) - Link: ht
 tps://www.badmintonvlaanderen.be/sport/teammatch.aspx?id=A0E9B3BE-1D47-428
 D-8EB5-7807839F7498&match=1262
DTSTART;TZID=Europe/Brussels:20260423T200000
DTEND;TZID=Europe/Brussels:20260423T200000
END:VEVENT
END:VCALENDAR