BEGIN:VCALENDAR
VERSION:2.0
PRODID:spatie/icalendar-generator
NAME:amateurs_1g_110_reminders
X-WR-CALNAME:amateurs_1g_110_reminders
BEGIN:VTIMEZONE
TZID:Europe/Brussels
BEGIN:DAYLIGHT
DTSTART:20250330T010000
TZOFFSETFROM:+0100
TZOFFSETTO:+0200
END:DAYLIGHT
BEGIN:STANDARD
DTSTART:20251026T030000
TZOFFSETFROM:+0200
TZOFFSETTO:+0100
END:STANDARD
BEGIN:DAYLIGHT
DTSTART:20260329T010000
TZOFFSETFROM:+0100
TZOFFSETTO:+0200
END:DAYLIGHT
END:VTIMEZONE
BEGIN:VTIMEZONE
TZID:UTC
BEGIN:STANDARD
DTSTART:20250724T043625
TZOFFSETFROM:+0000
TZOFFSETTO:+0000
END:STANDARD
END:VTIMEZONE
BEGIN:VEVENT
UID:A0E9B3BE-1D47-428D-8EB5-7807839F7498-30-1267_homereminder@181.badminton
 ners.net
DTSTAMP:20260420T043625Z
SUMMARY:Thuismatch ingevuld? (Amateurs 1G (110) - Plumula 3G (105))
DESCRIPTION:Je hebt 36 uur na aanvang om een thuismatch op Badmintonvlaande
 ren in te vullen. Match info: Amateurs 1G (110) - Plumula 3G (105) - Link:
  https://www.badmintonvlaanderen.be/sport/teammatch.aspx?id=A0E9B3BE-1D47-
 428D-8EB5-7807839F7498&match=1267
DTSTART;TZID=Europe/Brussels:20250910T080000
DTEND;TZID=Europe/Brussels:20250910T080000
END:VEVENT
BEGIN:VEVENT
UID:A0E9B3BE-1D47-428D-8EB5-7807839F7498-30-1247_homereminder@181.badminton
 ners.net
DTSTAMP:20260420T043625Z
SUMMARY:Thuismatch ingevuld? (Amateurs 1G (110) - Klein Boom 7G (105))
DESCRIPTION:Je hebt 36 uur na aanvang om een thuismatch op Badmintonvlaande
 ren in te vullen. Match info: Amateurs 1G (110) - Klein Boom 7G (105) - Li
 nk: https://www.badmintonvlaanderen.be/sport/teammatch.aspx?id=A0E9B3BE-1D
 47-428D-8EB5-7807839F7498&match=1247
DTSTART;TZID=Europe/Brussels:20251008T080000
DTEND;TZID=Europe/Brussels:20251008T080000
END:VEVENT
BEGIN:VEVENT
UID:A0E9B3BE-1D47-428D-8EB5-7807839F7498-30-1257_homereminder@181.badminton
 ners.net
DTSTAMP:20260420T043625Z
SUMMARY:Thuismatch ingevuld? (Amateurs 1G (110) - Beerke 4G (98))
DESCRIPTION:Je hebt 36 uur na aanvang om een thuismatch op Badmintonvlaande
 ren in te vullen. Match info: Amateurs 1G (110) - Beerke 4G (98) - Link: h
 ttps://www.badmintonvlaanderen.be/sport/teammatch.aspx?id=A0E9B3BE-1D47-42
 8D-8EB5-7807839F7498&match=1257
DTSTART;TZID=Europe/Brussels:20251217T080000
DTEND;TZID=Europe/Brussels:20251217T080000
END:VEVENT
BEGIN:VEVENT
UID:A0E9B3BE-1D47-428D-8EB5-7807839F7498-30-1252_homereminder@181.badminton
 ners.net
DTSTAMP:20260420T043625Z
SUMMARY:Thuismatch ingevuld? (Amateurs 1G (110) - Spinshuttle 5G (104))
DESCRIPTION:Je hebt 36 uur na aanvang om een thuismatch op Badmintonvlaande
 ren in te vullen. Match info: Amateurs 1G (110) - Spinshuttle 5G (104) - L
 ink: https://www.badmintonvlaanderen.be/sport/teammatch.aspx?id=A0E9B3BE-1
 D47-428D-8EB5-7807839F7498&match=1252
DTSTART;TZID=Europe/Brussels:20260225T080000
DTEND;TZID=Europe/Brussels:20260225T080000
END:VEVENT
BEGIN:VEVENT
UID:A0E9B3BE-1D47-428D-8EB5-7807839F7498-30-1262_homereminder@181.badminton
 ners.net
DTSTAMP:20260420T043625Z
SUMMARY:Thuismatch ingevuld? (Amateurs 1G (110) - Duffel 2G (118))
DESCRIPTION:Je hebt 36 uur na aanvang om een thuismatch op Badmintonvlaande
 ren in te vullen. Match info: Amateurs 1G (110) - Duffel 2G (118) - Link: 
 https://www.badmintonvlaanderen.be/sport/teammatch.aspx?id=A0E9B3BE-1D47-4
 28D-8EB5-7807839F7498&match=1262
DTSTART;TZID=Europe/Brussels:20260422T080000
DTEND;TZID=Europe/Brussels:20260422T080000
END:VEVENT
BEGIN:VEVENT
UID:A0E9B3BE-1D47-428D-8EB5-7807839F7498-30-1245_awayreminder@181.badminton
 ners.net
DTSTAMP:20260420T043625Z
SUMMARY:Uitmatch bevestigd? (Duffel 2G (118) - Amateurs 1G (110))
DESCRIPTION:Je hebt 72 uur na aanvang om een uitmatch op Badmintonvlaandere
 n in te vullen. Match info: Duffel 2G (118) - Amateurs 1G (110) - Link: ht
 tps://www.badmintonvlaanderen.be/sport/teammatch.aspx?id=A0E9B3BE-1D47-428
 D-8EB5-7807839F7498&match=1245
DTSTART;TZID=Europe/Brussels:20251029T200000
DTEND;TZID=Europe/Brussels:20251029T200000
END:VEVENT
BEGIN:VEVENT
UID:A0E9B3BE-1D47-428D-8EB5-7807839F7498-30-1243_awayreminder@181.badminton
 ners.net
DTSTAMP:20260420T043625Z
SUMMARY:Uitmatch bevestigd? (Spinshuttle 5G (104) - Amateurs 1G (110))
DESCRIPTION:Je hebt 72 uur na aanvang om een uitmatch op Badmintonvlaandere
 n in te vullen. Match info: Spinshuttle 5G (104) - Amateurs 1G (110) - Lin
 k: https://www.badmintonvlaanderen.be/sport/teammatch.aspx?id=A0E9B3BE-1D4
 7-428D-8EB5-7807839F7498&match=1243
DTSTART;TZID=Europe/Brussels:20251107T200000
DTEND;TZID=Europe/Brussels:20251107T200000
END:VEVENT
BEGIN:VEVENT
UID:A0E9B3BE-1D47-428D-8EB5-7807839F7498-30-1246_awayreminder@181.badminton
 ners.net
DTSTAMP:20260420T043625Z
SUMMARY:Uitmatch bevestigd? (Plumula 3G (105) - Amateurs 1G (110))
DESCRIPTION:Je hebt 72 uur na aanvang om een uitmatch op Badmintonvlaandere
 n in te vullen. Match info: Plumula 3G (105) - Amateurs 1G (110) - Link: h
 ttps://www.badmintonvlaanderen.be/sport/teammatch.aspx?id=A0E9B3BE-1D47-42
 8D-8EB5-7807839F7498&match=1246
DTSTART;TZID=Europe/Brussels:20260121T173000
DTEND;TZID=Europe/Brussels:20260121T173000
END:VEVENT
BEGIN:VEVENT
UID:A0E9B3BE-1D47-428D-8EB5-7807839F7498-30-1242_awayreminder@181.badminton
 ners.net
DTSTAMP:20260420T043625Z
SUMMARY:Uitmatch bevestigd? (Klein Boom 7G (105) - Amateurs 1G (110))
DESCRIPTION:Je hebt 72 uur na aanvang om een uitmatch op Badmintonvlaandere
 n in te vullen. Match info: Klein Boom 7G (105) - Amateurs 1G (110) - Link
 : https://www.badmintonvlaanderen.be/sport/teammatch.aspx?id=A0E9B3BE-1D47
 -428D-8EB5-7807839F7498&match=1242
DTSTART;TZID=Europe/Brussels:20260204T190000
DTEND;TZID=Europe/Brussels:20260204T190000
END:VEVENT
BEGIN:VEVENT
UID:A0E9B3BE-1D47-428D-8EB5-7807839F7498-30-1244_awayreminder@181.badminton
 ners.net
DTSTAMP:20260420T043625Z
SUMMARY:Uitmatch bevestigd? (Beerke 4G (98) - Amateurs 1G (110))
DESCRIPTION:Je hebt 72 uur na aanvang om een uitmatch op Badmintonvlaandere
 n in te vullen. Match info: Beerke 4G (98) - Amateurs 1G (110) - Link: htt
 ps://www.badmintonvlaanderen.be/sport/teammatch.aspx?id=A0E9B3BE-1D47-428D
 -8EB5-7807839F7498&match=1244
DTSTART;TZID=Europe/Brussels:20260401T100000
DTEND;TZID=Europe/Brussels:20260401T100000
END:VEVENT
END:VCALENDAR