BEGIN:VCALENDAR
VERSION:2.0
PRODID:spatie/icalendar-generator
NAME:spinshuttle_5g_104_reminders
X-WR-CALNAME:spinshuttle_5g_104_reminders
BEGIN:VTIMEZONE
TZID:Europe/Brussels
BEGIN:DAYLIGHT
DTSTART:20250330T010000
TZOFFSETFROM:+0100
TZOFFSETTO:+0200
END:DAYLIGHT
BEGIN:STANDARD
DTSTART:20251026T030000
TZOFFSETFROM:+0200
TZOFFSETTO:+0100
END:STANDARD
BEGIN:DAYLIGHT
DTSTART:20260329T010000
TZOFFSETFROM:+0100
TZOFFSETTO:+0200
END:DAYLIGHT
BEGIN:STANDARD
DTSTART:20261025T030000
TZOFFSETFROM:+0200
TZOFFSETTO:+0100
END:STANDARD
END:VTIMEZONE
BEGIN:VTIMEZONE
TZID:UTC
BEGIN:STANDARD
DTSTART:20250724T043747
TZOFFSETFROM:+0000
TZOFFSETTO:+0000
END:STANDARD
END:VTIMEZONE
BEGIN:VEVENT
UID:A0E9B3BE-1D47-428D-8EB5-7807839F7498-30-1243_homereminder@187.badminton
 ners.net
DTSTAMP:20260420T043747Z
SUMMARY:Thuismatch ingevuld? (Spinshuttle 5G (104) - Amateurs 1G (110))
DESCRIPTION:Je hebt 36 uur na aanvang om een thuismatch op Badmintonvlaande
 ren in te vullen. Match info: Spinshuttle 5G (104) - Amateurs 1G (110) - L
 ink: https://www.badmintonvlaanderen.be/sport/teammatch.aspx?id=A0E9B3BE-1
 D47-428D-8EB5-7807839F7498&match=1243
DTSTART;TZID=Europe/Brussels:20251106T080000
DTEND;TZID=Europe/Brussels:20251106T080000
END:VEVENT
BEGIN:VEVENT
UID:A0E9B3BE-1D47-428D-8EB5-7807839F7498-30-1269_homereminder@187.badminton
 ners.net
DTSTAMP:20260420T043747Z
SUMMARY:Thuismatch ingevuld? (Spinshuttle 5G (104) - Plumula 3G (105))
DESCRIPTION:Je hebt 36 uur na aanvang om een thuismatch op Badmintonvlaande
 ren in te vullen. Match info: Spinshuttle 5G (104) - Plumula 3G (105) - Li
 nk: https://www.badmintonvlaanderen.be/sport/teammatch.aspx?id=A0E9B3BE-1D
 47-428D-8EB5-7807839F7498&match=1269
DTSTART;TZID=Europe/Brussels:20251127T080000
DTEND;TZID=Europe/Brussels:20251127T080000
END:VEVENT
BEGIN:VEVENT
UID:A0E9B3BE-1D47-428D-8EB5-7807839F7498-30-1259_homereminder@187.badminton
 ners.net
DTSTAMP:20260420T043747Z
SUMMARY:Thuismatch ingevuld? (Spinshuttle 5G (104) - Beerke 4G (98))
DESCRIPTION:Je hebt 36 uur na aanvang om een thuismatch op Badmintonvlaande
 ren in te vullen. Match info: Spinshuttle 5G (104) - Beerke 4G (98) - Link
 : https://www.badmintonvlaanderen.be/sport/teammatch.aspx?id=A0E9B3BE-1D47
 -428D-8EB5-7807839F7498&match=1259
DTSTART;TZID=Europe/Brussels:20251206T080000
DTEND;TZID=Europe/Brussels:20251206T080000
END:VEVENT
BEGIN:VEVENT
UID:A0E9B3BE-1D47-428D-8EB5-7807839F7498-30-1264_homereminder@187.badminton
 ners.net
DTSTAMP:20260420T043747Z
SUMMARY:Thuismatch ingevuld? (Spinshuttle 5G (104) - Duffel 2G (118))
DESCRIPTION:Je hebt 36 uur na aanvang om een thuismatch op Badmintonvlaande
 ren in te vullen. Match info: Spinshuttle 5G (104) - Duffel 2G (118) - Lin
 k: https://www.badmintonvlaanderen.be/sport/teammatch.aspx?id=A0E9B3BE-1D4
 7-428D-8EB5-7807839F7498&match=1264
DTSTART;TZID=Europe/Brussels:20260214T080000
DTEND;TZID=Europe/Brussels:20260214T080000
END:VEVENT
BEGIN:VEVENT
UID:A0E9B3BE-1D47-428D-8EB5-7807839F7498-30-1248_homereminder@187.badminton
 ners.net
DTSTAMP:20260420T043747Z
SUMMARY:Thuismatch ingevuld? (Spinshuttle 5G (104) - Klein Boom 7G (105))
DESCRIPTION:Je hebt 36 uur na aanvang om een thuismatch op Badmintonvlaande
 ren in te vullen. Match info: Spinshuttle 5G (104) - Klein Boom 7G (105) -
  Link: https://www.badmintonvlaanderen.be/sport/teammatch.aspx?id=A0E9B3BE
 -1D47-428D-8EB5-7807839F7498&match=1248
DTSTART;TZID=Europe/Brussels:20260328T080000
DTEND;TZID=Europe/Brussels:20260328T080000
END:VEVENT
BEGIN:VEVENT
UID:A0E9B3BE-1D47-428D-8EB5-7807839F7498-30-1255_awayreminder@187.badminton
 ners.net
DTSTAMP:20260420T043747Z
SUMMARY:Uitmatch bevestigd? (Duffel 2G (118) - Spinshuttle 5G (104))
DESCRIPTION:Je hebt 72 uur na aanvang om een uitmatch op Badmintonvlaandere
 n in te vullen. Match info: Duffel 2G (118) - Spinshuttle 5G (104) - Link:
  https://www.badmintonvlaanderen.be/sport/teammatch.aspx?id=A0E9B3BE-1D47-
 428D-8EB5-7807839F7498&match=1255
DTSTART;TZID=Europe/Brussels:20251217T200000
DTEND;TZID=Europe/Brussels:20251217T200000
END:VEVENT
BEGIN:VEVENT
UID:A0E9B3BE-1D47-428D-8EB5-7807839F7498-30-1253_awayreminder@187.badminton
 ners.net
DTSTAMP:20260420T043747Z
SUMMARY:Uitmatch bevestigd? (Klein Boom 7G (105) - Spinshuttle 5G (104))
DESCRIPTION:Je hebt 72 uur na aanvang om een uitmatch op Badmintonvlaandere
 n in te vullen. Match info: Klein Boom 7G (105) - Spinshuttle 5G (104) - L
 ink: https://www.badmintonvlaanderen.be/sport/teammatch.aspx?id=A0E9B3BE-1
 D47-428D-8EB5-7807839F7498&match=1253
DTSTART;TZID=Europe/Brussels:20251224T190000
DTEND;TZID=Europe/Brussels:20251224T190000
END:VEVENT
BEGIN:VEVENT
UID:A0E9B3BE-1D47-428D-8EB5-7807839F7498-30-1254_awayreminder@187.badminton
 ners.net
DTSTAMP:20260420T043747Z
SUMMARY:Uitmatch bevestigd? (Beerke 4G (98) - Spinshuttle 5G (104))
DESCRIPTION:Je hebt 72 uur na aanvang om een uitmatch op Badmintonvlaandere
 n in te vullen. Match info: Beerke 4G (98) - Spinshuttle 5G (104) - Link: 
 https://www.badmintonvlaanderen.be/sport/teammatch.aspx?id=A0E9B3BE-1D47-4
 28D-8EB5-7807839F7498&match=1254
DTSTART;TZID=Europe/Brussels:20260121T100000
DTEND;TZID=Europe/Brussels:20260121T100000
END:VEVENT
BEGIN:VEVENT
UID:A0E9B3BE-1D47-428D-8EB5-7807839F7498-30-1252_awayreminder@187.badminton
 ners.net
DTSTAMP:20260420T043747Z
SUMMARY:Uitmatch bevestigd? (Amateurs 1G (110) - Spinshuttle 5G (104))
DESCRIPTION:Je hebt 72 uur na aanvang om een uitmatch op Badmintonvlaandere
 n in te vullen. Match info: Amateurs 1G (110) - Spinshuttle 5G (104) - Lin
 k: https://www.badmintonvlaanderen.be/sport/teammatch.aspx?id=A0E9B3BE-1D4
 7-428D-8EB5-7807839F7498&match=1252
DTSTART;TZID=Europe/Brussels:20260226T200000
DTEND;TZID=Europe/Brussels:20260226T200000
END:VEVENT
BEGIN:VEVENT
UID:A0E9B3BE-1D47-428D-8EB5-7807839F7498-30-1256_awayreminder@187.badminton
 ners.net
DTSTAMP:20260420T043747Z
SUMMARY:Uitmatch bevestigd? (Plumula 3G (105) - Spinshuttle 5G (104))
DESCRIPTION:Je hebt 72 uur na aanvang om een uitmatch op Badmintonvlaandere
 n in te vullen. Match info: Plumula 3G (105) - Spinshuttle 5G (104) - Link
 : https://www.badmintonvlaanderen.be/sport/teammatch.aspx?id=A0E9B3BE-1D47
 -428D-8EB5-7807839F7498&match=1256
DTSTART;TZID=Europe/Brussels:20260429T173000
DTEND;TZID=Europe/Brussels:20260429T173000
END:VEVENT
END:VCALENDAR