BEGIN:VCALENDAR
VERSION:2.0
PRODID:spatie/icalendar-generator
NAME:klein_boom_7g_105_reminders
X-WR-CALNAME:klein_boom_7g_105_reminders
BEGIN:VTIMEZONE
TZID:Europe/Brussels
BEGIN:DAYLIGHT
DTSTART:20250330T010000
TZOFFSETFROM:+0100
TZOFFSETTO:+0200
END:DAYLIGHT
BEGIN:STANDARD
DTSTART:20251026T030000
TZOFFSETFROM:+0200
TZOFFSETTO:+0100
END:STANDARD
BEGIN:DAYLIGHT
DTSTART:20260329T010000
TZOFFSETFROM:+0100
TZOFFSETTO:+0200
END:DAYLIGHT
END:VTIMEZONE
BEGIN:VTIMEZONE
TZID:UTC
BEGIN:STANDARD
DTSTART:20250724T055151
TZOFFSETFROM:+0000
TZOFFSETTO:+0000
END:STANDARD
END:VTIMEZONE
BEGIN:VEVENT
UID:A0E9B3BE-1D47-428D-8EB5-7807839F7498-30-1263_homereminder@188.badminton
 ners.net
DTSTAMP:20260420T055151Z
SUMMARY:Thuismatch ingevuld? (Klein Boom 7G (105) - Duffel 2G (118))
DESCRIPTION:Je hebt 36 uur na aanvang om een thuismatch op Badmintonvlaande
 ren in te vullen. Match info: Klein Boom 7G (105) - Duffel 2G (118) - Link
 : https://www.badmintonvlaanderen.be/sport/teammatch.aspx?id=A0E9B3BE-1D47
 -428D-8EB5-7807839F7498&match=1263
DTSTART;TZID=Europe/Brussels:20250916T070000
DTEND;TZID=Europe/Brussels:20250916T070000
END:VEVENT
BEGIN:VEVENT
UID:A0E9B3BE-1D47-428D-8EB5-7807839F7498-30-1268_homereminder@188.badminton
 ners.net
DTSTAMP:20260420T055151Z
SUMMARY:Thuismatch ingevuld? (Klein Boom 7G (105) - Plumula 3G (105))
DESCRIPTION:Je hebt 36 uur na aanvang om een thuismatch op Badmintonvlaande
 ren in te vullen. Match info: Klein Boom 7G (105) - Plumula 3G (105) - Lin
 k: https://www.badmintonvlaanderen.be/sport/teammatch.aspx?id=A0E9B3BE-1D4
 7-428D-8EB5-7807839F7498&match=1268
DTSTART;TZID=Europe/Brussels:20251125T070000
DTEND;TZID=Europe/Brussels:20251125T070000
END:VEVENT
BEGIN:VEVENT
UID:A0E9B3BE-1D47-428D-8EB5-7807839F7498-30-1253_homereminder@188.badminton
 ners.net
DTSTAMP:20260420T055151Z
SUMMARY:Thuismatch ingevuld? (Klein Boom 7G (105) - Spinshuttle 5G (104))
DESCRIPTION:Je hebt 36 uur na aanvang om een thuismatch op Badmintonvlaande
 ren in te vullen. Match info: Klein Boom 7G (105) - Spinshuttle 5G (104) -
  Link: https://www.badmintonvlaanderen.be/sport/teammatch.aspx?id=A0E9B3BE
 -1D47-428D-8EB5-7807839F7498&match=1253
DTSTART;TZID=Europe/Brussels:20251223T070000
DTEND;TZID=Europe/Brussels:20251223T070000
END:VEVENT
BEGIN:VEVENT
UID:A0E9B3BE-1D47-428D-8EB5-7807839F7498-30-1242_homereminder@188.badminton
 ners.net
DTSTAMP:20260420T055151Z
SUMMARY:Thuismatch ingevuld? (Klein Boom 7G (105) - Amateurs 1G (110))
DESCRIPTION:Je hebt 36 uur na aanvang om een thuismatch op Badmintonvlaande
 ren in te vullen. Match info: Klein Boom 7G (105) - Amateurs 1G (110) - Li
 nk: https://www.badmintonvlaanderen.be/sport/teammatch.aspx?id=A0E9B3BE-1D
 47-428D-8EB5-7807839F7498&match=1242
DTSTART;TZID=Europe/Brussels:20260203T070000
DTEND;TZID=Europe/Brussels:20260203T070000
END:VEVENT
BEGIN:VEVENT
UID:A0E9B3BE-1D47-428D-8EB5-7807839F7498-30-1258_homereminder@188.badminton
 ners.net
DTSTAMP:20260420T055151Z
SUMMARY:Thuismatch ingevuld? (Klein Boom 7G (105) - Beerke 4G (98))
DESCRIPTION:Je hebt 36 uur na aanvang om een thuismatch op Badmintonvlaande
 ren in te vullen. Match info: Klein Boom 7G (105) - Beerke 4G (98) - Link:
  https://www.badmintonvlaanderen.be/sport/teammatch.aspx?id=A0E9B3BE-1D47-
 428D-8EB5-7807839F7498&match=1258
DTSTART;TZID=Europe/Brussels:20260414T070000
DTEND;TZID=Europe/Brussels:20260414T070000
END:VEVENT
BEGIN:VEVENT
UID:A0E9B3BE-1D47-428D-8EB5-7807839F7498-30-1247_awayreminder@188.badminton
 ners.net
DTSTAMP:20260420T055151Z
SUMMARY:Uitmatch bevestigd? (Amateurs 1G (110) - Klein Boom 7G (105))
DESCRIPTION:Je hebt 72 uur na aanvang om een uitmatch op Badmintonvlaandere
 n in te vullen. Match info: Amateurs 1G (110) - Klein Boom 7G (105) - Link
 : https://www.badmintonvlaanderen.be/sport/teammatch.aspx?id=A0E9B3BE-1D47
 -428D-8EB5-7807839F7498&match=1247
DTSTART;TZID=Europe/Brussels:20251009T200000
DTEND;TZID=Europe/Brussels:20251009T200000
END:VEVENT
BEGIN:VEVENT
UID:A0E9B3BE-1D47-428D-8EB5-7807839F7498-30-1249_awayreminder@188.badminton
 ners.net
DTSTAMP:20260420T055151Z
SUMMARY:Uitmatch bevestigd? (Beerke 4G (98) - Klein Boom 7G (105))
DESCRIPTION:Je hebt 72 uur na aanvang om een uitmatch op Badmintonvlaandere
 n in te vullen. Match info: Beerke 4G (98) - Klein Boom 7G (105) - Link: h
 ttps://www.badmintonvlaanderen.be/sport/teammatch.aspx?id=A0E9B3BE-1D47-42
 8D-8EB5-7807839F7498&match=1249
DTSTART;TZID=Europe/Brussels:20251029T100000
DTEND;TZID=Europe/Brussels:20251029T100000
END:VEVENT
BEGIN:VEVENT
UID:A0E9B3BE-1D47-428D-8EB5-7807839F7498-30-1250_awayreminder@188.badminton
 ners.net
DTSTAMP:20260420T055151Z
SUMMARY:Uitmatch bevestigd? (Duffel 2G (118) - Klein Boom 7G (105))
DESCRIPTION:Je hebt 72 uur na aanvang om een uitmatch op Badmintonvlaandere
 n in te vullen. Match info: Duffel 2G (118) - Klein Boom 7G (105) - Link: 
 https://www.badmintonvlaanderen.be/sport/teammatch.aspx?id=A0E9B3BE-1D47-4
 28D-8EB5-7807839F7498&match=1250
DTSTART;TZID=Europe/Brussels:20260121T200000
DTEND;TZID=Europe/Brussels:20260121T200000
END:VEVENT
BEGIN:VEVENT
UID:A0E9B3BE-1D47-428D-8EB5-7807839F7498-30-1251_awayreminder@188.badminton
 ners.net
DTSTAMP:20260420T055151Z
SUMMARY:Uitmatch bevestigd? (Plumula 3G (105) - Klein Boom 7G (105))
DESCRIPTION:Je hebt 72 uur na aanvang om een uitmatch op Badmintonvlaandere
 n in te vullen. Match info: Plumula 3G (105) - Klein Boom 7G (105) - Link:
  https://www.badmintonvlaanderen.be/sport/teammatch.aspx?id=A0E9B3BE-1D47-
 428D-8EB5-7807839F7498&match=1251
DTSTART;TZID=Europe/Brussels:20260304T173000
DTEND;TZID=Europe/Brussels:20260304T173000
END:VEVENT
BEGIN:VEVENT
UID:A0E9B3BE-1D47-428D-8EB5-7807839F7498-30-1248_awayreminder@188.badminton
 ners.net
DTSTAMP:20260420T055151Z
SUMMARY:Uitmatch bevestigd? (Spinshuttle 5G (104) - Klein Boom 7G (105))
DESCRIPTION:Je hebt 72 uur na aanvang om een uitmatch op Badmintonvlaandere
 n in te vullen. Match info: Spinshuttle 5G (104) - Klein Boom 7G (105) - L
 ink: https://www.badmintonvlaanderen.be/sport/teammatch.aspx?id=A0E9B3BE-1
 D47-428D-8EB5-7807839F7498&match=1248
DTSTART;TZID=Europe/Brussels:20260329T210000
DTEND;TZID=Europe/Brussels:20260329T210000
END:VEVENT
END:VCALENDAR