BEGIN:VCALENDAR
VERSION:2.0
PRODID:spatie/icalendar-generator
NAME:plumula_3g_105_reminders
X-WR-CALNAME:plumula_3g_105_reminders
BEGIN:VTIMEZONE
TZID:Europe/Brussels
BEGIN:DAYLIGHT
DTSTART:20250330T010000
TZOFFSETFROM:+0100
TZOFFSETTO:+0200
END:DAYLIGHT
BEGIN:STANDARD
DTSTART:20251026T030000
TZOFFSETFROM:+0200
TZOFFSETTO:+0100
END:STANDARD
BEGIN:DAYLIGHT
DTSTART:20260329T010000
TZOFFSETFROM:+0100
TZOFFSETTO:+0200
END:DAYLIGHT
BEGIN:STANDARD
DTSTART:20261025T030000
TZOFFSETFROM:+0200
TZOFFSETTO:+0100
END:STANDARD
END:VTIMEZONE
BEGIN:VTIMEZONE
TZID:UTC
BEGIN:STANDARD
DTSTART:20250724T043608
TZOFFSETFROM:+0000
TZOFFSETTO:+0000
END:STANDARD
END:VTIMEZONE
BEGIN:VEVENT
UID:A0E9B3BE-1D47-428D-8EB5-7807839F7498-30-1261_homereminder@189.badminton
 ners.net
DTSTAMP:20260420T043608Z
SUMMARY:Thuismatch ingevuld? (Plumula 3G (105) - Beerke 4G (98))
DESCRIPTION:Je hebt 36 uur na aanvang om een thuismatch op Badmintonvlaande
 ren in te vullen. Match info: Plumula 3G (105) - Beerke 4G (98) - Link: ht
 tps://www.badmintonvlaanderen.be/sport/teammatch.aspx?id=A0E9B3BE-1D47-428
 D-8EB5-7807839F7498&match=1261
DTSTART;TZID=Europe/Brussels:20251014T053000
DTEND;TZID=Europe/Brussels:20251014T053000
END:VEVENT
BEGIN:VEVENT
UID:A0E9B3BE-1D47-428D-8EB5-7807839F7498-30-1266_homereminder@189.badminton
 ners.net
DTSTAMP:20260420T043608Z
SUMMARY:Thuismatch ingevuld? (Plumula 3G (105) - Duffel 2G (118))
DESCRIPTION:Je hebt 36 uur na aanvang om een thuismatch op Badmintonvlaande
 ren in te vullen. Match info: Plumula 3G (105) - Duffel 2G (118) - Link: h
 ttps://www.badmintonvlaanderen.be/sport/teammatch.aspx?id=A0E9B3BE-1D47-42
 8D-8EB5-7807839F7498&match=1266
DTSTART;TZID=Europe/Brussels:20251223T053000
DTEND;TZID=Europe/Brussels:20251223T053000
END:VEVENT
BEGIN:VEVENT
UID:A0E9B3BE-1D47-428D-8EB5-7807839F7498-30-1246_homereminder@189.badminton
 ners.net
DTSTAMP:20260420T043608Z
SUMMARY:Thuismatch ingevuld? (Plumula 3G (105) - Amateurs 1G (110))
DESCRIPTION:Je hebt 36 uur na aanvang om een thuismatch op Badmintonvlaande
 ren in te vullen. Match info: Plumula 3G (105) - Amateurs 1G (110) - Link:
  https://www.badmintonvlaanderen.be/sport/teammatch.aspx?id=A0E9B3BE-1D47-
 428D-8EB5-7807839F7498&match=1246
DTSTART;TZID=Europe/Brussels:20260120T053000
DTEND;TZID=Europe/Brussels:20260120T053000
END:VEVENT
BEGIN:VEVENT
UID:A0E9B3BE-1D47-428D-8EB5-7807839F7498-30-1251_homereminder@189.badminton
 ners.net
DTSTAMP:20260420T043608Z
SUMMARY:Thuismatch ingevuld? (Plumula 3G (105) - Klein Boom 7G (105))
DESCRIPTION:Je hebt 36 uur na aanvang om een thuismatch op Badmintonvlaande
 ren in te vullen. Match info: Plumula 3G (105) - Klein Boom 7G (105) - Lin
 k: https://www.badmintonvlaanderen.be/sport/teammatch.aspx?id=A0E9B3BE-1D4
 7-428D-8EB5-7807839F7498&match=1251
DTSTART;TZID=Europe/Brussels:20260303T053000
DTEND;TZID=Europe/Brussels:20260303T053000
END:VEVENT
BEGIN:VEVENT
UID:A0E9B3BE-1D47-428D-8EB5-7807839F7498-30-1256_homereminder@189.badminton
 ners.net
DTSTAMP:20260420T043608Z
SUMMARY:Thuismatch ingevuld? (Plumula 3G (105) - Spinshuttle 5G (104))
DESCRIPTION:Je hebt 36 uur na aanvang om een thuismatch op Badmintonvlaande
 ren in te vullen. Match info: Plumula 3G (105) - Spinshuttle 5G (104) - Li
 nk: https://www.badmintonvlaanderen.be/sport/teammatch.aspx?id=A0E9B3BE-1D
 47-428D-8EB5-7807839F7498&match=1256
DTSTART;TZID=Europe/Brussels:20260428T053000
DTEND;TZID=Europe/Brussels:20260428T053000
END:VEVENT
BEGIN:VEVENT
UID:A0E9B3BE-1D47-428D-8EB5-7807839F7498-30-1267_awayreminder@189.badminton
 ners.net
DTSTAMP:20260420T043608Z
SUMMARY:Uitmatch bevestigd? (Amateurs 1G (110) - Plumula 3G (105))
DESCRIPTION:Je hebt 72 uur na aanvang om een uitmatch op Badmintonvlaandere
 n in te vullen. Match info: Amateurs 1G (110) - Plumula 3G (105) - Link: h
 ttps://www.badmintonvlaanderen.be/sport/teammatch.aspx?id=A0E9B3BE-1D47-42
 8D-8EB5-7807839F7498&match=1267
DTSTART;TZID=Europe/Brussels:20250911T200000
DTEND;TZID=Europe/Brussels:20250911T200000
END:VEVENT
BEGIN:VEVENT
UID:A0E9B3BE-1D47-428D-8EB5-7807839F7498-30-1268_awayreminder@189.badminton
 ners.net
DTSTAMP:20260420T043608Z
SUMMARY:Uitmatch bevestigd? (Klein Boom 7G (105) - Plumula 3G (105))
DESCRIPTION:Je hebt 72 uur na aanvang om een uitmatch op Badmintonvlaandere
 n in te vullen. Match info: Klein Boom 7G (105) - Plumula 3G (105) - Link:
  https://www.badmintonvlaanderen.be/sport/teammatch.aspx?id=A0E9B3BE-1D47-
 428D-8EB5-7807839F7498&match=1268
DTSTART;TZID=Europe/Brussels:20251126T190000
DTEND;TZID=Europe/Brussels:20251126T190000
END:VEVENT
BEGIN:VEVENT
UID:A0E9B3BE-1D47-428D-8EB5-7807839F7498-30-1269_awayreminder@189.badminton
 ners.net
DTSTAMP:20260420T043608Z
SUMMARY:Uitmatch bevestigd? (Spinshuttle 5G (104) - Plumula 3G (105))
DESCRIPTION:Je hebt 72 uur na aanvang om een uitmatch op Badmintonvlaandere
 n in te vullen. Match info: Spinshuttle 5G (104) - Plumula 3G (105) - Link
 : https://www.badmintonvlaanderen.be/sport/teammatch.aspx?id=A0E9B3BE-1D47
 -428D-8EB5-7807839F7498&match=1269
DTSTART;TZID=Europe/Brussels:20251128T200000
DTEND;TZID=Europe/Brussels:20251128T200000
END:VEVENT
BEGIN:VEVENT
UID:A0E9B3BE-1D47-428D-8EB5-7807839F7498-30-1270_awayreminder@189.badminton
 ners.net
DTSTAMP:20260420T043608Z
SUMMARY:Uitmatch bevestigd? (Beerke 4G (98) - Plumula 3G (105))
DESCRIPTION:Je hebt 72 uur na aanvang om een uitmatch op Badmintonvlaandere
 n in te vullen. Match info: Beerke 4G (98) - Plumula 3G (105) - Link: http
 s://www.badmintonvlaanderen.be/sport/teammatch.aspx?id=A0E9B3BE-1D47-428D-
 8EB5-7807839F7498&match=1270
DTSTART;TZID=Europe/Brussels:20260218T100000
DTEND;TZID=Europe/Brussels:20260218T100000
END:VEVENT
BEGIN:VEVENT
UID:A0E9B3BE-1D47-428D-8EB5-7807839F7498-30-1271_awayreminder@189.badminton
 ners.net
DTSTAMP:20260420T043608Z
SUMMARY:Uitmatch bevestigd? (Duffel 2G (118) - Plumula 3G (105))
DESCRIPTION:Je hebt 72 uur na aanvang om een uitmatch op Badmintonvlaandere
 n in te vullen. Match info: Duffel 2G (118) - Plumula 3G (105) - Link: htt
 ps://www.badmintonvlaanderen.be/sport/teammatch.aspx?id=A0E9B3BE-1D47-428D
 -8EB5-7807839F7498&match=1271
DTSTART;TZID=Europe/Brussels:20260415T200000
DTEND;TZID=Europe/Brussels:20260415T200000
END:VEVENT
END:VCALENDAR