BEGIN:VCALENDAR
VERSION:2.0
PRODID:spatie/icalendar-generator
NAME:klein_boom_8g_125_reminders
X-WR-CALNAME:klein_boom_8g_125_reminders
BEGIN:VTIMEZONE
TZID:Europe/Brussels
BEGIN:DAYLIGHT
DTSTART:20250330T010000
TZOFFSETFROM:+0100
TZOFFSETTO:+0200
END:DAYLIGHT
BEGIN:STANDARD
DTSTART:20251026T030000
TZOFFSETFROM:+0200
TZOFFSETTO:+0100
END:STANDARD
BEGIN:DAYLIGHT
DTSTART:20260329T010000
TZOFFSETFROM:+0100
TZOFFSETTO:+0200
END:DAYLIGHT
END:VTIMEZONE
BEGIN:VTIMEZONE
TZID:UTC
BEGIN:STANDARD
DTSTART:20250724T043625
TZOFFSETFROM:+0000
TZOFFSETTO:+0000
END:STANDARD
END:VTIMEZONE
BEGIN:VEVENT
UID:A0E9B3BE-1D47-428D-8EB5-7807839F7498-31-1291_homereminder@196.badminton
 ners.net
DTSTAMP:20260420T043625Z
SUMMARY:Thuismatch ingevuld? (Klein Boom 8G (125) - Baret 1G (132))
DESCRIPTION:Je hebt 36 uur na aanvang om een thuismatch op Badmintonvlaande
 ren in te vullen. Match info: Klein Boom 8G (125) - Baret 1G (132) - Link:
  https://www.badmintonvlaanderen.be/sport/teammatch.aspx?id=A0E9B3BE-1D47-
 428D-8EB5-7807839F7498&match=1291
DTSTART;TZID=Europe/Brussels:20250916T070000
DTEND;TZID=Europe/Brussels:20250916T070000
END:VEVENT
BEGIN:VEVENT
UID:A0E9B3BE-1D47-428D-8EB5-7807839F7498-31-1327_homereminder@196.badminton
 ners.net
DTSTAMP:20260420T043625Z
SUMMARY:Thuismatch ingevuld? (Klein Boom 8G (125) - Geelse 1G (122))
DESCRIPTION:Je hebt 36 uur na aanvang om een thuismatch op Badmintonvlaande
 ren in te vullen. Match info: Klein Boom 8G (125) - Geelse 1G (122) - Link
 : https://www.badmintonvlaanderen.be/sport/teammatch.aspx?id=A0E9B3BE-1D47
 -428D-8EB5-7807839F7498&match=1327
DTSTART;TZID=Europe/Brussels:20251014T070000
DTEND;TZID=Europe/Brussels:20251014T070000
END:VEVENT
BEGIN:VEVENT
UID:A0E9B3BE-1D47-428D-8EB5-7807839F7498-31-1305_homereminder@196.badminton
 ners.net
DTSTAMP:20260420T043625Z
SUMMARY:Thuismatch ingevuld? (Klein Boom 8G (125) - Oelegem 1G (139))
DESCRIPTION:Je hebt 36 uur na aanvang om een thuismatch op Badmintonvlaande
 ren in te vullen. Match info: Klein Boom 8G (125) - Oelegem 1G (139) - Lin
 k: https://www.badmintonvlaanderen.be/sport/teammatch.aspx?id=A0E9B3BE-1D4
 7-428D-8EB5-7807839F7498&match=1305
DTSTART;TZID=Europe/Brussels:20251111T070000
DTEND;TZID=Europe/Brussels:20251111T070000
END:VEVENT
BEGIN:VEVENT
UID:A0E9B3BE-1D47-428D-8EB5-7807839F7498-31-1334_homereminder@196.badminton
 ners.net
DTSTAMP:20260420T043625Z
SUMMARY:Thuismatch ingevuld? (Klein Boom 8G (125) - Duffel 3G (128))
DESCRIPTION:Je hebt 36 uur na aanvang om een thuismatch op Badmintonvlaande
 ren in te vullen. Match info: Klein Boom 8G (125) - Duffel 3G (128) - Link
 : https://www.badmintonvlaanderen.be/sport/teammatch.aspx?id=A0E9B3BE-1D47
 -428D-8EB5-7807839F7498&match=1334
DTSTART;TZID=Europe/Brussels:20260303T070000
DTEND;TZID=Europe/Brussels:20260303T070000
END:VEVENT
BEGIN:VEVENT
UID:A0E9B3BE-1D47-428D-8EB5-7807839F7498-31-1298_homereminder@196.badminton
 ners.net
DTSTAMP:20260420T043625Z
SUMMARY:Thuismatch ingevuld? (Klein Boom 8G (125) - Smash 3G (123))
DESCRIPTION:Je hebt 36 uur na aanvang om een thuismatch op Badmintonvlaande
 ren in te vullen. Match info: Klein Boom 8G (125) - Smash 3G (123) - Link:
  https://www.badmintonvlaanderen.be/sport/teammatch.aspx?id=A0E9B3BE-1D47-
 428D-8EB5-7807839F7498&match=1298
DTSTART;TZID=Europe/Brussels:20260407T070000
DTEND;TZID=Europe/Brussels:20260407T070000
END:VEVENT
BEGIN:VEVENT
UID:A0E9B3BE-1D47-428D-8EB5-7807839F7498-31-1284_homereminder@196.badminton
 ners.net
DTSTAMP:20260420T043625Z
SUMMARY:Thuismatch ingevuld? (Klein Boom 8G (125) - Olve 7G (124))
DESCRIPTION:Je hebt 36 uur na aanvang om een thuismatch op Badmintonvlaande
 ren in te vullen. Match info: Klein Boom 8G (125) - Olve 7G (124) - Link: 
 https://www.badmintonvlaanderen.be/sport/teammatch.aspx?id=A0E9B3BE-1D47-4
 28D-8EB5-7807839F7498&match=1284
DTSTART;TZID=Europe/Brussels:20260414T070000
DTEND;TZID=Europe/Brussels:20260414T070000
END:VEVENT
BEGIN:VEVENT
UID:A0E9B3BE-1D47-428D-8EB5-7807839F7498-31-1312_homereminder@196.badminton
 ners.net
DTSTAMP:20260420T043625Z
SUMMARY:Thuismatch ingevuld? (Klein Boom 8G (125) - Merksplas 4G (127))
DESCRIPTION:Je hebt 36 uur na aanvang om een thuismatch op Badmintonvlaande
 ren in te vullen. Match info: Klein Boom 8G (125) - Merksplas 4G (127) - L
 ink: https://www.badmintonvlaanderen.be/sport/teammatch.aspx?id=A0E9B3BE-1
 D47-428D-8EB5-7807839F7498&match=1312
DTSTART;TZID=Europe/Brussels:20260422T080000
DTEND;TZID=Europe/Brussels:20260422T080000
END:VEVENT
BEGIN:VEVENT
UID:A0E9B3BE-1D47-428D-8EB5-7807839F7498-31-1315_awayreminder@196.badminton
 ners.net
DTSTAMP:20260420T043625Z
SUMMARY:Uitmatch bevestigd? (Olve 7G (124) - Klein Boom 8G (125))
DESCRIPTION:Je hebt 72 uur na aanvang om een uitmatch op Badmintonvlaandere
 n in te vullen. Match info: Olve 7G (124) - Klein Boom 8G (125) - Link: ht
 tps://www.badmintonvlaanderen.be/sport/teammatch.aspx?id=A0E9B3BE-1D47-428
 D-8EB5-7807839F7498&match=1315
DTSTART;TZID=Europe/Brussels:20251021T103000
DTEND;TZID=Europe/Brussels:20251021T103000
END:VEVENT
BEGIN:VEVENT
UID:A0E9B3BE-1D47-428D-8EB5-7807839F7498-31-1321_awayreminder@196.badminton
 ners.net
DTSTAMP:20260420T043625Z
SUMMARY:Uitmatch bevestigd? (Duffel 3G (128) - Klein Boom 8G (125))
DESCRIPTION:Je hebt 72 uur na aanvang om een uitmatch op Badmintonvlaandere
 n in te vullen. Match info: Duffel 3G (128) - Klein Boom 8G (125) - Link: 
 https://www.badmintonvlaanderen.be/sport/teammatch.aspx?id=A0E9B3BE-1D47-4
 28D-8EB5-7807839F7498&match=1321
DTSTART;TZID=Europe/Brussels:20251029T200000
DTEND;TZID=Europe/Brussels:20251029T200000
END:VEVENT
BEGIN:VEVENT
UID:A0E9B3BE-1D47-428D-8EB5-7807839F7498-31-1319_awayreminder@196.badminton
 ners.net
DTSTAMP:20260420T043625Z
SUMMARY:Uitmatch bevestigd? (Merksplas 4G (127) - Klein Boom 8G (125))
DESCRIPTION:Je hebt 72 uur na aanvang om een uitmatch op Badmintonvlaandere
 n in te vullen. Match info: Merksplas 4G (127) - Klein Boom 8G (125) - Lin
 k: https://www.badmintonvlaanderen.be/sport/teammatch.aspx?id=A0E9B3BE-1D4
 7-428D-8EB5-7807839F7498&match=1319
DTSTART;TZID=Europe/Brussels:20251126T183000
DTEND;TZID=Europe/Brussels:20251126T183000
END:VEVENT
BEGIN:VEVENT
UID:A0E9B3BE-1D47-428D-8EB5-7807839F7498-31-1317_awayreminder@196.badminton
 ners.net
DTSTAMP:20260420T043625Z
SUMMARY:Uitmatch bevestigd? (Smash 3G (123) - Klein Boom 8G (125))
DESCRIPTION:Je hebt 72 uur na aanvang om een uitmatch op Badmintonvlaandere
 n in te vullen. Match info: Smash 3G (123) - Klein Boom 8G (125) - Link: h
 ttps://www.badmintonvlaanderen.be/sport/teammatch.aspx?id=A0E9B3BE-1D47-42
 8D-8EB5-7807839F7498&match=1317
DTSTART;TZID=Europe/Brussels:20251224T100000
DTEND;TZID=Europe/Brussels:20251224T100000
END:VEVENT
BEGIN:VEVENT
UID:A0E9B3BE-1D47-428D-8EB5-7807839F7498-31-1318_awayreminder@196.badminton
 ners.net
DTSTAMP:20260420T043625Z
SUMMARY:Uitmatch bevestigd? (Oelegem 1G (139) - Klein Boom 8G (125))
DESCRIPTION:Je hebt 72 uur na aanvang om een uitmatch op Badmintonvlaandere
 n in te vullen. Match info: Oelegem 1G (139) - Klein Boom 8G (125) - Link:
  https://www.badmintonvlaanderen.be/sport/teammatch.aspx?id=A0E9B3BE-1D47-
 428D-8EB5-7807839F7498&match=1318
DTSTART;TZID=Europe/Brussels:20260313T200000
DTEND;TZID=Europe/Brussels:20260313T200000
END:VEVENT
BEGIN:VEVENT
UID:A0E9B3BE-1D47-428D-8EB5-7807839F7498-31-1320_awayreminder@196.badminton
 ners.net
DTSTAMP:20260420T043625Z
SUMMARY:Uitmatch bevestigd? (Geelse 1G (122) - Klein Boom 8G (125))
DESCRIPTION:Je hebt 72 uur na aanvang om een uitmatch op Badmintonvlaandere
 n in te vullen. Match info: Geelse 1G (122) - Klein Boom 8G (125) - Link: 
 https://www.badmintonvlaanderen.be/sport/teammatch.aspx?id=A0E9B3BE-1D47-4
 28D-8EB5-7807839F7498&match=1320
DTSTART;TZID=Europe/Brussels:20260322T200000
DTEND;TZID=Europe/Brussels:20260322T200000
END:VEVENT
BEGIN:VEVENT
UID:A0E9B3BE-1D47-428D-8EB5-7807839F7498-31-1316_awayreminder@196.badminton
 ners.net
DTSTAMP:20260420T043625Z
SUMMARY:Uitmatch bevestigd? (Baret 1G (132) - Klein Boom 8G (125))
DESCRIPTION:Je hebt 72 uur na aanvang om een uitmatch op Badmintonvlaandere
 n in te vullen. Match info: Baret 1G (132) - Klein Boom 8G (125) - Link: h
 ttps://www.badmintonvlaanderen.be/sport/teammatch.aspx?id=A0E9B3BE-1D47-42
 8D-8EB5-7807839F7498&match=1316
DTSTART;TZID=Europe/Brussels:20260326T200000
DTEND;TZID=Europe/Brussels:20260326T200000
END:VEVENT
END:VCALENDAR