BEGIN:VCALENDAR
VERSION:2.0
PRODID:spatie/icalendar-generator
NAME:duffel_3g_128_reminders
X-WR-CALNAME:duffel_3g_128_reminders
BEGIN:VTIMEZONE
TZID:Europe/Brussels
BEGIN:DAYLIGHT
DTSTART:20250330T010000
TZOFFSETFROM:+0100
TZOFFSETTO:+0200
END:DAYLIGHT
BEGIN:STANDARD
DTSTART:20251026T030000
TZOFFSETFROM:+0200
TZOFFSETTO:+0100
END:STANDARD
BEGIN:DAYLIGHT
DTSTART:20260329T010000
TZOFFSETFROM:+0100
TZOFFSETTO:+0200
END:DAYLIGHT
BEGIN:STANDARD
DTSTART:20261025T030000
TZOFFSETFROM:+0200
TZOFFSETTO:+0100
END:STANDARD
END:VTIMEZONE
BEGIN:VTIMEZONE
TZID:UTC
BEGIN:STANDARD
DTSTART:20250724T043754
TZOFFSETFROM:+0000
TZOFFSETTO:+0000
END:STANDARD
END:VTIMEZONE
BEGIN:VEVENT
UID:A0E9B3BE-1D47-428D-8EB5-7807839F7498-31-1328_homereminder@198.badminton
 ners.net
DTSTAMP:20260420T043754Z
SUMMARY:Thuismatch ingevuld? (Duffel 3G (128) - Geelse 1G (122))
DESCRIPTION:Je hebt 36 uur na aanvang om een thuismatch op Badmintonvlaande
 ren in te vullen. Match info: Duffel 3G (128) - Geelse 1G (122) - Link: ht
 tps://www.badmintonvlaanderen.be/sport/teammatch.aspx?id=A0E9B3BE-1D47-428
 D-8EB5-7807839F7498&match=1328
DTSTART;TZID=Europe/Brussels:20250930T080000
DTEND;TZID=Europe/Brussels:20250930T080000
END:VEVENT
BEGIN:VEVENT
UID:A0E9B3BE-1D47-428D-8EB5-7807839F7498-31-1321_homereminder@198.badminton
 ners.net
DTSTAMP:20260420T043754Z
SUMMARY:Thuismatch ingevuld? (Duffel 3G (128) - Klein Boom 8G (125))
DESCRIPTION:Je hebt 36 uur na aanvang om een thuismatch op Badmintonvlaande
 ren in te vullen. Match info: Duffel 3G (128) - Klein Boom 8G (125) - Link
 : https://www.badmintonvlaanderen.be/sport/teammatch.aspx?id=A0E9B3BE-1D47
 -428D-8EB5-7807839F7498&match=1321
DTSTART;TZID=Europe/Brussels:20251028T080000
DTEND;TZID=Europe/Brussels:20251028T080000
END:VEVENT
BEGIN:VEVENT
UID:A0E9B3BE-1D47-428D-8EB5-7807839F7498-31-1314_homereminder@198.badminton
 ners.net
DTSTAMP:20260420T043754Z
SUMMARY:Thuismatch ingevuld? (Duffel 3G (128) - Merksplas 4G (127))
DESCRIPTION:Je hebt 36 uur na aanvang om een thuismatch op Badmintonvlaande
 ren in te vullen. Match info: Duffel 3G (128) - Merksplas 4G (127) - Link:
  https://www.badmintonvlaanderen.be/sport/teammatch.aspx?id=A0E9B3BE-1D47-
 428D-8EB5-7807839F7498&match=1314
DTSTART;TZID=Europe/Brussels:20251223T080000
DTEND;TZID=Europe/Brussels:20251223T080000
END:VEVENT
BEGIN:VEVENT
UID:A0E9B3BE-1D47-428D-8EB5-7807839F7498-31-1286_homereminder@198.badminton
 ners.net
DTSTAMP:20260420T043754Z
SUMMARY:Thuismatch ingevuld? (Duffel 3G (128) - Olve 7G (124))
DESCRIPTION:Je hebt 36 uur na aanvang om een thuismatch op Badmintonvlaande
 ren in te vullen. Match info: Duffel 3G (128) - Olve 7G (124) - Link: http
 s://www.badmintonvlaanderen.be/sport/teammatch.aspx?id=A0E9B3BE-1D47-428D-
 8EB5-7807839F7498&match=1286
DTSTART;TZID=Europe/Brussels:20260120T080000
DTEND;TZID=Europe/Brussels:20260120T080000
END:VEVENT
BEGIN:VEVENT
UID:A0E9B3BE-1D47-428D-8EB5-7807839F7498-31-1293_homereminder@198.badminton
 ners.net
DTSTAMP:20260420T043754Z
SUMMARY:Thuismatch ingevuld? (Duffel 3G (128) - Baret 1G (132))
DESCRIPTION:Je hebt 36 uur na aanvang om een thuismatch op Badmintonvlaande
 ren in te vullen. Match info: Duffel 3G (128) - Baret 1G (132) - Link: htt
 ps://www.badmintonvlaanderen.be/sport/teammatch.aspx?id=A0E9B3BE-1D47-428D
 -8EB5-7807839F7498&match=1293
DTSTART;TZID=Europe/Brussels:20260224T080000
DTEND;TZID=Europe/Brussels:20260224T080000
END:VEVENT
BEGIN:VEVENT
UID:A0E9B3BE-1D47-428D-8EB5-7807839F7498-31-1307_homereminder@198.badminton
 ners.net
DTSTAMP:20260420T043754Z
SUMMARY:Thuismatch ingevuld? (Duffel 3G (128) - Oelegem 1G (139))
DESCRIPTION:Je hebt 36 uur na aanvang om een thuismatch op Badmintonvlaande
 ren in te vullen. Match info: Duffel 3G (128) - Oelegem 1G (139) - Link: h
 ttps://www.badmintonvlaanderen.be/sport/teammatch.aspx?id=A0E9B3BE-1D47-42
 8D-8EB5-7807839F7498&match=1307
DTSTART;TZID=Europe/Brussels:20260331T080000
DTEND;TZID=Europe/Brussels:20260331T080000
END:VEVENT
BEGIN:VEVENT
UID:A0E9B3BE-1D47-428D-8EB5-7807839F7498-31-1300_homereminder@198.badminton
 ners.net
DTSTAMP:20260420T043754Z
SUMMARY:Thuismatch ingevuld? (Duffel 3G (128) - Smash 3G (123))
DESCRIPTION:Je hebt 36 uur na aanvang om een thuismatch op Badmintonvlaande
 ren in te vullen. Match info: Duffel 3G (128) - Smash 3G (123) - Link: htt
 ps://www.badmintonvlaanderen.be/sport/teammatch.aspx?id=A0E9B3BE-1D47-428D
 -8EB5-7807839F7498&match=1300
DTSTART;TZID=Europe/Brussels:20260428T080000
DTEND;TZID=Europe/Brussels:20260428T080000
END:VEVENT
BEGIN:VEVENT
UID:A0E9B3BE-1D47-428D-8EB5-7807839F7498-31-1331_awayreminder@198.badminton
 ners.net
DTSTAMP:20260420T043754Z
SUMMARY:Uitmatch bevestigd? (Smash 3G (123) - Duffel 3G (128))
DESCRIPTION:Je hebt 72 uur na aanvang om een uitmatch op Badmintonvlaandere
 n in te vullen. Match info: Smash 3G (123) - Duffel 3G (128) - Link: https
 ://www.badmintonvlaanderen.be/sport/teammatch.aspx?id=A0E9B3BE-1D47-428D-8
 EB5-7807839F7498&match=1331
DTSTART;TZID=Europe/Brussels:20251015T100000
DTEND;TZID=Europe/Brussels:20251015T100000
END:VEVENT
BEGIN:VEVENT
UID:A0E9B3BE-1D47-428D-8EB5-7807839F7498-31-1332_awayreminder@198.badminton
 ners.net
DTSTAMP:20260420T043754Z
SUMMARY:Uitmatch bevestigd? (Oelegem 1G (139) - Duffel 3G (128))
DESCRIPTION:Je hebt 72 uur na aanvang om een uitmatch op Badmintonvlaandere
 n in te vullen. Match info: Oelegem 1G (139) - Duffel 3G (128) - Link: htt
 ps://www.badmintonvlaanderen.be/sport/teammatch.aspx?id=A0E9B3BE-1D47-428D
 -8EB5-7807839F7498&match=1332
DTSTART;TZID=Europe/Brussels:20251024T200000
DTEND;TZID=Europe/Brussels:20251024T200000
END:VEVENT
BEGIN:VEVENT
UID:A0E9B3BE-1D47-428D-8EB5-7807839F7498-31-1329_awayreminder@198.badminton
 ners.net
DTSTAMP:20260420T043754Z
SUMMARY:Uitmatch bevestigd? (Olve 7G (124) - Duffel 3G (128))
DESCRIPTION:Je hebt 72 uur na aanvang om een uitmatch op Badmintonvlaandere
 n in te vullen. Match info: Olve 7G (124) - Duffel 3G (128) - Link: https:
 //www.badmintonvlaanderen.be/sport/teammatch.aspx?id=A0E9B3BE-1D47-428D-8E
 B5-7807839F7498&match=1329
DTSTART;TZID=Europe/Brussels:20251111T103000
DTEND;TZID=Europe/Brussels:20251111T103000
END:VEVENT
BEGIN:VEVENT
UID:A0E9B3BE-1D47-428D-8EB5-7807839F7498-31-1330_awayreminder@198.badminton
 ners.net
DTSTAMP:20260420T043754Z
SUMMARY:Uitmatch bevestigd? (Baret 1G (132) - Duffel 3G (128))
DESCRIPTION:Je hebt 72 uur na aanvang om een uitmatch op Badmintonvlaandere
 n in te vullen. Match info: Baret 1G (132) - Duffel 3G (128) - Link: https
 ://www.badmintonvlaanderen.be/sport/teammatch.aspx?id=A0E9B3BE-1D47-428D-8
 EB5-7807839F7498&match=1330
DTSTART;TZID=Europe/Brussels:20251120T200000
DTEND;TZID=Europe/Brussels:20251120T200000
END:VEVENT
BEGIN:VEVENT
UID:A0E9B3BE-1D47-428D-8EB5-7807839F7498-31-1333_awayreminder@198.badminton
 ners.net
DTSTAMP:20260420T043754Z
SUMMARY:Uitmatch bevestigd? (Merksplas 4G (127) - Duffel 3G (128))
DESCRIPTION:Je hebt 72 uur na aanvang om een uitmatch op Badmintonvlaandere
 n in te vullen. Match info: Merksplas 4G (127) - Duffel 3G (128) - Link: h
 ttps://www.badmintonvlaanderen.be/sport/teammatch.aspx?id=A0E9B3BE-1D47-42
 8D-8EB5-7807839F7498&match=1333
DTSTART;TZID=Europe/Brussels:20260204T183000
DTEND;TZID=Europe/Brussels:20260204T183000
END:VEVENT
BEGIN:VEVENT
UID:A0E9B3BE-1D47-428D-8EB5-7807839F7498-31-1334_awayreminder@198.badminton
 ners.net
DTSTAMP:20260420T043754Z
SUMMARY:Uitmatch bevestigd? (Klein Boom 8G (125) - Duffel 3G (128))
DESCRIPTION:Je hebt 72 uur na aanvang om een uitmatch op Badmintonvlaandere
 n in te vullen. Match info: Klein Boom 8G (125) - Duffel 3G (128) - Link: 
 https://www.badmintonvlaanderen.be/sport/teammatch.aspx?id=A0E9B3BE-1D47-4
 28D-8EB5-7807839F7498&match=1334
DTSTART;TZID=Europe/Brussels:20260304T190000
DTEND;TZID=Europe/Brussels:20260304T190000
END:VEVENT
BEGIN:VEVENT
UID:A0E9B3BE-1D47-428D-8EB5-7807839F7498-31-1335_awayreminder@198.badminton
 ners.net
DTSTAMP:20260420T043754Z
SUMMARY:Uitmatch bevestigd? (Geelse 1G (122) - Duffel 3G (128))
DESCRIPTION:Je hebt 72 uur na aanvang om een uitmatch op Badmintonvlaandere
 n in te vullen. Match info: Geelse 1G (122) - Duffel 3G (128) - Link: http
 s://www.badmintonvlaanderen.be/sport/teammatch.aspx?id=A0E9B3BE-1D47-428D-
 8EB5-7807839F7498&match=1335
DTSTART;TZID=Europe/Brussels:20260412T200000
DTEND;TZID=Europe/Brussels:20260412T200000
END:VEVENT
END:VCALENDAR