BEGIN:VCALENDAR
VERSION:2.0
PRODID:spatie/icalendar-generator
NAME:baret_1g_132_reminders
X-WR-CALNAME:baret_1g_132_reminders
BEGIN:VTIMEZONE
TZID:Europe/Brussels
BEGIN:DAYLIGHT
DTSTART:20250330T010000
TZOFFSETFROM:+0100
TZOFFSETTO:+0200
END:DAYLIGHT
BEGIN:STANDARD
DTSTART:20251026T030000
TZOFFSETFROM:+0200
TZOFFSETTO:+0100
END:STANDARD
BEGIN:DAYLIGHT
DTSTART:20260329T010000
TZOFFSETFROM:+0100
TZOFFSETTO:+0200
END:DAYLIGHT
END:VTIMEZONE
BEGIN:VTIMEZONE
TZID:UTC
BEGIN:STANDARD
DTSTART:20250724T042224
TZOFFSETFROM:+0000
TZOFFSETTO:+0000
END:STANDARD
END:VTIMEZONE
BEGIN:VEVENT
UID:A0E9B3BE-1D47-428D-8EB5-7807839F7498-31-1309_homereminder@201.badminton
 ners.net
DTSTAMP:20260420T042224Z
SUMMARY:Thuismatch ingevuld? (Baret 1G (132) - Merksplas 4G (127))
DESCRIPTION:Je hebt 36 uur na aanvang om een thuismatch op Badmintonvlaande
 ren in te vullen. Match info: Baret 1G (132) - Merksplas 4G (127) - Link: 
 https://www.badmintonvlaanderen.be/sport/teammatch.aspx?id=A0E9B3BE-1D47-4
 28D-8EB5-7807839F7498&match=1309
DTSTART;TZID=Europe/Brussels:20250924T080000
DTEND;TZID=Europe/Brussels:20250924T080000
END:VEVENT
BEGIN:VEVENT
UID:A0E9B3BE-1D47-428D-8EB5-7807839F7498-31-1295_homereminder@201.badminton
 ners.net
DTSTAMP:20260420T042224Z
SUMMARY:Thuismatch ingevuld? (Baret 1G (132) - Smash 3G (123))
DESCRIPTION:Je hebt 36 uur na aanvang om een thuismatch op Badmintonvlaande
 ren in te vullen. Match info: Baret 1G (132) - Smash 3G (123) - Link: http
 s://www.badmintonvlaanderen.be/sport/teammatch.aspx?id=A0E9B3BE-1D47-428D-
 8EB5-7807839F7498&match=1295
DTSTART;TZID=Europe/Brussels:20251022T080000
DTEND;TZID=Europe/Brussels:20251022T080000
END:VEVENT
BEGIN:VEVENT
UID:A0E9B3BE-1D47-428D-8EB5-7807839F7498-31-1330_homereminder@201.badminton
 ners.net
DTSTAMP:20260420T042224Z
SUMMARY:Thuismatch ingevuld? (Baret 1G (132) - Duffel 3G (128))
DESCRIPTION:Je hebt 36 uur na aanvang om een thuismatch op Badmintonvlaande
 ren in te vullen. Match info: Baret 1G (132) - Duffel 3G (128) - Link: htt
 ps://www.badmintonvlaanderen.be/sport/teammatch.aspx?id=A0E9B3BE-1D47-428D
 -8EB5-7807839F7498&match=1330
DTSTART;TZID=Europe/Brussels:20251119T080000
DTEND;TZID=Europe/Brussels:20251119T080000
END:VEVENT
BEGIN:VEVENT
UID:A0E9B3BE-1D47-428D-8EB5-7807839F7498-31-1323_homereminder@201.badminton
 ners.net
DTSTAMP:20260420T042224Z
SUMMARY:Thuismatch ingevuld? (Baret 1G (132) - Geelse 1G (122))
DESCRIPTION:Je hebt 36 uur na aanvang om een thuismatch op Badmintonvlaande
 ren in te vullen. Match info: Baret 1G (132) - Geelse 1G (122) - Link: htt
 ps://www.badmintonvlaanderen.be/sport/teammatch.aspx?id=A0E9B3BE-1D47-428D
 -8EB5-7807839F7498&match=1323
DTSTART;TZID=Europe/Brussels:20251217T080000
DTEND;TZID=Europe/Brussels:20251217T080000
END:VEVENT
BEGIN:VEVENT
UID:A0E9B3BE-1D47-428D-8EB5-7807839F7498-31-1280_homereminder@201.badminton
 ners.net
DTSTAMP:20260420T042224Z
SUMMARY:Thuismatch ingevuld? (Baret 1G (132) - Olve 7G (124))
DESCRIPTION:Je hebt 36 uur na aanvang om een thuismatch op Badmintonvlaande
 ren in te vullen. Match info: Baret 1G (132) - Olve 7G (124) - Link: https
 ://www.badmintonvlaanderen.be/sport/teammatch.aspx?id=A0E9B3BE-1D47-428D-8
 EB5-7807839F7498&match=1280
DTSTART;TZID=Europe/Brussels:20260128T080000
DTEND;TZID=Europe/Brussels:20260128T080000
END:VEVENT
BEGIN:VEVENT
UID:A0E9B3BE-1D47-428D-8EB5-7807839F7498-31-1316_homereminder@201.badminton
 ners.net
DTSTAMP:20260420T042224Z
SUMMARY:Thuismatch ingevuld? (Baret 1G (132) - Klein Boom 8G (125))
DESCRIPTION:Je hebt 36 uur na aanvang om een thuismatch op Badmintonvlaande
 ren in te vullen. Match info: Baret 1G (132) - Klein Boom 8G (125) - Link:
  https://www.badmintonvlaanderen.be/sport/teammatch.aspx?id=A0E9B3BE-1D47-
 428D-8EB5-7807839F7498&match=1316
DTSTART;TZID=Europe/Brussels:20260325T080000
DTEND;TZID=Europe/Brussels:20260325T080000
END:VEVENT
BEGIN:VEVENT
UID:A0E9B3BE-1D47-428D-8EB5-7807839F7498-31-1302_homereminder@201.badminton
 ners.net
DTSTAMP:20260420T042224Z
SUMMARY:Thuismatch ingevuld? (Baret 1G (132) - Oelegem 1G (139))
DESCRIPTION:Je hebt 36 uur na aanvang om een thuismatch op Badmintonvlaande
 ren in te vullen. Match info: Baret 1G (132) - Oelegem 1G (139) - Link: ht
 tps://www.badmintonvlaanderen.be/sport/teammatch.aspx?id=A0E9B3BE-1D47-428
 D-8EB5-7807839F7498&match=1302
DTSTART;TZID=Europe/Brussels:20260422T080000
DTEND;TZID=Europe/Brussels:20260422T080000
END:VEVENT
BEGIN:VEVENT
UID:A0E9B3BE-1D47-428D-8EB5-7807839F7498-31-1291_awayreminder@201.badminton
 ners.net
DTSTAMP:20260420T042224Z
SUMMARY:Uitmatch bevestigd? (Klein Boom 8G (125) - Baret 1G (132))
DESCRIPTION:Je hebt 72 uur na aanvang om een uitmatch op Badmintonvlaandere
 n in te vullen. Match info: Klein Boom 8G (125) - Baret 1G (132) - Link: h
 ttps://www.badmintonvlaanderen.be/sport/teammatch.aspx?id=A0E9B3BE-1D47-42
 8D-8EB5-7807839F7498&match=1291
DTSTART;TZID=Europe/Brussels:20250917T190000
DTEND;TZID=Europe/Brussels:20250917T190000
END:VEVENT
BEGIN:VEVENT
UID:A0E9B3BE-1D47-428D-8EB5-7807839F7498-31-1289_awayreminder@201.badminton
 ners.net
DTSTAMP:20260420T042224Z
SUMMARY:Uitmatch bevestigd? (Oelegem 1G (139) - Baret 1G (132))
DESCRIPTION:Je hebt 72 uur na aanvang om een uitmatch op Badmintonvlaandere
 n in te vullen. Match info: Oelegem 1G (139) - Baret 1G (132) - Link: http
 s://www.badmintonvlaanderen.be/sport/teammatch.aspx?id=A0E9B3BE-1D47-428D-
 8EB5-7807839F7498&match=1289
DTSTART;TZID=Europe/Brussels:20251010T200000
DTEND;TZID=Europe/Brussels:20251010T200000
END:VEVENT
BEGIN:VEVENT
UID:A0E9B3BE-1D47-428D-8EB5-7807839F7498-31-1287_awayreminder@201.badminton
 ners.net
DTSTAMP:20260420T042224Z
SUMMARY:Uitmatch bevestigd? (Olve 7G (124) - Baret 1G (132))
DESCRIPTION:Je hebt 72 uur na aanvang om een uitmatch op Badmintonvlaandere
 n in te vullen. Match info: Olve 7G (124) - Baret 1G (132) - Link: https:/
 /www.badmintonvlaanderen.be/sport/teammatch.aspx?id=A0E9B3BE-1D47-428D-8EB
 5-7807839F7498&match=1287
DTSTART;TZID=Europe/Brussels:20251209T103000
DTEND;TZID=Europe/Brussels:20251209T103000
END:VEVENT
BEGIN:VEVENT
UID:A0E9B3BE-1D47-428D-8EB5-7807839F7498-31-1292_awayreminder@201.badminton
 ners.net
DTSTAMP:20260420T042224Z
SUMMARY:Uitmatch bevestigd? (Geelse 1G (122) - Baret 1G (132))
DESCRIPTION:Je hebt 72 uur na aanvang om een uitmatch op Badmintonvlaandere
 n in te vullen. Match info: Geelse 1G (122) - Baret 1G (132) - Link: https
 ://www.badmintonvlaanderen.be/sport/teammatch.aspx?id=A0E9B3BE-1D47-428D-8
 EB5-7807839F7498&match=1292
DTSTART;TZID=Europe/Brussels:20260125T200000
DTEND;TZID=Europe/Brussels:20260125T200000
END:VEVENT
BEGIN:VEVENT
UID:A0E9B3BE-1D47-428D-8EB5-7807839F7498-31-1293_awayreminder@201.badminton
 ners.net
DTSTAMP:20260420T042224Z
SUMMARY:Uitmatch bevestigd? (Duffel 3G (128) - Baret 1G (132))
DESCRIPTION:Je hebt 72 uur na aanvang om een uitmatch op Badmintonvlaandere
 n in te vullen. Match info: Duffel 3G (128) - Baret 1G (132) - Link: https
 ://www.badmintonvlaanderen.be/sport/teammatch.aspx?id=A0E9B3BE-1D47-428D-8
 EB5-7807839F7498&match=1293
DTSTART;TZID=Europe/Brussels:20260225T200000
DTEND;TZID=Europe/Brussels:20260225T200000
END:VEVENT
BEGIN:VEVENT
UID:A0E9B3BE-1D47-428D-8EB5-7807839F7498-31-1288_awayreminder@201.badminton
 ners.net
DTSTAMP:20260420T042224Z
SUMMARY:Uitmatch bevestigd? (Smash 3G (123) - Baret 1G (132))
DESCRIPTION:Je hebt 72 uur na aanvang om een uitmatch op Badmintonvlaandere
 n in te vullen. Match info: Smash 3G (123) - Baret 1G (132) - Link: https:
 //www.badmintonvlaanderen.be/sport/teammatch.aspx?id=A0E9B3BE-1D47-428D-8E
 B5-7807839F7498&match=1288
DTSTART;TZID=Europe/Brussels:20260304T100000
DTEND;TZID=Europe/Brussels:20260304T100000
END:VEVENT
BEGIN:VEVENT
UID:A0E9B3BE-1D47-428D-8EB5-7807839F7498-31-1290_awayreminder@201.badminton
 ners.net
DTSTAMP:20260420T042224Z
SUMMARY:Uitmatch bevestigd? (Merksplas 4G (127) - Baret 1G (132))
DESCRIPTION:Je hebt 72 uur na aanvang om een uitmatch op Badmintonvlaandere
 n in te vullen. Match info: Merksplas 4G (127) - Baret 1G (132) - Link: ht
 tps://www.badmintonvlaanderen.be/sport/teammatch.aspx?id=A0E9B3BE-1D47-428
 D-8EB5-7807839F7498&match=1290
DTSTART;TZID=Europe/Brussels:20260415T183000
DTEND;TZID=Europe/Brussels:20260415T183000
END:VEVENT
END:VCALENDAR