BEGIN:VCALENDAR
VERSION:2.0
PRODID:spatie/icalendar-generator
NAME:merksplas_4g_127_reminders
X-WR-CALNAME:merksplas_4g_127_reminders
BEGIN:VTIMEZONE
TZID:Europe/Brussels
BEGIN:DAYLIGHT
DTSTART:20250330T010000
TZOFFSETFROM:+0100
TZOFFSETTO:+0200
END:DAYLIGHT
BEGIN:STANDARD
DTSTART:20251026T030000
TZOFFSETFROM:+0200
TZOFFSETTO:+0100
END:STANDARD
BEGIN:DAYLIGHT
DTSTART:20260329T010000
TZOFFSETFROM:+0100
TZOFFSETTO:+0200
END:DAYLIGHT
BEGIN:STANDARD
DTSTART:20261025T030000
TZOFFSETFROM:+0200
TZOFFSETTO:+0100
END:STANDARD
END:VTIMEZONE
BEGIN:VTIMEZONE
TZID:UTC
BEGIN:STANDARD
DTSTART:20250724T043741
TZOFFSETFROM:+0000
TZOFFSETTO:+0000
END:STANDARD
END:VTIMEZONE
BEGIN:VEVENT
UID:A0E9B3BE-1D47-428D-8EB5-7807839F7498-31-1283_homereminder@203.badminton
 ners.net
DTSTAMP:20260420T043741Z
SUMMARY:Thuismatch ingevuld? (Merksplas 4G (127) - Olve 7G (124))
DESCRIPTION:Je hebt 36 uur na aanvang om een thuismatch op Badmintonvlaande
 ren in te vullen. Match info: Merksplas 4G (127) - Olve 7G (124) - Link: h
 ttps://www.badmintonvlaanderen.be/sport/teammatch.aspx?id=A0E9B3BE-1D47-42
 8D-8EB5-7807839F7498&match=1283
DTSTART;TZID=Europe/Brussels:20251014T063000
DTEND;TZID=Europe/Brussels:20251014T063000
END:VEVENT
BEGIN:VEVENT
UID:A0E9B3BE-1D47-428D-8EB5-7807839F7498-31-1297_homereminder@203.badminton
 ners.net
DTSTAMP:20260420T043741Z
SUMMARY:Thuismatch ingevuld? (Merksplas 4G (127) - Smash 3G (123))
DESCRIPTION:Je hebt 36 uur na aanvang om een thuismatch op Badmintonvlaande
 ren in te vullen. Match info: Merksplas 4G (127) - Smash 3G (123) - Link: 
 https://www.badmintonvlaanderen.be/sport/teammatch.aspx?id=A0E9B3BE-1D47-4
 28D-8EB5-7807839F7498&match=1297
DTSTART;TZID=Europe/Brussels:20251028T063000
DTEND;TZID=Europe/Brussels:20251028T063000
END:VEVENT
BEGIN:VEVENT
UID:A0E9B3BE-1D47-428D-8EB5-7807839F7498-31-1319_homereminder@203.badminton
 ners.net
DTSTAMP:20260420T043741Z
SUMMARY:Thuismatch ingevuld? (Merksplas 4G (127) - Klein Boom 8G (125))
DESCRIPTION:Je hebt 36 uur na aanvang om een thuismatch op Badmintonvlaande
 ren in te vullen. Match info: Merksplas 4G (127) - Klein Boom 8G (125) - L
 ink: https://www.badmintonvlaanderen.be/sport/teammatch.aspx?id=A0E9B3BE-1
 D47-428D-8EB5-7807839F7498&match=1319
DTSTART;TZID=Europe/Brussels:20251125T063000
DTEND;TZID=Europe/Brussels:20251125T063000
END:VEVENT
BEGIN:VEVENT
UID:A0E9B3BE-1D47-428D-8EB5-7807839F7498-31-1304_homereminder@203.badminton
 ners.net
DTSTAMP:20260420T043741Z
SUMMARY:Thuismatch ingevuld? (Merksplas 4G (127) - Oelegem 1G (139))
DESCRIPTION:Je hebt 36 uur na aanvang om een thuismatch op Badmintonvlaande
 ren in te vullen. Match info: Merksplas 4G (127) - Oelegem 1G (139) - Link
 : https://www.badmintonvlaanderen.be/sport/teammatch.aspx?id=A0E9B3BE-1D47
 -428D-8EB5-7807839F7498&match=1304
DTSTART;TZID=Europe/Brussels:20260120T063000
DTEND;TZID=Europe/Brussels:20260120T063000
END:VEVENT
BEGIN:VEVENT
UID:A0E9B3BE-1D47-428D-8EB5-7807839F7498-31-1333_homereminder@203.badminton
 ners.net
DTSTAMP:20260420T043741Z
SUMMARY:Thuismatch ingevuld? (Merksplas 4G (127) - Duffel 3G (128))
DESCRIPTION:Je hebt 36 uur na aanvang om een thuismatch op Badmintonvlaande
 ren in te vullen. Match info: Merksplas 4G (127) - Duffel 3G (128) - Link:
  https://www.badmintonvlaanderen.be/sport/teammatch.aspx?id=A0E9B3BE-1D47-
 428D-8EB5-7807839F7498&match=1333
DTSTART;TZID=Europe/Brussels:20260203T063000
DTEND;TZID=Europe/Brussels:20260203T063000
END:VEVENT
BEGIN:VEVENT
UID:A0E9B3BE-1D47-428D-8EB5-7807839F7498-31-1326_homereminder@203.badminton
 ners.net
DTSTAMP:20260420T043741Z
SUMMARY:Thuismatch ingevuld? (Merksplas 4G (127) - Geelse 1G (122))
DESCRIPTION:Je hebt 36 uur na aanvang om een thuismatch op Badmintonvlaande
 ren in te vullen. Match info: Merksplas 4G (127) - Geelse 1G (122) - Link:
  https://www.badmintonvlaanderen.be/sport/teammatch.aspx?id=A0E9B3BE-1D47-
 428D-8EB5-7807839F7498&match=1326
DTSTART;TZID=Europe/Brussels:20260317T063000
DTEND;TZID=Europe/Brussels:20260317T063000
END:VEVENT
BEGIN:VEVENT
UID:A0E9B3BE-1D47-428D-8EB5-7807839F7498-31-1290_homereminder@203.badminton
 ners.net
DTSTAMP:20260420T043741Z
SUMMARY:Thuismatch ingevuld? (Merksplas 4G (127) - Baret 1G (132))
DESCRIPTION:Je hebt 36 uur na aanvang om een thuismatch op Badmintonvlaande
 ren in te vullen. Match info: Merksplas 4G (127) - Baret 1G (132) - Link: 
 https://www.badmintonvlaanderen.be/sport/teammatch.aspx?id=A0E9B3BE-1D47-4
 28D-8EB5-7807839F7498&match=1290
DTSTART;TZID=Europe/Brussels:20260414T063000
DTEND;TZID=Europe/Brussels:20260414T063000
END:VEVENT
BEGIN:VEVENT
UID:A0E9B3BE-1D47-428D-8EB5-7807839F7498-31-1309_awayreminder@203.badminton
 ners.net
DTSTAMP:20260420T043741Z
SUMMARY:Uitmatch bevestigd? (Baret 1G (132) - Merksplas 4G (127))
DESCRIPTION:Je hebt 72 uur na aanvang om een uitmatch op Badmintonvlaandere
 n in te vullen. Match info: Baret 1G (132) - Merksplas 4G (127) - Link: ht
 tps://www.badmintonvlaanderen.be/sport/teammatch.aspx?id=A0E9B3BE-1D47-428
 D-8EB5-7807839F7498&match=1309
DTSTART;TZID=Europe/Brussels:20250925T200000
DTEND;TZID=Europe/Brussels:20250925T200000
END:VEVENT
BEGIN:VEVENT
UID:A0E9B3BE-1D47-428D-8EB5-7807839F7498-31-1313_awayreminder@203.badminton
 ners.net
DTSTAMP:20260420T043741Z
SUMMARY:Uitmatch bevestigd? (Geelse 1G (122) - Merksplas 4G (127))
DESCRIPTION:Je hebt 72 uur na aanvang om een uitmatch op Badmintonvlaandere
 n in te vullen. Match info: Geelse 1G (122) - Merksplas 4G (127) - Link: h
 ttps://www.badmintonvlaanderen.be/sport/teammatch.aspx?id=A0E9B3BE-1D47-42
 8D-8EB5-7807839F7498&match=1313
DTSTART;TZID=Europe/Brussels:20251109T200000
DTEND;TZID=Europe/Brussels:20251109T200000
END:VEVENT
BEGIN:VEVENT
UID:A0E9B3BE-1D47-428D-8EB5-7807839F7498-31-1311_awayreminder@203.badminton
 ners.net
DTSTAMP:20260420T043741Z
SUMMARY:Uitmatch bevestigd? (Oelegem 1G (139) - Merksplas 4G (127))
DESCRIPTION:Je hebt 72 uur na aanvang om een uitmatch op Badmintonvlaandere
 n in te vullen. Match info: Oelegem 1G (139) - Merksplas 4G (127) - Link: 
 https://www.badmintonvlaanderen.be/sport/teammatch.aspx?id=A0E9B3BE-1D47-4
 28D-8EB5-7807839F7498&match=1311
DTSTART;TZID=Europe/Brussels:20251205T200000
DTEND;TZID=Europe/Brussels:20251205T200000
END:VEVENT
BEGIN:VEVENT
UID:A0E9B3BE-1D47-428D-8EB5-7807839F7498-31-1314_awayreminder@203.badminton
 ners.net
DTSTAMP:20260420T043741Z
SUMMARY:Uitmatch bevestigd? (Duffel 3G (128) - Merksplas 4G (127))
DESCRIPTION:Je hebt 72 uur na aanvang om een uitmatch op Badmintonvlaandere
 n in te vullen. Match info: Duffel 3G (128) - Merksplas 4G (127) - Link: h
 ttps://www.badmintonvlaanderen.be/sport/teammatch.aspx?id=A0E9B3BE-1D47-42
 8D-8EB5-7807839F7498&match=1314
DTSTART;TZID=Europe/Brussels:20251224T200000
DTEND;TZID=Europe/Brussels:20251224T200000
END:VEVENT
BEGIN:VEVENT
UID:A0E9B3BE-1D47-428D-8EB5-7807839F7498-31-1310_awayreminder@203.badminton
 ners.net
DTSTAMP:20260420T043741Z
SUMMARY:Uitmatch bevestigd? (Smash 3G (123) - Merksplas 4G (127))
DESCRIPTION:Je hebt 72 uur na aanvang om een uitmatch op Badmintonvlaandere
 n in te vullen. Match info: Smash 3G (123) - Merksplas 4G (127) - Link: ht
 tps://www.badmintonvlaanderen.be/sport/teammatch.aspx?id=A0E9B3BE-1D47-428
 D-8EB5-7807839F7498&match=1310
DTSTART;TZID=Europe/Brussels:20260401T100000
DTEND;TZID=Europe/Brussels:20260401T100000
END:VEVENT
BEGIN:VEVENT
UID:A0E9B3BE-1D47-428D-8EB5-7807839F7498-31-1312_awayreminder@203.badminton
 ners.net
DTSTAMP:20260420T043741Z
SUMMARY:Uitmatch bevestigd? (Klein Boom 8G (125) - Merksplas 4G (127))
DESCRIPTION:Je hebt 72 uur na aanvang om een uitmatch op Badmintonvlaandere
 n in te vullen. Match info: Klein Boom 8G (125) - Merksplas 4G (127) - Lin
 k: https://www.badmintonvlaanderen.be/sport/teammatch.aspx?id=A0E9B3BE-1D4
 7-428D-8EB5-7807839F7498&match=1312
DTSTART;TZID=Europe/Brussels:20260423T200000
DTEND;TZID=Europe/Brussels:20260423T200000
END:VEVENT
BEGIN:VEVENT
UID:A0E9B3BE-1D47-428D-8EB5-7807839F7498-31-1308_awayreminder@203.badminton
 ners.net
DTSTAMP:20260420T043741Z
SUMMARY:Uitmatch bevestigd? (Olve 7G (124) - Merksplas 4G (127))
DESCRIPTION:Je hebt 72 uur na aanvang om een uitmatch op Badmintonvlaandere
 n in te vullen. Match info: Olve 7G (124) - Merksplas 4G (127) - Link: htt
 ps://www.badmintonvlaanderen.be/sport/teammatch.aspx?id=A0E9B3BE-1D47-428D
 -8EB5-7807839F7498&match=1308
DTSTART;TZID=Europe/Brussels:20260428T103000
DTEND;TZID=Europe/Brussels:20260428T103000
END:VEVENT
END:VCALENDAR