BEGIN:VCALENDAR
VERSION:2.0
PRODID:spatie/icalendar-generator
NAME:oelegem_1g_139_reminders
X-WR-CALNAME:oelegem_1g_139_reminders
BEGIN:VTIMEZONE
TZID:Europe/Brussels
BEGIN:DAYLIGHT
DTSTART:20250330T010000
TZOFFSETFROM:+0100
TZOFFSETTO:+0200
END:DAYLIGHT
BEGIN:STANDARD
DTSTART:20251026T030000
TZOFFSETFROM:+0200
TZOFFSETTO:+0100
END:STANDARD
BEGIN:DAYLIGHT
DTSTART:20260329T010000
TZOFFSETFROM:+0100
TZOFFSETTO:+0200
END:DAYLIGHT
BEGIN:STANDARD
DTSTART:20261025T030000
TZOFFSETFROM:+0200
TZOFFSETTO:+0100
END:STANDARD
END:VTIMEZONE
BEGIN:VTIMEZONE
TZID:UTC
BEGIN:STANDARD
DTSTART:20250724T043630
TZOFFSETFROM:+0000
TZOFFSETTO:+0000
END:STANDARD
END:VTIMEZONE
BEGIN:VEVENT
UID:A0E9B3BE-1D47-428D-8EB5-7807839F7498-31-1289_homereminder@204.badminton
 ners.net
DTSTAMP:20260420T043630Z
SUMMARY:Thuismatch ingevuld? (Oelegem 1G (139) - Baret 1G (132))
DESCRIPTION:Je hebt 36 uur na aanvang om een thuismatch op Badmintonvlaande
 ren in te vullen. Match info: Oelegem 1G (139) - Baret 1G (132) - Link: ht
 tps://www.badmintonvlaanderen.be/sport/teammatch.aspx?id=A0E9B3BE-1D47-428
 D-8EB5-7807839F7498&match=1289
DTSTART;TZID=Europe/Brussels:20251009T080000
DTEND;TZID=Europe/Brussels:20251009T080000
END:VEVENT
BEGIN:VEVENT
UID:A0E9B3BE-1D47-428D-8EB5-7807839F7498-31-1332_homereminder@204.badminton
 ners.net
DTSTAMP:20260420T043630Z
SUMMARY:Thuismatch ingevuld? (Oelegem 1G (139) - Duffel 3G (128))
DESCRIPTION:Je hebt 36 uur na aanvang om een thuismatch op Badmintonvlaande
 ren in te vullen. Match info: Oelegem 1G (139) - Duffel 3G (128) - Link: h
 ttps://www.badmintonvlaanderen.be/sport/teammatch.aspx?id=A0E9B3BE-1D47-42
 8D-8EB5-7807839F7498&match=1332
DTSTART;TZID=Europe/Brussels:20251023T080000
DTEND;TZID=Europe/Brussels:20251023T080000
END:VEVENT
BEGIN:VEVENT
UID:A0E9B3BE-1D47-428D-8EB5-7807839F7498-31-1325_homereminder@204.badminton
 ners.net
DTSTAMP:20260420T043630Z
SUMMARY:Thuismatch ingevuld? (Oelegem 1G (139) - Geelse 1G (122))
DESCRIPTION:Je hebt 36 uur na aanvang om een thuismatch op Badmintonvlaande
 ren in te vullen. Match info: Oelegem 1G (139) - Geelse 1G (122) - Link: h
 ttps://www.badmintonvlaanderen.be/sport/teammatch.aspx?id=A0E9B3BE-1D47-42
 8D-8EB5-7807839F7498&match=1325
DTSTART;TZID=Europe/Brussels:20251120T080000
DTEND;TZID=Europe/Brussels:20251120T080000
END:VEVENT
BEGIN:VEVENT
UID:A0E9B3BE-1D47-428D-8EB5-7807839F7498-31-1311_homereminder@204.badminton
 ners.net
DTSTAMP:20260420T043630Z
SUMMARY:Thuismatch ingevuld? (Oelegem 1G (139) - Merksplas 4G (127))
DESCRIPTION:Je hebt 36 uur na aanvang om een thuismatch op Badmintonvlaande
 ren in te vullen. Match info: Oelegem 1G (139) - Merksplas 4G (127) - Link
 : https://www.badmintonvlaanderen.be/sport/teammatch.aspx?id=A0E9B3BE-1D47
 -428D-8EB5-7807839F7498&match=1311
DTSTART;TZID=Europe/Brussels:20251204T080000
DTEND;TZID=Europe/Brussels:20251204T080000
END:VEVENT
BEGIN:VEVENT
UID:A0E9B3BE-1D47-428D-8EB5-7807839F7498-31-1282_homereminder@204.badminton
 ners.net
DTSTAMP:20260420T043630Z
SUMMARY:Thuismatch ingevuld? (Oelegem 1G (139) - Olve 7G (124))
DESCRIPTION:Je hebt 36 uur na aanvang om een thuismatch op Badmintonvlaande
 ren in te vullen. Match info: Oelegem 1G (139) - Olve 7G (124) - Link: htt
 ps://www.badmintonvlaanderen.be/sport/teammatch.aspx?id=A0E9B3BE-1D47-428D
 -8EB5-7807839F7498&match=1282
DTSTART;TZID=Europe/Brussels:20260226T080000
DTEND;TZID=Europe/Brussels:20260226T080000
END:VEVENT
BEGIN:VEVENT
UID:A0E9B3BE-1D47-428D-8EB5-7807839F7498-31-1318_homereminder@204.badminton
 ners.net
DTSTAMP:20260420T043630Z
SUMMARY:Thuismatch ingevuld? (Oelegem 1G (139) - Klein Boom 8G (125))
DESCRIPTION:Je hebt 36 uur na aanvang om een thuismatch op Badmintonvlaande
 ren in te vullen. Match info: Oelegem 1G (139) - Klein Boom 8G (125) - Lin
 k: https://www.badmintonvlaanderen.be/sport/teammatch.aspx?id=A0E9B3BE-1D4
 7-428D-8EB5-7807839F7498&match=1318
DTSTART;TZID=Europe/Brussels:20260312T080000
DTEND;TZID=Europe/Brussels:20260312T080000
END:VEVENT
BEGIN:VEVENT
UID:A0E9B3BE-1D47-428D-8EB5-7807839F7498-31-1296_homereminder@204.badminton
 ners.net
DTSTAMP:20260420T043630Z
SUMMARY:Thuismatch ingevuld? (Oelegem 1G (139) - Smash 3G (123))
DESCRIPTION:Je hebt 36 uur na aanvang om een thuismatch op Badmintonvlaande
 ren in te vullen. Match info: Oelegem 1G (139) - Smash 3G (123) - Link: ht
 tps://www.badmintonvlaanderen.be/sport/teammatch.aspx?id=A0E9B3BE-1D47-428
 D-8EB5-7807839F7498&match=1296
DTSTART;TZID=Europe/Brussels:20260409T080000
DTEND;TZID=Europe/Brussels:20260409T080000
END:VEVENT
BEGIN:VEVENT
UID:A0E9B3BE-1D47-428D-8EB5-7807839F7498-31-1303_awayreminder@204.badminton
 ners.net
DTSTAMP:20260420T043630Z
SUMMARY:Uitmatch bevestigd? (Smash 3G (123) - Oelegem 1G (139))
DESCRIPTION:Je hebt 72 uur na aanvang om een uitmatch op Badmintonvlaandere
 n in te vullen. Match info: Smash 3G (123) - Oelegem 1G (139) - Link: http
 s://www.badmintonvlaanderen.be/sport/teammatch.aspx?id=A0E9B3BE-1D47-428D-
 8EB5-7807839F7498&match=1303
DTSTART;TZID=Europe/Brussels:20251001T100000
DTEND;TZID=Europe/Brussels:20251001T100000
END:VEVENT
BEGIN:VEVENT
UID:A0E9B3BE-1D47-428D-8EB5-7807839F7498-31-1301_awayreminder@204.badminton
 ners.net
DTSTAMP:20260420T043630Z
SUMMARY:Uitmatch bevestigd? (Olve 7G (124) - Oelegem 1G (139))
DESCRIPTION:Je hebt 72 uur na aanvang om een uitmatch op Badmintonvlaandere
 n in te vullen. Match info: Olve 7G (124) - Oelegem 1G (139) - Link: https
 ://www.badmintonvlaanderen.be/sport/teammatch.aspx?id=A0E9B3BE-1D47-428D-8
 EB5-7807839F7498&match=1301
DTSTART;TZID=Europe/Brussels:20251028T093000
DTEND;TZID=Europe/Brussels:20251028T093000
END:VEVENT
BEGIN:VEVENT
UID:A0E9B3BE-1D47-428D-8EB5-7807839F7498-31-1305_awayreminder@204.badminton
 ners.net
DTSTAMP:20260420T043630Z
SUMMARY:Uitmatch bevestigd? (Klein Boom 8G (125) - Oelegem 1G (139))
DESCRIPTION:Je hebt 72 uur na aanvang om een uitmatch op Badmintonvlaandere
 n in te vullen. Match info: Klein Boom 8G (125) - Oelegem 1G (139) - Link:
  https://www.badmintonvlaanderen.be/sport/teammatch.aspx?id=A0E9B3BE-1D47-
 428D-8EB5-7807839F7498&match=1305
DTSTART;TZID=Europe/Brussels:20251112T190000
DTEND;TZID=Europe/Brussels:20251112T190000
END:VEVENT
BEGIN:VEVENT
UID:A0E9B3BE-1D47-428D-8EB5-7807839F7498-31-1304_awayreminder@204.badminton
 ners.net
DTSTAMP:20260420T043630Z
SUMMARY:Uitmatch bevestigd? (Merksplas 4G (127) - Oelegem 1G (139))
DESCRIPTION:Je hebt 72 uur na aanvang om een uitmatch op Badmintonvlaandere
 n in te vullen. Match info: Merksplas 4G (127) - Oelegem 1G (139) - Link: 
 https://www.badmintonvlaanderen.be/sport/teammatch.aspx?id=A0E9B3BE-1D47-4
 28D-8EB5-7807839F7498&match=1304
DTSTART;TZID=Europe/Brussels:20260121T183000
DTEND;TZID=Europe/Brussels:20260121T183000
END:VEVENT
BEGIN:VEVENT
UID:A0E9B3BE-1D47-428D-8EB5-7807839F7498-31-1306_awayreminder@204.badminton
 ners.net
DTSTAMP:20260420T043630Z
SUMMARY:Uitmatch bevestigd? (Geelse 1G (122) - Oelegem 1G (139))
DESCRIPTION:Je hebt 72 uur na aanvang om een uitmatch op Badmintonvlaandere
 n in te vullen. Match info: Geelse 1G (122) - Oelegem 1G (139) - Link: htt
 ps://www.badmintonvlaanderen.be/sport/teammatch.aspx?id=A0E9B3BE-1D47-428D
 -8EB5-7807839F7498&match=1306
DTSTART;TZID=Europe/Brussels:20260215T200000
DTEND;TZID=Europe/Brussels:20260215T200000
END:VEVENT
BEGIN:VEVENT
UID:A0E9B3BE-1D47-428D-8EB5-7807839F7498-31-1307_awayreminder@204.badminton
 ners.net
DTSTAMP:20260420T043630Z
SUMMARY:Uitmatch bevestigd? (Duffel 3G (128) - Oelegem 1G (139))
DESCRIPTION:Je hebt 72 uur na aanvang om een uitmatch op Badmintonvlaandere
 n in te vullen. Match info: Duffel 3G (128) - Oelegem 1G (139) - Link: htt
 ps://www.badmintonvlaanderen.be/sport/teammatch.aspx?id=A0E9B3BE-1D47-428D
 -8EB5-7807839F7498&match=1307
DTSTART;TZID=Europe/Brussels:20260401T200000
DTEND;TZID=Europe/Brussels:20260401T200000
END:VEVENT
BEGIN:VEVENT
UID:A0E9B3BE-1D47-428D-8EB5-7807839F7498-31-1302_awayreminder@204.badminton
 ners.net
DTSTAMP:20260420T043630Z
SUMMARY:Uitmatch bevestigd? (Baret 1G (132) - Oelegem 1G (139))
DESCRIPTION:Je hebt 72 uur na aanvang om een uitmatch op Badmintonvlaandere
 n in te vullen. Match info: Baret 1G (132) - Oelegem 1G (139) - Link: http
 s://www.badmintonvlaanderen.be/sport/teammatch.aspx?id=A0E9B3BE-1D47-428D-
 8EB5-7807839F7498&match=1302
DTSTART;TZID=Europe/Brussels:20260423T200000
DTEND;TZID=Europe/Brussels:20260423T200000
END:VEVENT
END:VCALENDAR