BEGIN:VCALENDAR
VERSION:2.0
PRODID:spatie/icalendar-generator
NAME:smash_3g_123_reminders
X-WR-CALNAME:smash_3g_123_reminders
BEGIN:VTIMEZONE
TZID:Europe/Brussels
BEGIN:DAYLIGHT
DTSTART:20250330T010000
TZOFFSETFROM:+0100
TZOFFSETTO:+0200
END:DAYLIGHT
BEGIN:STANDARD
DTSTART:20251026T030000
TZOFFSETFROM:+0200
TZOFFSETTO:+0100
END:STANDARD
BEGIN:DAYLIGHT
DTSTART:20260329T010000
TZOFFSETFROM:+0100
TZOFFSETTO:+0200
END:DAYLIGHT
BEGIN:STANDARD
DTSTART:20261025T030000
TZOFFSETFROM:+0200
TZOFFSETTO:+0100
END:STANDARD
END:VTIMEZONE
BEGIN:VTIMEZONE
TZID:UTC
BEGIN:STANDARD
DTSTART:20250724T043625
TZOFFSETFROM:+0000
TZOFFSETTO:+0000
END:STANDARD
END:VTIMEZONE
BEGIN:VEVENT
UID:A0E9B3BE-1D47-428D-8EB5-7807839F7498-31-1303_homereminder@206.badminton
 ners.net
DTSTAMP:20260420T043625Z
SUMMARY:Thuismatch ingevuld? (Smash 3G (123) - Oelegem 1G (139))
DESCRIPTION:Je hebt 36 uur na aanvang om een thuismatch op Badmintonvlaande
 ren in te vullen. Match info: Smash 3G (123) - Oelegem 1G (139) - Link: ht
 tps://www.badmintonvlaanderen.be/sport/teammatch.aspx?id=A0E9B3BE-1D47-428
 D-8EB5-7807839F7498&match=1303
DTSTART;TZID=Europe/Brussels:20250929T220000
DTEND;TZID=Europe/Brussels:20250929T220000
END:VEVENT
BEGIN:VEVENT
UID:A0E9B3BE-1D47-428D-8EB5-7807839F7498-31-1331_homereminder@206.badminton
 ners.net
DTSTAMP:20260420T043625Z
SUMMARY:Thuismatch ingevuld? (Smash 3G (123) - Duffel 3G (128))
DESCRIPTION:Je hebt 36 uur na aanvang om een thuismatch op Badmintonvlaande
 ren in te vullen. Match info: Smash 3G (123) - Duffel 3G (128) - Link: htt
 ps://www.badmintonvlaanderen.be/sport/teammatch.aspx?id=A0E9B3BE-1D47-428D
 -8EB5-7807839F7498&match=1331
DTSTART;TZID=Europe/Brussels:20251013T220000
DTEND;TZID=Europe/Brussels:20251013T220000
END:VEVENT
BEGIN:VEVENT
UID:A0E9B3BE-1D47-428D-8EB5-7807839F7498-31-1281_homereminder@206.badminton
 ners.net
DTSTAMP:20260420T043625Z
SUMMARY:Thuismatch ingevuld? (Smash 3G (123) - Olve 7G (124))
DESCRIPTION:Je hebt 36 uur na aanvang om een thuismatch op Badmintonvlaande
 ren in te vullen. Match info: Smash 3G (123) - Olve 7G (124) - Link: https
 ://www.badmintonvlaanderen.be/sport/teammatch.aspx?id=A0E9B3BE-1D47-428D-8
 EB5-7807839F7498&match=1281
DTSTART;TZID=Europe/Brussels:20251124T220000
DTEND;TZID=Europe/Brussels:20251124T220000
END:VEVENT
BEGIN:VEVENT
UID:A0E9B3BE-1D47-428D-8EB5-7807839F7498-31-1317_homereminder@206.badminton
 ners.net
DTSTAMP:20260420T043625Z
SUMMARY:Thuismatch ingevuld? (Smash 3G (123) - Klein Boom 8G (125))
DESCRIPTION:Je hebt 36 uur na aanvang om een thuismatch op Badmintonvlaande
 ren in te vullen. Match info: Smash 3G (123) - Klein Boom 8G (125) - Link:
  https://www.badmintonvlaanderen.be/sport/teammatch.aspx?id=A0E9B3BE-1D47-
 428D-8EB5-7807839F7498&match=1317
DTSTART;TZID=Europe/Brussels:20251222T220000
DTEND;TZID=Europe/Brussels:20251222T220000
END:VEVENT
BEGIN:VEVENT
UID:A0E9B3BE-1D47-428D-8EB5-7807839F7498-31-1324_homereminder@206.badminton
 ners.net
DTSTAMP:20260420T043625Z
SUMMARY:Thuismatch ingevuld? (Smash 3G (123) - Geelse 1G (122))
DESCRIPTION:Je hebt 36 uur na aanvang om een thuismatch op Badmintonvlaande
 ren in te vullen. Match info: Smash 3G (123) - Geelse 1G (122) - Link: htt
 ps://www.badmintonvlaanderen.be/sport/teammatch.aspx?id=A0E9B3BE-1D47-428D
 -8EB5-7807839F7498&match=1324
DTSTART;TZID=Europe/Brussels:20260202T220000
DTEND;TZID=Europe/Brussels:20260202T220000
END:VEVENT
BEGIN:VEVENT
UID:A0E9B3BE-1D47-428D-8EB5-7807839F7498-31-1288_homereminder@206.badminton
 ners.net
DTSTAMP:20260420T043625Z
SUMMARY:Thuismatch ingevuld? (Smash 3G (123) - Baret 1G (132))
DESCRIPTION:Je hebt 36 uur na aanvang om een thuismatch op Badmintonvlaande
 ren in te vullen. Match info: Smash 3G (123) - Baret 1G (132) - Link: http
 s://www.badmintonvlaanderen.be/sport/teammatch.aspx?id=A0E9B3BE-1D47-428D-
 8EB5-7807839F7498&match=1288
DTSTART;TZID=Europe/Brussels:20260302T220000
DTEND;TZID=Europe/Brussels:20260302T220000
END:VEVENT
BEGIN:VEVENT
UID:A0E9B3BE-1D47-428D-8EB5-7807839F7498-31-1310_homereminder@206.badminton
 ners.net
DTSTAMP:20260420T043625Z
SUMMARY:Thuismatch ingevuld? (Smash 3G (123) - Merksplas 4G (127))
DESCRIPTION:Je hebt 36 uur na aanvang om een thuismatch op Badmintonvlaande
 ren in te vullen. Match info: Smash 3G (123) - Merksplas 4G (127) - Link: 
 https://www.badmintonvlaanderen.be/sport/teammatch.aspx?id=A0E9B3BE-1D47-4
 28D-8EB5-7807839F7498&match=1310
DTSTART;TZID=Europe/Brussels:20260330T220000
DTEND;TZID=Europe/Brussels:20260330T220000
END:VEVENT
BEGIN:VEVENT
UID:A0E9B3BE-1D47-428D-8EB5-7807839F7498-31-1295_awayreminder@206.badminton
 ners.net
DTSTAMP:20260420T043625Z
SUMMARY:Uitmatch bevestigd? (Baret 1G (132) - Smash 3G (123))
DESCRIPTION:Je hebt 72 uur na aanvang om een uitmatch op Badmintonvlaandere
 n in te vullen. Match info: Baret 1G (132) - Smash 3G (123) - Link: https:
 //www.badmintonvlaanderen.be/sport/teammatch.aspx?id=A0E9B3BE-1D47-428D-8E
 B5-7807839F7498&match=1295
DTSTART;TZID=Europe/Brussels:20251023T200000
DTEND;TZID=Europe/Brussels:20251023T200000
END:VEVENT
BEGIN:VEVENT
UID:A0E9B3BE-1D47-428D-8EB5-7807839F7498-31-1297_awayreminder@206.badminton
 ners.net
DTSTAMP:20260420T043625Z
SUMMARY:Uitmatch bevestigd? (Merksplas 4G (127) - Smash 3G (123))
DESCRIPTION:Je hebt 72 uur na aanvang om een uitmatch op Badmintonvlaandere
 n in te vullen. Match info: Merksplas 4G (127) - Smash 3G (123) - Link: ht
 tps://www.badmintonvlaanderen.be/sport/teammatch.aspx?id=A0E9B3BE-1D47-428
 D-8EB5-7807839F7498&match=1297
DTSTART;TZID=Europe/Brussels:20251029T183000
DTEND;TZID=Europe/Brussels:20251029T183000
END:VEVENT
BEGIN:VEVENT
UID:A0E9B3BE-1D47-428D-8EB5-7807839F7498-31-1299_awayreminder@206.badminton
 ners.net
DTSTAMP:20260420T043625Z
SUMMARY:Uitmatch bevestigd? (Geelse 1G (122) - Smash 3G (123))
DESCRIPTION:Je hebt 72 uur na aanvang om een uitmatch op Badmintonvlaandere
 n in te vullen. Match info: Geelse 1G (122) - Smash 3G (123) - Link: https
 ://www.badmintonvlaanderen.be/sport/teammatch.aspx?id=A0E9B3BE-1D47-428D-8
 EB5-7807839F7498&match=1299
DTSTART;TZID=Europe/Brussels:20251102T200000
DTEND;TZID=Europe/Brussels:20251102T200000
END:VEVENT
BEGIN:VEVENT
UID:A0E9B3BE-1D47-428D-8EB5-7807839F7498-31-1294_awayreminder@206.badminton
 ners.net
DTSTAMP:20260420T043625Z
SUMMARY:Uitmatch bevestigd? (Olve 7G (124) - Smash 3G (123))
DESCRIPTION:Je hebt 72 uur na aanvang om een uitmatch op Badmintonvlaandere
 n in te vullen. Match info: Olve 7G (124) - Smash 3G (123) - Link: https:/
 /www.badmintonvlaanderen.be/sport/teammatch.aspx?id=A0E9B3BE-1D47-428D-8EB
 5-7807839F7498&match=1294
DTSTART;TZID=Europe/Brussels:20260217T103000
DTEND;TZID=Europe/Brussels:20260217T103000
END:VEVENT
BEGIN:VEVENT
UID:A0E9B3BE-1D47-428D-8EB5-7807839F7498-31-1298_awayreminder@206.badminton
 ners.net
DTSTAMP:20260420T043625Z
SUMMARY:Uitmatch bevestigd? (Klein Boom 8G (125) - Smash 3G (123))
DESCRIPTION:Je hebt 72 uur na aanvang om een uitmatch op Badmintonvlaandere
 n in te vullen. Match info: Klein Boom 8G (125) - Smash 3G (123) - Link: h
 ttps://www.badmintonvlaanderen.be/sport/teammatch.aspx?id=A0E9B3BE-1D47-42
 8D-8EB5-7807839F7498&match=1298
DTSTART;TZID=Europe/Brussels:20260408T190000
DTEND;TZID=Europe/Brussels:20260408T190000
END:VEVENT
BEGIN:VEVENT
UID:A0E9B3BE-1D47-428D-8EB5-7807839F7498-31-1296_awayreminder@206.badminton
 ners.net
DTSTAMP:20260420T043625Z
SUMMARY:Uitmatch bevestigd? (Oelegem 1G (139) - Smash 3G (123))
DESCRIPTION:Je hebt 72 uur na aanvang om een uitmatch op Badmintonvlaandere
 n in te vullen. Match info: Oelegem 1G (139) - Smash 3G (123) - Link: http
 s://www.badmintonvlaanderen.be/sport/teammatch.aspx?id=A0E9B3BE-1D47-428D-
 8EB5-7807839F7498&match=1296
DTSTART;TZID=Europe/Brussels:20260410T200000
DTEND;TZID=Europe/Brussels:20260410T200000
END:VEVENT
BEGIN:VEVENT
UID:A0E9B3BE-1D47-428D-8EB5-7807839F7498-31-1300_awayreminder@206.badminton
 ners.net
DTSTAMP:20260420T043625Z
SUMMARY:Uitmatch bevestigd? (Duffel 3G (128) - Smash 3G (123))
DESCRIPTION:Je hebt 72 uur na aanvang om een uitmatch op Badmintonvlaandere
 n in te vullen. Match info: Duffel 3G (128) - Smash 3G (123) - Link: https
 ://www.badmintonvlaanderen.be/sport/teammatch.aspx?id=A0E9B3BE-1D47-428D-8
 EB5-7807839F7498&match=1300
DTSTART;TZID=Europe/Brussels:20260429T200000
DTEND;TZID=Europe/Brussels:20260429T200000
END:VEVENT
END:VCALENDAR