BEGIN:VCALENDAR
VERSION:2.0
PRODID:spatie/icalendar-generator
NAME:olve_7g_124_reminders
X-WR-CALNAME:olve_7g_124_reminders
BEGIN:VTIMEZONE
TZID:Europe/Brussels
BEGIN:DAYLIGHT
DTSTART:20250330T010000
TZOFFSETFROM:+0100
TZOFFSETTO:+0200
END:DAYLIGHT
BEGIN:STANDARD
DTSTART:20251026T030000
TZOFFSETFROM:+0200
TZOFFSETTO:+0100
END:STANDARD
BEGIN:DAYLIGHT
DTSTART:20260329T010000
TZOFFSETFROM:+0100
TZOFFSETTO:+0200
END:DAYLIGHT
BEGIN:STANDARD
DTSTART:20261025T030000
TZOFFSETFROM:+0200
TZOFFSETTO:+0100
END:STANDARD
END:VTIMEZONE
BEGIN:VTIMEZONE
TZID:UTC
BEGIN:STANDARD
DTSTART:20250724T055117
TZOFFSETFROM:+0000
TZOFFSETTO:+0000
END:STANDARD
END:VTIMEZONE
BEGIN:VEVENT
UID:A0E9B3BE-1D47-428D-8EB5-7807839F7498-31-1315_homereminder@207.badminton
 ners.net
DTSTAMP:20260420T055117Z
SUMMARY:Thuismatch ingevuld? (Olve 7G (124) - Klein Boom 8G (125))
DESCRIPTION:Je hebt 36 uur na aanvang om een thuismatch op Badmintonvlaande
 ren in te vullen. Match info: Olve 7G (124) - Klein Boom 8G (125) - Link: 
 https://www.badmintonvlaanderen.be/sport/teammatch.aspx?id=A0E9B3BE-1D47-4
 28D-8EB5-7807839F7498&match=1315
DTSTART;TZID=Europe/Brussels:20251019T223000
DTEND;TZID=Europe/Brussels:20251019T223000
END:VEVENT
BEGIN:VEVENT
UID:A0E9B3BE-1D47-428D-8EB5-7807839F7498-31-1301_homereminder@207.badminton
 ners.net
DTSTAMP:20260420T055117Z
SUMMARY:Thuismatch ingevuld? (Olve 7G (124) - Oelegem 1G (139))
DESCRIPTION:Je hebt 36 uur na aanvang om een thuismatch op Badmintonvlaande
 ren in te vullen. Match info: Olve 7G (124) - Oelegem 1G (139) - Link: htt
 ps://www.badmintonvlaanderen.be/sport/teammatch.aspx?id=A0E9B3BE-1D47-428D
 -8EB5-7807839F7498&match=1301
DTSTART;TZID=Europe/Brussels:20251026T213000
DTEND;TZID=Europe/Brussels:20251026T213000
END:VEVENT
BEGIN:VEVENT
UID:A0E9B3BE-1D47-428D-8EB5-7807839F7498-31-1329_homereminder@207.badminton
 ners.net
DTSTAMP:20260420T055117Z
SUMMARY:Thuismatch ingevuld? (Olve 7G (124) - Duffel 3G (128))
DESCRIPTION:Je hebt 36 uur na aanvang om een thuismatch op Badmintonvlaande
 ren in te vullen. Match info: Olve 7G (124) - Duffel 3G (128) - Link: http
 s://www.badmintonvlaanderen.be/sport/teammatch.aspx?id=A0E9B3BE-1D47-428D-
 8EB5-7807839F7498&match=1329
DTSTART;TZID=Europe/Brussels:20251109T223000
DTEND;TZID=Europe/Brussels:20251109T223000
END:VEVENT
BEGIN:VEVENT
UID:A0E9B3BE-1D47-428D-8EB5-7807839F7498-31-1287_homereminder@207.badminton
 ners.net
DTSTAMP:20260420T055117Z
SUMMARY:Thuismatch ingevuld? (Olve 7G (124) - Baret 1G (132))
DESCRIPTION:Je hebt 36 uur na aanvang om een thuismatch op Badmintonvlaande
 ren in te vullen. Match info: Olve 7G (124) - Baret 1G (132) - Link: https
 ://www.badmintonvlaanderen.be/sport/teammatch.aspx?id=A0E9B3BE-1D47-428D-8
 EB5-7807839F7498&match=1287
DTSTART;TZID=Europe/Brussels:20251207T223000
DTEND;TZID=Europe/Brussels:20251207T223000
END:VEVENT
BEGIN:VEVENT
UID:A0E9B3BE-1D47-428D-8EB5-7807839F7498-31-1294_homereminder@207.badminton
 ners.net
DTSTAMP:20260420T055117Z
SUMMARY:Thuismatch ingevuld? (Olve 7G (124) - Smash 3G (123))
DESCRIPTION:Je hebt 36 uur na aanvang om een thuismatch op Badmintonvlaande
 ren in te vullen. Match info: Olve 7G (124) - Smash 3G (123) - Link: https
 ://www.badmintonvlaanderen.be/sport/teammatch.aspx?id=A0E9B3BE-1D47-428D-8
 EB5-7807839F7498&match=1294
DTSTART;TZID=Europe/Brussels:20260215T223000
DTEND;TZID=Europe/Brussels:20260215T223000
END:VEVENT
BEGIN:VEVENT
UID:A0E9B3BE-1D47-428D-8EB5-7807839F7498-31-1322_homereminder@207.badminton
 ners.net
DTSTAMP:20260420T055117Z
SUMMARY:Thuismatch ingevuld? (Olve 7G (124) - Geelse 1G (122))
DESCRIPTION:Je hebt 36 uur na aanvang om een thuismatch op Badmintonvlaande
 ren in te vullen. Match info: Olve 7G (124) - Geelse 1G (122) - Link: http
 s://www.badmintonvlaanderen.be/sport/teammatch.aspx?id=A0E9B3BE-1D47-428D-
 8EB5-7807839F7498&match=1322
DTSTART;TZID=Europe/Brussels:20260329T233000
DTEND;TZID=Europe/Brussels:20260329T233000
END:VEVENT
BEGIN:VEVENT
UID:A0E9B3BE-1D47-428D-8EB5-7807839F7498-31-1308_homereminder@207.badminton
 ners.net
DTSTAMP:20260420T055117Z
SUMMARY:Thuismatch ingevuld? (Olve 7G (124) - Merksplas 4G (127))
DESCRIPTION:Je hebt 36 uur na aanvang om een thuismatch op Badmintonvlaande
 ren in te vullen. Match info: Olve 7G (124) - Merksplas 4G (127) - Link: h
 ttps://www.badmintonvlaanderen.be/sport/teammatch.aspx?id=A0E9B3BE-1D47-42
 8D-8EB5-7807839F7498&match=1308
DTSTART;TZID=Europe/Brussels:20260426T223000
DTEND;TZID=Europe/Brussels:20260426T223000
END:VEVENT
BEGIN:VEVENT
UID:A0E9B3BE-1D47-428D-8EB5-7807839F7498-31-1285_awayreminder@207.badminton
 ners.net
DTSTAMP:20260420T055117Z
SUMMARY:Uitmatch bevestigd? (Geelse 1G (122) - Olve 7G (124))
DESCRIPTION:Je hebt 72 uur na aanvang om een uitmatch op Badmintonvlaandere
 n in te vullen. Match info: Geelse 1G (122) - Olve 7G (124) - Link: https:
 //www.badmintonvlaanderen.be/sport/teammatch.aspx?id=A0E9B3BE-1D47-428D-8E
 B5-7807839F7498&match=1285
DTSTART;TZID=Europe/Brussels:20250921T200000
DTEND;TZID=Europe/Brussels:20250921T200000
END:VEVENT
BEGIN:VEVENT
UID:A0E9B3BE-1D47-428D-8EB5-7807839F7498-31-1283_awayreminder@207.badminton
 ners.net
DTSTAMP:20260420T055117Z
SUMMARY:Uitmatch bevestigd? (Merksplas 4G (127) - Olve 7G (124))
DESCRIPTION:Je hebt 72 uur na aanvang om een uitmatch op Badmintonvlaandere
 n in te vullen. Match info: Merksplas 4G (127) - Olve 7G (124) - Link: htt
 ps://www.badmintonvlaanderen.be/sport/teammatch.aspx?id=A0E9B3BE-1D47-428D
 -8EB5-7807839F7498&match=1283
DTSTART;TZID=Europe/Brussels:20251015T183000
DTEND;TZID=Europe/Brussels:20251015T183000
END:VEVENT
BEGIN:VEVENT
UID:A0E9B3BE-1D47-428D-8EB5-7807839F7498-31-1281_awayreminder@207.badminton
 ners.net
DTSTAMP:20260420T055117Z
SUMMARY:Uitmatch bevestigd? (Smash 3G (123) - Olve 7G (124))
DESCRIPTION:Je hebt 72 uur na aanvang om een uitmatch op Badmintonvlaandere
 n in te vullen. Match info: Smash 3G (123) - Olve 7G (124) - Link: https:/
 /www.badmintonvlaanderen.be/sport/teammatch.aspx?id=A0E9B3BE-1D47-428D-8EB
 5-7807839F7498&match=1281
DTSTART;TZID=Europe/Brussels:20251126T100000
DTEND;TZID=Europe/Brussels:20251126T100000
END:VEVENT
BEGIN:VEVENT
UID:A0E9B3BE-1D47-428D-8EB5-7807839F7498-31-1286_awayreminder@207.badminton
 ners.net
DTSTAMP:20260420T055117Z
SUMMARY:Uitmatch bevestigd? (Duffel 3G (128) - Olve 7G (124))
DESCRIPTION:Je hebt 72 uur na aanvang om een uitmatch op Badmintonvlaandere
 n in te vullen. Match info: Duffel 3G (128) - Olve 7G (124) - Link: https:
 //www.badmintonvlaanderen.be/sport/teammatch.aspx?id=A0E9B3BE-1D47-428D-8E
 B5-7807839F7498&match=1286
DTSTART;TZID=Europe/Brussels:20260121T200000
DTEND;TZID=Europe/Brussels:20260121T200000
END:VEVENT
BEGIN:VEVENT
UID:A0E9B3BE-1D47-428D-8EB5-7807839F7498-31-1280_awayreminder@207.badminton
 ners.net
DTSTAMP:20260420T055117Z
SUMMARY:Uitmatch bevestigd? (Baret 1G (132) - Olve 7G (124))
DESCRIPTION:Je hebt 72 uur na aanvang om een uitmatch op Badmintonvlaandere
 n in te vullen. Match info: Baret 1G (132) - Olve 7G (124) - Link: https:/
 /www.badmintonvlaanderen.be/sport/teammatch.aspx?id=A0E9B3BE-1D47-428D-8EB
 5-7807839F7498&match=1280
DTSTART;TZID=Europe/Brussels:20260129T200000
DTEND;TZID=Europe/Brussels:20260129T200000
END:VEVENT
BEGIN:VEVENT
UID:A0E9B3BE-1D47-428D-8EB5-7807839F7498-31-1282_awayreminder@207.badminton
 ners.net
DTSTAMP:20260420T055117Z
SUMMARY:Uitmatch bevestigd? (Oelegem 1G (139) - Olve 7G (124))
DESCRIPTION:Je hebt 72 uur na aanvang om een uitmatch op Badmintonvlaandere
 n in te vullen. Match info: Oelegem 1G (139) - Olve 7G (124) - Link: https
 ://www.badmintonvlaanderen.be/sport/teammatch.aspx?id=A0E9B3BE-1D47-428D-8
 EB5-7807839F7498&match=1282
DTSTART;TZID=Europe/Brussels:20260227T200000
DTEND;TZID=Europe/Brussels:20260227T200000
END:VEVENT
BEGIN:VEVENT
UID:A0E9B3BE-1D47-428D-8EB5-7807839F7498-31-1284_awayreminder@207.badminton
 ners.net
DTSTAMP:20260420T055117Z
SUMMARY:Uitmatch bevestigd? (Klein Boom 8G (125) - Olve 7G (124))
DESCRIPTION:Je hebt 72 uur na aanvang om een uitmatch op Badmintonvlaandere
 n in te vullen. Match info: Klein Boom 8G (125) - Olve 7G (124) - Link: ht
 tps://www.badmintonvlaanderen.be/sport/teammatch.aspx?id=A0E9B3BE-1D47-428
 D-8EB5-7807839F7498&match=1284
DTSTART;TZID=Europe/Brussels:20260415T190000
DTEND;TZID=Europe/Brussels:20260415T190000
END:VEVENT
END:VCALENDAR