BEGIN:VCALENDAR
VERSION:2.0
PRODID:spatie/icalendar-generator
NAME:kabad_1g_125_reminders
X-WR-CALNAME:kabad_1g_125_reminders
BEGIN:VTIMEZONE
TZID:Europe/Brussels
BEGIN:DAYLIGHT
DTSTART:20250330T010000
TZOFFSETFROM:+0100
TZOFFSETTO:+0200
END:DAYLIGHT
BEGIN:STANDARD
DTSTART:20251026T030000
TZOFFSETFROM:+0200
TZOFFSETTO:+0100
END:STANDARD
BEGIN:DAYLIGHT
DTSTART:20260329T010000
TZOFFSETFROM:+0100
TZOFFSETTO:+0200
END:DAYLIGHT
BEGIN:STANDARD
DTSTART:20261025T030000
TZOFFSETFROM:+0200
TZOFFSETTO:+0100
END:STANDARD
END:VTIMEZONE
BEGIN:VTIMEZONE
TZID:UTC
BEGIN:STANDARD
DTSTART:20250724T041158
TZOFFSETFROM:+0000
TZOFFSETTO:+0000
END:STANDARD
END:VTIMEZONE
BEGIN:VEVENT
UID:A0E9B3BE-1D47-428D-8EB5-7807839F7498-32-1353_homereminder@192.badminton
 ners.net
DTSTAMP:20260420T041158Z
SUMMARY:Thuismatch ingevuld? (Kabad 1G (125) - Molse 1G (133))
DESCRIPTION:Je hebt 36 uur na aanvang om een thuismatch op Badmintonvlaande
 ren in te vullen. Match info: Kabad 1G (125) - Molse 1G (133) - Link: http
 s://www.badmintonvlaanderen.be/sport/teammatch.aspx?id=A0E9B3BE-1D47-428D-
 8EB5-7807839F7498&match=1353
DTSTART;TZID=Europe/Brussels:20251028T070000
DTEND;TZID=Europe/Brussels:20251028T070000
END:VEVENT
BEGIN:VEVENT
UID:A0E9B3BE-1D47-428D-8EB5-7807839F7498-32-1375_homereminder@192.badminton
 ners.net
DTSTAMP:20260420T041158Z
SUMMARY:Thuismatch ingevuld? (Kabad 1G (125) - De Nekker 3G (118))
DESCRIPTION:Je hebt 36 uur na aanvang om een thuismatch op Badmintonvlaande
 ren in te vullen. Match info: Kabad 1G (125) - De Nekker 3G (118) - Link: 
 https://www.badmintonvlaanderen.be/sport/teammatch.aspx?id=A0E9B3BE-1D47-4
 28D-8EB5-7807839F7498&match=1375
DTSTART;TZID=Europe/Brussels:20251125T070000
DTEND;TZID=Europe/Brussels:20251125T070000
END:VEVENT
BEGIN:VEVENT
UID:A0E9B3BE-1D47-428D-8EB5-7807839F7498-32-1389_homereminder@192.badminton
 ners.net
DTSTAMP:20260420T041158Z
SUMMARY:Thuismatch ingevuld? (Kabad 1G (125) - Plumula 4G (125))
DESCRIPTION:Je hebt 36 uur na aanvang om een thuismatch op Badmintonvlaande
 ren in te vullen. Match info: Kabad 1G (125) - Plumula 4G (125) - Link: ht
 tps://www.badmintonvlaanderen.be/sport/teammatch.aspx?id=A0E9B3BE-1D47-428
 D-8EB5-7807839F7498&match=1389
DTSTART;TZID=Europe/Brussels:20251202T070000
DTEND;TZID=Europe/Brussels:20251202T070000
END:VEVENT
BEGIN:VEVENT
UID:A0E9B3BE-1D47-428D-8EB5-7807839F7498-32-1396_homereminder@192.badminton
 ners.net
DTSTAMP:20260420T041158Z
SUMMARY:Thuismatch ingevuld? (Kabad 1G (125) - Beerke 6G (121))
DESCRIPTION:Je hebt 36 uur na aanvang om een thuismatch op Badmintonvlaande
 ren in te vullen. Match info: Kabad 1G (125) - Beerke 6G (121) - Link: htt
 ps://www.badmintonvlaanderen.be/sport/teammatch.aspx?id=A0E9B3BE-1D47-428D
 -8EB5-7807839F7498&match=1396
DTSTART;TZID=Europe/Brussels:20251209T070000
DTEND;TZID=Europe/Brussels:20251209T070000
END:VEVENT
BEGIN:VEVENT
UID:A0E9B3BE-1D47-428D-8EB5-7807839F7498-32-1382_homereminder@192.badminton
 ners.net
DTSTAMP:20260420T041158Z
SUMMARY:Thuismatch ingevuld? (Kabad 1G (125) - Huirtuits Dropke 3G (112))
DESCRIPTION:Je hebt 36 uur na aanvang om een thuismatch op Badmintonvlaande
 ren in te vullen. Match info: Kabad 1G (125) - Huirtuits Dropke 3G (112) -
  Link: https://www.badmintonvlaanderen.be/sport/teammatch.aspx?id=A0E9B3BE
 -1D47-428D-8EB5-7807839F7498&match=1382
DTSTART;TZID=Europe/Brussels:20260120T070000
DTEND;TZID=Europe/Brussels:20260120T070000
END:VEVENT
BEGIN:VEVENT
UID:A0E9B3BE-1D47-428D-8EB5-7807839F7498-32-1360_homereminder@192.badminton
 ners.net
DTSTAMP:20260420T041158Z
SUMMARY:Thuismatch ingevuld? (Kabad 1G (125) - Klein Boom 9G (131))
DESCRIPTION:Je hebt 36 uur na aanvang om een thuismatch op Badmintonvlaande
 ren in te vullen. Match info: Kabad 1G (125) - Klein Boom 9G (131) - Link:
  https://www.badmintonvlaanderen.be/sport/teammatch.aspx?id=A0E9B3BE-1D47-
 428D-8EB5-7807839F7498&match=1360
DTSTART;TZID=Europe/Brussels:20260310T070000
DTEND;TZID=Europe/Brussels:20260310T070000
END:VEVENT
BEGIN:VEVENT
UID:A0E9B3BE-1D47-428D-8EB5-7807839F7498-32-1346_homereminder@192.badminton
 ners.net
DTSTAMP:20260420T041158Z
SUMMARY:Thuismatch ingevuld? (Kabad 1G (125) - Spinners 1G (112))
DESCRIPTION:Je hebt 36 uur na aanvang om een thuismatch op Badmintonvlaande
 ren in te vullen. Match info: Kabad 1G (125) - Spinners 1G (112) - Link: h
 ttps://www.badmintonvlaanderen.be/sport/teammatch.aspx?id=A0E9B3BE-1D47-42
 8D-8EB5-7807839F7498&match=1346
DTSTART;TZID=Europe/Brussels:20260421T070000
DTEND;TZID=Europe/Brussels:20260421T070000
END:VEVENT
BEGIN:VEVENT
UID:A0E9B3BE-1D47-428D-8EB5-7807839F7498-32-1369_awayreminder@192.badminton
 ners.net
DTSTAMP:20260420T041158Z
SUMMARY:Uitmatch bevestigd? (Huirtuits Dropke 3G (112) - Kabad 1G (125))
DESCRIPTION:Je hebt 72 uur na aanvang om een uitmatch op Badmintonvlaandere
 n in te vullen. Match info: Huirtuits Dropke 3G (112) - Kabad 1G (125) - L
 ink: https://www.badmintonvlaanderen.be/sport/teammatch.aspx?id=A0E9B3BE-1
 D47-428D-8EB5-7807839F7498&match=1369
DTSTART;TZID=Europe/Brussels:20251003T200000
DTEND;TZID=Europe/Brussels:20251003T200000
END:VEVENT
BEGIN:VEVENT
UID:A0E9B3BE-1D47-428D-8EB5-7807839F7498-32-1365_awayreminder@192.badminton
 ners.net
DTSTAMP:20260420T041158Z
SUMMARY:Uitmatch bevestigd? (Spinners 1G (112) - Kabad 1G (125))
DESCRIPTION:Je hebt 72 uur na aanvang om een uitmatch op Badmintonvlaandere
 n in te vullen. Match info: Spinners 1G (112) - Kabad 1G (125) - Link: htt
 ps://www.badmintonvlaanderen.be/sport/teammatch.aspx?id=A0E9B3BE-1D47-428D
 -8EB5-7807839F7498&match=1365
DTSTART;TZID=Europe/Brussels:20251020T210000
DTEND;TZID=Europe/Brussels:20251020T210000
END:VEVENT
BEGIN:VEVENT
UID:A0E9B3BE-1D47-428D-8EB5-7807839F7498-32-1367_awayreminder@192.badminton
 ners.net
DTSTAMP:20260420T041158Z
SUMMARY:Uitmatch bevestigd? (Klein Boom 9G (131) - Kabad 1G (125))
DESCRIPTION:Je hebt 72 uur na aanvang om een uitmatch op Badmintonvlaandere
 n in te vullen. Match info: Klein Boom 9G (131) - Kabad 1G (125) - Link: h
 ttps://www.badmintonvlaanderen.be/sport/teammatch.aspx?id=A0E9B3BE-1D47-42
 8D-8EB5-7807839F7498&match=1367
DTSTART;TZID=Europe/Brussels:20251112T190000
DTEND;TZID=Europe/Brussels:20251112T190000
END:VEVENT
BEGIN:VEVENT
UID:A0E9B3BE-1D47-428D-8EB5-7807839F7498-32-1370_awayreminder@192.badminton
 ners.net
DTSTAMP:20260420T041158Z
SUMMARY:Uitmatch bevestigd? (Plumula 4G (125) - Kabad 1G (125))
DESCRIPTION:Je hebt 72 uur na aanvang om een uitmatch op Badmintonvlaandere
 n in te vullen. Match info: Plumula 4G (125) - Kabad 1G (125) - Link: http
 s://www.badmintonvlaanderen.be/sport/teammatch.aspx?id=A0E9B3BE-1D47-428D-
 8EB5-7807839F7498&match=1370
DTSTART;TZID=Europe/Brussels:20260204T173000
DTEND;TZID=Europe/Brussels:20260204T173000
END:VEVENT
BEGIN:VEVENT
UID:A0E9B3BE-1D47-428D-8EB5-7807839F7498-32-1366_awayreminder@192.badminton
 ners.net
DTSTAMP:20260420T041158Z
SUMMARY:Uitmatch bevestigd? (Molse 1G (133) - Kabad 1G (125))
DESCRIPTION:Je hebt 72 uur na aanvang om een uitmatch op Badmintonvlaandere
 n in te vullen. Match info: Molse 1G (133) - Kabad 1G (125) - Link: https:
 //www.badmintonvlaanderen.be/sport/teammatch.aspx?id=A0E9B3BE-1D47-428D-8E
 B5-7807839F7498&match=1366
DTSTART;TZID=Europe/Brussels:20260211T190000
DTEND;TZID=Europe/Brussels:20260211T190000
END:VEVENT
BEGIN:VEVENT
UID:A0E9B3BE-1D47-428D-8EB5-7807839F7498-32-1371_awayreminder@192.badminton
 ners.net
DTSTAMP:20260420T041158Z
SUMMARY:Uitmatch bevestigd? (Beerke 6G (121) - Kabad 1G (125))
DESCRIPTION:Je hebt 72 uur na aanvang om een uitmatch op Badmintonvlaandere
 n in te vullen. Match info: Beerke 6G (121) - Kabad 1G (125) - Link: https
 ://www.badmintonvlaanderen.be/sport/teammatch.aspx?id=A0E9B3BE-1D47-428D-8
 EB5-7807839F7498&match=1371
DTSTART;TZID=Europe/Brussels:20260401T100000
DTEND;TZID=Europe/Brussels:20260401T100000
END:VEVENT
BEGIN:VEVENT
UID:A0E9B3BE-1D47-428D-8EB5-7807839F7498-32-1368_awayreminder@192.badminton
 ners.net
DTSTAMP:20260420T041158Z
SUMMARY:Uitmatch bevestigd? (De Nekker 3G (118) - Kabad 1G (125))
DESCRIPTION:Je hebt 72 uur na aanvang om een uitmatch op Badmintonvlaandere
 n in te vullen. Match info: De Nekker 3G (118) - Kabad 1G (125) - Link: ht
 tps://www.badmintonvlaanderen.be/sport/teammatch.aspx?id=A0E9B3BE-1D47-428
 D-8EB5-7807839F7498&match=1368
DTSTART;TZID=Europe/Brussels:20260424T203000
DTEND;TZID=Europe/Brussels:20260424T203000
END:VEVENT
END:VCALENDAR