BEGIN:VCALENDAR
VERSION:2.0
PRODID:spatie/icalendar-generator
NAME:huirtuits_dropke_3g_112_reminders
X-WR-CALNAME:huirtuits_dropke_3g_112_reminders
BEGIN:VTIMEZONE
TZID:Europe/Brussels
BEGIN:DAYLIGHT
DTSTART:20250330T010000
TZOFFSETFROM:+0100
TZOFFSETTO:+0200
END:DAYLIGHT
BEGIN:STANDARD
DTSTART:20251026T030000
TZOFFSETFROM:+0200
TZOFFSETTO:+0100
END:STANDARD
BEGIN:DAYLIGHT
DTSTART:20260329T010000
TZOFFSETFROM:+0100
TZOFFSETTO:+0200
END:DAYLIGHT
BEGIN:STANDARD
DTSTART:20261025T030000
TZOFFSETFROM:+0200
TZOFFSETTO:+0100
END:STANDARD
END:VTIMEZONE
BEGIN:VTIMEZONE
TZID:UTC
BEGIN:STANDARD
DTSTART:20250724T042224
TZOFFSETFROM:+0000
TZOFFSETTO:+0000
END:STANDARD
END:VTIMEZONE
BEGIN:VEVENT
UID:A0E9B3BE-1D47-428D-8EB5-7807839F7498-32-1369_homereminder@193.badminton
 ners.net
DTSTAMP:20260420T042224Z
SUMMARY:Thuismatch ingevuld? (Huirtuits Dropke 3G (112) - Kabad 1G (125))
DESCRIPTION:Je hebt 36 uur na aanvang om een thuismatch op Badmintonvlaande
 ren in te vullen. Match info: Huirtuits Dropke 3G (112) - Kabad 1G (125) -
  Link: https://www.badmintonvlaanderen.be/sport/teammatch.aspx?id=A0E9B3BE
 -1D47-428D-8EB5-7807839F7498&match=1369
DTSTART;TZID=Europe/Brussels:20251002T080000
DTEND;TZID=Europe/Brussels:20251002T080000
END:VEVENT
BEGIN:VEVENT
UID:A0E9B3BE-1D47-428D-8EB5-7807839F7498-32-1391_homereminder@193.badminton
 ners.net
DTSTAMP:20260420T042224Z
SUMMARY:Thuismatch ingevuld? (Huirtuits Dropke 3G (112) - Plumula 4G (125))
DESCRIPTION:Je hebt 36 uur na aanvang om een thuismatch op Badmintonvlaande
 ren in te vullen. Match info: Huirtuits Dropke 3G (112) - Plumula 4G (125)
  - Link: https://www.badmintonvlaanderen.be/sport/teammatch.aspx?id=A0E9B3
 BE-1D47-428D-8EB5-7807839F7498&match=1391
DTSTART;TZID=Europe/Brussels:20251023T080000
DTEND;TZID=Europe/Brussels:20251023T080000
END:VEVENT
BEGIN:VEVENT
UID:A0E9B3BE-1D47-428D-8EB5-7807839F7498-32-1355_homereminder@193.badminton
 ners.net
DTSTAMP:20260420T042224Z
SUMMARY:Thuismatch ingevuld? (Huirtuits Dropke 3G (112) - Molse 1G (133))
DESCRIPTION:Je hebt 36 uur na aanvang om een thuismatch op Badmintonvlaande
 ren in te vullen. Match info: Huirtuits Dropke 3G (112) - Molse 1G (133) -
  Link: https://www.badmintonvlaanderen.be/sport/teammatch.aspx?id=A0E9B3BE
 -1D47-428D-8EB5-7807839F7498&match=1355
DTSTART;TZID=Europe/Brussels:20251204T080000
DTEND;TZID=Europe/Brussels:20251204T080000
END:VEVENT
BEGIN:VEVENT
UID:A0E9B3BE-1D47-428D-8EB5-7807839F7498-32-1376_homereminder@193.badminton
 ners.net
DTSTAMP:20260420T042224Z
SUMMARY:Thuismatch ingevuld? (Huirtuits Dropke 3G (112) - De Nekker 3G (118
 ))
DESCRIPTION:Je hebt 36 uur na aanvang om een thuismatch op Badmintonvlaande
 ren in te vullen. Match info: Huirtuits Dropke 3G (112) - De Nekker 3G (11
 8) - Link: https://www.badmintonvlaanderen.be/sport/teammatch.aspx?id=A0E9
 B3BE-1D47-428D-8EB5-7807839F7498&match=1376
DTSTART;TZID=Europe/Brussels:20260129T080000
DTEND;TZID=Europe/Brussels:20260129T080000
END:VEVENT
BEGIN:VEVENT
UID:A0E9B3BE-1D47-428D-8EB5-7807839F7498-32-1398_homereminder@193.badminton
 ners.net
DTSTAMP:20260420T042224Z
SUMMARY:Thuismatch ingevuld? (Huirtuits Dropke 3G (112) - Beerke 6G (121))
DESCRIPTION:Je hebt 36 uur na aanvang om een thuismatch op Badmintonvlaande
 ren in te vullen. Match info: Huirtuits Dropke 3G (112) - Beerke 6G (121) 
 - Link: https://www.badmintonvlaanderen.be/sport/teammatch.aspx?id=A0E9B3B
 E-1D47-428D-8EB5-7807839F7498&match=1398
DTSTART;TZID=Europe/Brussels:20260212T080000
DTEND;TZID=Europe/Brussels:20260212T080000
END:VEVENT
BEGIN:VEVENT
UID:A0E9B3BE-1D47-428D-8EB5-7807839F7498-32-1348_homereminder@193.badminton
 ners.net
DTSTAMP:20260420T042224Z
SUMMARY:Thuismatch ingevuld? (Huirtuits Dropke 3G (112) - Spinners 1G (112)
 )
DESCRIPTION:Je hebt 36 uur na aanvang om een thuismatch op Badmintonvlaande
 ren in te vullen. Match info: Huirtuits Dropke 3G (112) - Spinners 1G (112
 ) - Link: https://www.badmintonvlaanderen.be/sport/teammatch.aspx?id=A0E9B
 3BE-1D47-428D-8EB5-7807839F7498&match=1348
DTSTART;TZID=Europe/Brussels:20260312T080000
DTEND;TZID=Europe/Brussels:20260312T080000
END:VEVENT
BEGIN:VEVENT
UID:A0E9B3BE-1D47-428D-8EB5-7807839F7498-32-1362_homereminder@193.badminton
 ners.net
DTSTAMP:20260420T042224Z
SUMMARY:Thuismatch ingevuld? (Huirtuits Dropke 3G (112) - Klein Boom 9G (13
 1))
DESCRIPTION:Je hebt 36 uur na aanvang om een thuismatch op Badmintonvlaande
 ren in te vullen. Match info: Huirtuits Dropke 3G (112) - Klein Boom 9G (1
 31) - Link: https://www.badmintonvlaanderen.be/sport/teammatch.aspx?id=A0E
 9B3BE-1D47-428D-8EB5-7807839F7498&match=1362
DTSTART;TZID=Europe/Brussels:20260423T080000
DTEND;TZID=Europe/Brussels:20260423T080000
END:VEVENT
BEGIN:VEVENT
UID:A0E9B3BE-1D47-428D-8EB5-7807839F7498-32-1385_awayreminder@193.badminton
 ners.net
DTSTAMP:20260420T042224Z
SUMMARY:Uitmatch bevestigd? (Beerke 6G (121) - Huirtuits Dropke 3G (112))
DESCRIPTION:Je hebt 72 uur na aanvang om een uitmatch op Badmintonvlaandere
 n in te vullen. Match info: Beerke 6G (121) - Huirtuits Dropke 3G (112) - 
 Link: https://www.badmintonvlaanderen.be/sport/teammatch.aspx?id=A0E9B3BE-
 1D47-428D-8EB5-7807839F7498&match=1385
DTSTART;TZID=Europe/Brussels:20251015T100000
DTEND;TZID=Europe/Brussels:20251015T100000
END:VEVENT
BEGIN:VEVENT
UID:A0E9B3BE-1D47-428D-8EB5-7807839F7498-32-1383_awayreminder@193.badminton
 ners.net
DTSTAMP:20260420T042224Z
SUMMARY:Uitmatch bevestigd? (De Nekker 3G (118) - Huirtuits Dropke 3G (112)
 )
DESCRIPTION:Je hebt 72 uur na aanvang om een uitmatch op Badmintonvlaandere
 n in te vullen. Match info: De Nekker 3G (118) - Huirtuits Dropke 3G (112)
  - Link: https://www.badmintonvlaanderen.be/sport/teammatch.aspx?id=A0E9B3
 BE-1D47-428D-8EB5-7807839F7498&match=1383
DTSTART;TZID=Europe/Brussels:20251017T203000
DTEND;TZID=Europe/Brussels:20251017T203000
END:VEVENT
BEGIN:VEVENT
UID:A0E9B3BE-1D47-428D-8EB5-7807839F7498-32-1379_awayreminder@193.badminton
 ners.net
DTSTAMP:20260420T042224Z
SUMMARY:Uitmatch bevestigd? (Spinners 1G (112) - Huirtuits Dropke 3G (112))
DESCRIPTION:Je hebt 72 uur na aanvang om een uitmatch op Badmintonvlaandere
 n in te vullen. Match info: Spinners 1G (112) - Huirtuits Dropke 3G (112) 
 - Link: https://www.badmintonvlaanderen.be/sport/teammatch.aspx?id=A0E9B3B
 E-1D47-428D-8EB5-7807839F7498&match=1379
DTSTART;TZID=Europe/Brussels:20251201T210000
DTEND;TZID=Europe/Brussels:20251201T210000
END:VEVENT
BEGIN:VEVENT
UID:A0E9B3BE-1D47-428D-8EB5-7807839F7498-32-1381_awayreminder@193.badminton
 ners.net
DTSTAMP:20260420T042224Z
SUMMARY:Uitmatch bevestigd? (Klein Boom 9G (131) - Huirtuits Dropke 3G (112
 ))
DESCRIPTION:Je hebt 72 uur na aanvang om een uitmatch op Badmintonvlaandere
 n in te vullen. Match info: Klein Boom 9G (131) - Huirtuits Dropke 3G (112
 ) - Link: https://www.badmintonvlaanderen.be/sport/teammatch.aspx?id=A0E9B
 3BE-1D47-428D-8EB5-7807839F7498&match=1381
DTSTART;TZID=Europe/Brussels:20251224T190000
DTEND;TZID=Europe/Brussels:20251224T190000
END:VEVENT
BEGIN:VEVENT
UID:A0E9B3BE-1D47-428D-8EB5-7807839F7498-32-1382_awayreminder@193.badminton
 ners.net
DTSTAMP:20260420T042224Z
SUMMARY:Uitmatch bevestigd? (Kabad 1G (125) - Huirtuits Dropke 3G (112))
DESCRIPTION:Je hebt 72 uur na aanvang om een uitmatch op Badmintonvlaandere
 n in te vullen. Match info: Kabad 1G (125) - Huirtuits Dropke 3G (112) - L
 ink: https://www.badmintonvlaanderen.be/sport/teammatch.aspx?id=A0E9B3BE-1
 D47-428D-8EB5-7807839F7498&match=1382
DTSTART;TZID=Europe/Brussels:20260121T190000
DTEND;TZID=Europe/Brussels:20260121T190000
END:VEVENT
BEGIN:VEVENT
UID:A0E9B3BE-1D47-428D-8EB5-7807839F7498-32-1384_awayreminder@193.badminton
 ners.net
DTSTAMP:20260420T042224Z
SUMMARY:Uitmatch bevestigd? (Plumula 4G (125) - Huirtuits Dropke 3G (112))
DESCRIPTION:Je hebt 72 uur na aanvang om een uitmatch op Badmintonvlaandere
 n in te vullen. Match info: Plumula 4G (125) - Huirtuits Dropke 3G (112) -
  Link: https://www.badmintonvlaanderen.be/sport/teammatch.aspx?id=A0E9B3BE
 -1D47-428D-8EB5-7807839F7498&match=1384
DTSTART;TZID=Europe/Brussels:20260311T173000
DTEND;TZID=Europe/Brussels:20260311T173000
END:VEVENT
BEGIN:VEVENT
UID:A0E9B3BE-1D47-428D-8EB5-7807839F7498-32-1380_awayreminder@193.badminton
 ners.net
DTSTAMP:20260420T042224Z
SUMMARY:Uitmatch bevestigd? (Molse 1G (133) - Huirtuits Dropke 3G (112))
DESCRIPTION:Je hebt 72 uur na aanvang om een uitmatch op Badmintonvlaandere
 n in te vullen. Match info: Molse 1G (133) - Huirtuits Dropke 3G (112) - L
 ink: https://www.badmintonvlaanderen.be/sport/teammatch.aspx?id=A0E9B3BE-1
 D47-428D-8EB5-7807839F7498&match=1380
DTSTART;TZID=Europe/Brussels:20260422T190000
DTEND;TZID=Europe/Brussels:20260422T190000
END:VEVENT
END:VCALENDAR