BEGIN:VCALENDAR
VERSION:2.0
PRODID:spatie/icalendar-generator
NAME:de_nekker_3g_118_reminders
X-WR-CALNAME:de_nekker_3g_118_reminders
BEGIN:VTIMEZONE
TZID:Europe/Brussels
BEGIN:DAYLIGHT
DTSTART:20250330T010000
TZOFFSETFROM:+0100
TZOFFSETTO:+0200
END:DAYLIGHT
BEGIN:STANDARD
DTSTART:20251026T030000
TZOFFSETFROM:+0200
TZOFFSETTO:+0100
END:STANDARD
BEGIN:DAYLIGHT
DTSTART:20260329T010000
TZOFFSETFROM:+0100
TZOFFSETTO:+0200
END:DAYLIGHT
BEGIN:STANDARD
DTSTART:20261025T030000
TZOFFSETFROM:+0200
TZOFFSETTO:+0100
END:STANDARD
END:VTIMEZONE
BEGIN:VTIMEZONE
TZID:UTC
BEGIN:STANDARD
DTSTART:20250724T055117
TZOFFSETFROM:+0000
TZOFFSETTO:+0000
END:STANDARD
END:VTIMEZONE
BEGIN:VEVENT
UID:A0E9B3BE-1D47-428D-8EB5-7807839F7498-32-1383_homereminder@194.badminton
 ners.net
DTSTAMP:20260420T055117Z
SUMMARY:Thuismatch ingevuld? (De Nekker 3G (118) - Huirtuits Dropke 3G (112
 ))
DESCRIPTION:Je hebt 36 uur na aanvang om een thuismatch op Badmintonvlaande
 ren in te vullen. Match info: De Nekker 3G (118) - Huirtuits Dropke 3G (11
 2) - Link: https://www.badmintonvlaanderen.be/sport/teammatch.aspx?id=A0E9
 B3BE-1D47-428D-8EB5-7807839F7498&match=1383
DTSTART;TZID=Europe/Brussels:20251016T083000
DTEND;TZID=Europe/Brussels:20251016T083000
END:VEVENT
BEGIN:VEVENT
UID:A0E9B3BE-1D47-428D-8EB5-7807839F7498-32-1347_homereminder@194.badminton
 ners.net
DTSTAMP:20260420T055117Z
SUMMARY:Thuismatch ingevuld? (De Nekker 3G (118) - Spinners 1G (112))
DESCRIPTION:Je hebt 36 uur na aanvang om een thuismatch op Badmintonvlaande
 ren in te vullen. Match info: De Nekker 3G (118) - Spinners 1G (112) - Lin
 k: https://www.badmintonvlaanderen.be/sport/teammatch.aspx?id=A0E9B3BE-1D4
 7-428D-8EB5-7807839F7498&match=1347
DTSTART;TZID=Europe/Brussels:20251023T083000
DTEND;TZID=Europe/Brussels:20251023T083000
END:VEVENT
BEGIN:VEVENT
UID:A0E9B3BE-1D47-428D-8EB5-7807839F7498-32-1361_homereminder@194.badminton
 ners.net
DTSTAMP:20260420T055117Z
SUMMARY:Thuismatch ingevuld? (De Nekker 3G (118) - Klein Boom 9G (131))
DESCRIPTION:Je hebt 36 uur na aanvang om een thuismatch op Badmintonvlaande
 ren in te vullen. Match info: De Nekker 3G (118) - Klein Boom 9G (131) - L
 ink: https://www.badmintonvlaanderen.be/sport/teammatch.aspx?id=A0E9B3BE-1
 D47-428D-8EB5-7807839F7498&match=1361
DTSTART;TZID=Europe/Brussels:20251204T083000
DTEND;TZID=Europe/Brussels:20251204T083000
END:VEVENT
BEGIN:VEVENT
UID:A0E9B3BE-1D47-428D-8EB5-7807839F7498-32-1397_homereminder@194.badminton
 ners.net
DTSTAMP:20260420T055117Z
SUMMARY:Thuismatch ingevuld? (De Nekker 3G (118) - Beerke 6G (121))
DESCRIPTION:Je hebt 36 uur na aanvang om een thuismatch op Badmintonvlaande
 ren in te vullen. Match info: De Nekker 3G (118) - Beerke 6G (121) - Link:
  https://www.badmintonvlaanderen.be/sport/teammatch.aspx?id=A0E9B3BE-1D47-
 428D-8EB5-7807839F7498&match=1397
DTSTART;TZID=Europe/Brussels:20260115T083000
DTEND;TZID=Europe/Brussels:20260115T083000
END:VEVENT
BEGIN:VEVENT
UID:A0E9B3BE-1D47-428D-8EB5-7807839F7498-32-1390_homereminder@194.badminton
 ners.net
DTSTAMP:20260420T055117Z
SUMMARY:Thuismatch ingevuld? (De Nekker 3G (118) - Plumula 4G (125))
DESCRIPTION:Je hebt 36 uur na aanvang om een thuismatch op Badmintonvlaande
 ren in te vullen. Match info: De Nekker 3G (118) - Plumula 4G (125) - Link
 : https://www.badmintonvlaanderen.be/sport/teammatch.aspx?id=A0E9B3BE-1D47
 -428D-8EB5-7807839F7498&match=1390
DTSTART;TZID=Europe/Brussels:20260212T083000
DTEND;TZID=Europe/Brussels:20260212T083000
END:VEVENT
BEGIN:VEVENT
UID:A0E9B3BE-1D47-428D-8EB5-7807839F7498-32-1354_homereminder@194.badminton
 ners.net
DTSTAMP:20260420T055117Z
SUMMARY:Thuismatch ingevuld? (De Nekker 3G (118) - Molse 1G (133))
DESCRIPTION:Je hebt 36 uur na aanvang om een thuismatch op Badmintonvlaande
 ren in te vullen. Match info: De Nekker 3G (118) - Molse 1G (133) - Link: 
 https://www.badmintonvlaanderen.be/sport/teammatch.aspx?id=A0E9B3BE-1D47-4
 28D-8EB5-7807839F7498&match=1354
DTSTART;TZID=Europe/Brussels:20260409T083000
DTEND;TZID=Europe/Brussels:20260409T083000
END:VEVENT
BEGIN:VEVENT
UID:A0E9B3BE-1D47-428D-8EB5-7807839F7498-32-1368_homereminder@194.badminton
 ners.net
DTSTAMP:20260420T055117Z
SUMMARY:Thuismatch ingevuld? (De Nekker 3G (118) - Kabad 1G (125))
DESCRIPTION:Je hebt 36 uur na aanvang om een thuismatch op Badmintonvlaande
 ren in te vullen. Match info: De Nekker 3G (118) - Kabad 1G (125) - Link: 
 https://www.badmintonvlaanderen.be/sport/teammatch.aspx?id=A0E9B3BE-1D47-4
 28D-8EB5-7807839F7498&match=1368
DTSTART;TZID=Europe/Brussels:20260423T083000
DTEND;TZID=Europe/Brussels:20260423T083000
END:VEVENT
BEGIN:VEVENT
UID:A0E9B3BE-1D47-428D-8EB5-7807839F7498-32-1377_awayreminder@194.badminton
 ners.net
DTSTAMP:20260420T055117Z
SUMMARY:Uitmatch bevestigd? (Plumula 4G (125) - De Nekker 3G (118))
DESCRIPTION:Je hebt 72 uur na aanvang om een uitmatch op Badmintonvlaandere
 n in te vullen. Match info: Plumula 4G (125) - De Nekker 3G (118) - Link: 
 https://www.badmintonvlaanderen.be/sport/teammatch.aspx?id=A0E9B3BE-1D47-4
 28D-8EB5-7807839F7498&match=1377
DTSTART;TZID=Europe/Brussels:20251015T173000
DTEND;TZID=Europe/Brussels:20251015T173000
END:VEVENT
BEGIN:VEVENT
UID:A0E9B3BE-1D47-428D-8EB5-7807839F7498-32-1373_awayreminder@194.badminton
 ners.net
DTSTAMP:20260420T055117Z
SUMMARY:Uitmatch bevestigd? (Molse 1G (133) - De Nekker 3G (118))
DESCRIPTION:Je hebt 72 uur na aanvang om een uitmatch op Badmintonvlaandere
 n in te vullen. Match info: Molse 1G (133) - De Nekker 3G (118) - Link: ht
 tps://www.badmintonvlaanderen.be/sport/teammatch.aspx?id=A0E9B3BE-1D47-428
 D-8EB5-7807839F7498&match=1373
DTSTART;TZID=Europe/Brussels:20251112T190000
DTEND;TZID=Europe/Brussels:20251112T190000
END:VEVENT
BEGIN:VEVENT
UID:A0E9B3BE-1D47-428D-8EB5-7807839F7498-32-1378_awayreminder@194.badminton
 ners.net
DTSTAMP:20260420T055117Z
SUMMARY:Uitmatch bevestigd? (Beerke 6G (121) - De Nekker 3G (118))
DESCRIPTION:Je hebt 72 uur na aanvang om een uitmatch op Badmintonvlaandere
 n in te vullen. Match info: Beerke 6G (121) - De Nekker 3G (118) - Link: h
 ttps://www.badmintonvlaanderen.be/sport/teammatch.aspx?id=A0E9B3BE-1D47-42
 8D-8EB5-7807839F7498&match=1378
DTSTART;TZID=Europe/Brussels:20251119T100000
DTEND;TZID=Europe/Brussels:20251119T100000
END:VEVENT
BEGIN:VEVENT
UID:A0E9B3BE-1D47-428D-8EB5-7807839F7498-32-1375_awayreminder@194.badminton
 ners.net
DTSTAMP:20260420T055117Z
SUMMARY:Uitmatch bevestigd? (Kabad 1G (125) - De Nekker 3G (118))
DESCRIPTION:Je hebt 72 uur na aanvang om een uitmatch op Badmintonvlaandere
 n in te vullen. Match info: Kabad 1G (125) - De Nekker 3G (118) - Link: ht
 tps://www.badmintonvlaanderen.be/sport/teammatch.aspx?id=A0E9B3BE-1D47-428
 D-8EB5-7807839F7498&match=1375
DTSTART;TZID=Europe/Brussels:20251126T190000
DTEND;TZID=Europe/Brussels:20251126T190000
END:VEVENT
BEGIN:VEVENT
UID:A0E9B3BE-1D47-428D-8EB5-7807839F7498-32-1376_awayreminder@194.badminton
 ners.net
DTSTAMP:20260420T055117Z
SUMMARY:Uitmatch bevestigd? (Huirtuits Dropke 3G (112) - De Nekker 3G (118)
 )
DESCRIPTION:Je hebt 72 uur na aanvang om een uitmatch op Badmintonvlaandere
 n in te vullen. Match info: Huirtuits Dropke 3G (112) - De Nekker 3G (118)
  - Link: https://www.badmintonvlaanderen.be/sport/teammatch.aspx?id=A0E9B3
 BE-1D47-428D-8EB5-7807839F7498&match=1376
DTSTART;TZID=Europe/Brussels:20260130T200000
DTEND;TZID=Europe/Brussels:20260130T200000
END:VEVENT
BEGIN:VEVENT
UID:A0E9B3BE-1D47-428D-8EB5-7807839F7498-32-1372_awayreminder@194.badminton
 ners.net
DTSTAMP:20260420T055117Z
SUMMARY:Uitmatch bevestigd? (Spinners 1G (112) - De Nekker 3G (118))
DESCRIPTION:Je hebt 72 uur na aanvang om een uitmatch op Badmintonvlaandere
 n in te vullen. Match info: Spinners 1G (112) - De Nekker 3G (118) - Link:
  https://www.badmintonvlaanderen.be/sport/teammatch.aspx?id=A0E9B3BE-1D47-
 428D-8EB5-7807839F7498&match=1372
DTSTART;TZID=Europe/Brussels:20260302T210000
DTEND;TZID=Europe/Brussels:20260302T210000
END:VEVENT
BEGIN:VEVENT
UID:A0E9B3BE-1D47-428D-8EB5-7807839F7498-32-1374_awayreminder@194.badminton
 ners.net
DTSTAMP:20260420T055117Z
SUMMARY:Uitmatch bevestigd? (Klein Boom 9G (131) - De Nekker 3G (118))
DESCRIPTION:Je hebt 72 uur na aanvang om een uitmatch op Badmintonvlaandere
 n in te vullen. Match info: Klein Boom 9G (131) - De Nekker 3G (118) - Lin
 k: https://www.badmintonvlaanderen.be/sport/teammatch.aspx?id=A0E9B3BE-1D4
 7-428D-8EB5-7807839F7498&match=1374
DTSTART;TZID=Europe/Brussels:20260401T190000
DTEND;TZID=Europe/Brussels:20260401T190000
END:VEVENT
END:VCALENDAR