BEGIN:VCALENDAR
VERSION:2.0
PRODID:spatie/icalendar-generator
NAME:klein_boom_9g_131_reminders
X-WR-CALNAME:klein_boom_9g_131_reminders
BEGIN:VTIMEZONE
TZID:Europe/Brussels
BEGIN:DAYLIGHT
DTSTART:20250330T010000
TZOFFSETFROM:+0100
TZOFFSETTO:+0200
END:DAYLIGHT
BEGIN:STANDARD
DTSTART:20251026T030000
TZOFFSETFROM:+0200
TZOFFSETTO:+0100
END:STANDARD
BEGIN:DAYLIGHT
DTSTART:20260329T010000
TZOFFSETFROM:+0100
TZOFFSETTO:+0200
END:DAYLIGHT
BEGIN:STANDARD
DTSTART:20261025T030000
TZOFFSETFROM:+0200
TZOFFSETTO:+0100
END:STANDARD
END:VTIMEZONE
BEGIN:VTIMEZONE
TZID:UTC
BEGIN:STANDARD
DTSTART:20250724T043557
TZOFFSETFROM:+0000
TZOFFSETTO:+0000
END:STANDARD
END:VTIMEZONE
BEGIN:VEVENT
UID:A0E9B3BE-1D47-428D-8EB5-7807839F7498-32-1345_homereminder@197.badminton
 ners.net
DTSTAMP:20260420T043557Z
SUMMARY:Thuismatch ingevuld? (Klein Boom 9G (131) - Spinners 1G (112))
DESCRIPTION:Je hebt 36 uur na aanvang om een thuismatch op Badmintonvlaande
 ren in te vullen. Match info: Klein Boom 9G (131) - Spinners 1G (112) - Li
 nk: https://www.badmintonvlaanderen.be/sport/teammatch.aspx?id=A0E9B3BE-1D
 47-428D-8EB5-7807839F7498&match=1345
DTSTART;TZID=Europe/Brussels:20251007T070000
DTEND;TZID=Europe/Brussels:20251007T070000
END:VEVENT
BEGIN:VEVENT
UID:A0E9B3BE-1D47-428D-8EB5-7807839F7498-32-1395_homereminder@197.badminton
 ners.net
DTSTAMP:20260420T043557Z
SUMMARY:Thuismatch ingevuld? (Klein Boom 9G (131) - Beerke 6G (121))
DESCRIPTION:Je hebt 36 uur na aanvang om een thuismatch op Badmintonvlaande
 ren in te vullen. Match info: Klein Boom 9G (131) - Beerke 6G (121) - Link
 : https://www.badmintonvlaanderen.be/sport/teammatch.aspx?id=A0E9B3BE-1D47
 -428D-8EB5-7807839F7498&match=1395
DTSTART;TZID=Europe/Brussels:20251022T080000
DTEND;TZID=Europe/Brussels:20251022T080000
END:VEVENT
BEGIN:VEVENT
UID:A0E9B3BE-1D47-428D-8EB5-7807839F7498-32-1367_homereminder@197.badminton
 ners.net
DTSTAMP:20260420T043557Z
SUMMARY:Thuismatch ingevuld? (Klein Boom 9G (131) - Kabad 1G (125))
DESCRIPTION:Je hebt 36 uur na aanvang om een thuismatch op Badmintonvlaande
 ren in te vullen. Match info: Klein Boom 9G (131) - Kabad 1G (125) - Link:
  https://www.badmintonvlaanderen.be/sport/teammatch.aspx?id=A0E9B3BE-1D47-
 428D-8EB5-7807839F7498&match=1367
DTSTART;TZID=Europe/Brussels:20251111T070000
DTEND;TZID=Europe/Brussels:20251111T070000
END:VEVENT
BEGIN:VEVENT
UID:A0E9B3BE-1D47-428D-8EB5-7807839F7498-32-1381_homereminder@197.badminton
 ners.net
DTSTAMP:20260420T043557Z
SUMMARY:Thuismatch ingevuld? (Klein Boom 9G (131) - Huirtuits Dropke 3G (11
 2))
DESCRIPTION:Je hebt 36 uur na aanvang om een thuismatch op Badmintonvlaande
 ren in te vullen. Match info: Klein Boom 9G (131) - Huirtuits Dropke 3G (1
 12) - Link: https://www.badmintonvlaanderen.be/sport/teammatch.aspx?id=A0E
 9B3BE-1D47-428D-8EB5-7807839F7498&match=1381
DTSTART;TZID=Europe/Brussels:20251223T070000
DTEND;TZID=Europe/Brussels:20251223T070000
END:VEVENT
BEGIN:VEVENT
UID:A0E9B3BE-1D47-428D-8EB5-7807839F7498-32-1388_homereminder@197.badminton
 ners.net
DTSTAMP:20260420T043557Z
SUMMARY:Thuismatch ingevuld? (Klein Boom 9G (131) - Plumula 4G (125))
DESCRIPTION:Je hebt 36 uur na aanvang om een thuismatch op Badmintonvlaande
 ren in te vullen. Match info: Klein Boom 9G (131) - Plumula 4G (125) - Lin
 k: https://www.badmintonvlaanderen.be/sport/teammatch.aspx?id=A0E9B3BE-1D4
 7-428D-8EB5-7807839F7498&match=1388
DTSTART;TZID=Europe/Brussels:20260120T070000
DTEND;TZID=Europe/Brussels:20260120T070000
END:VEVENT
BEGIN:VEVENT
UID:A0E9B3BE-1D47-428D-8EB5-7807839F7498-32-1352_homereminder@197.badminton
 ners.net
DTSTAMP:20260420T043557Z
SUMMARY:Thuismatch ingevuld? (Klein Boom 9G (131) - Molse 1G (133))
DESCRIPTION:Je hebt 36 uur na aanvang om een thuismatch op Badmintonvlaande
 ren in te vullen. Match info: Klein Boom 9G (131) - Molse 1G (133) - Link:
  https://www.badmintonvlaanderen.be/sport/teammatch.aspx?id=A0E9B3BE-1D47-
 428D-8EB5-7807839F7498&match=1352
DTSTART;TZID=Europe/Brussels:20260224T070000
DTEND;TZID=Europe/Brussels:20260224T070000
END:VEVENT
BEGIN:VEVENT
UID:A0E9B3BE-1D47-428D-8EB5-7807839F7498-32-1374_homereminder@197.badminton
 ners.net
DTSTAMP:20260420T043557Z
SUMMARY:Thuismatch ingevuld? (Klein Boom 9G (131) - De Nekker 3G (118))
DESCRIPTION:Je hebt 36 uur na aanvang om een thuismatch op Badmintonvlaande
 ren in te vullen. Match info: Klein Boom 9G (131) - De Nekker 3G (118) - L
 ink: https://www.badmintonvlaanderen.be/sport/teammatch.aspx?id=A0E9B3BE-1
 D47-428D-8EB5-7807839F7498&match=1374
DTSTART;TZID=Europe/Brussels:20260331T070000
DTEND;TZID=Europe/Brussels:20260331T070000
END:VEVENT
BEGIN:VEVENT
UID:A0E9B3BE-1D47-428D-8EB5-7807839F7498-32-1363_awayreminder@197.badminton
 ners.net
DTSTAMP:20260420T043557Z
SUMMARY:Uitmatch bevestigd? (Plumula 4G (125) - Klein Boom 9G (131))
DESCRIPTION:Je hebt 72 uur na aanvang om een uitmatch op Badmintonvlaandere
 n in te vullen. Match info: Plumula 4G (125) - Klein Boom 9G (131) - Link:
  https://www.badmintonvlaanderen.be/sport/teammatch.aspx?id=A0E9B3BE-1D47-
 428D-8EB5-7807839F7498&match=1363
DTSTART;TZID=Europe/Brussels:20250917T173000
DTEND;TZID=Europe/Brussels:20250917T173000
END:VEVENT
BEGIN:VEVENT
UID:A0E9B3BE-1D47-428D-8EB5-7807839F7498-32-1359_awayreminder@197.badminton
 ners.net
DTSTAMP:20260420T043557Z
SUMMARY:Uitmatch bevestigd? (Molse 1G (133) - Klein Boom 9G (131))
DESCRIPTION:Je hebt 72 uur na aanvang om een uitmatch op Badmintonvlaandere
 n in te vullen. Match info: Molse 1G (133) - Klein Boom 9G (131) - Link: h
 ttps://www.badmintonvlaanderen.be/sport/teammatch.aspx?id=A0E9B3BE-1D47-42
 8D-8EB5-7807839F7498&match=1359
DTSTART;TZID=Europe/Brussels:20251015T190000
DTEND;TZID=Europe/Brussels:20251015T190000
END:VEVENT
BEGIN:VEVENT
UID:A0E9B3BE-1D47-428D-8EB5-7807839F7498-32-1361_awayreminder@197.badminton
 ners.net
DTSTAMP:20260420T043557Z
SUMMARY:Uitmatch bevestigd? (De Nekker 3G (118) - Klein Boom 9G (131))
DESCRIPTION:Je hebt 72 uur na aanvang om een uitmatch op Badmintonvlaandere
 n in te vullen. Match info: De Nekker 3G (118) - Klein Boom 9G (131) - Lin
 k: https://www.badmintonvlaanderen.be/sport/teammatch.aspx?id=A0E9B3BE-1D4
 7-428D-8EB5-7807839F7498&match=1361
DTSTART;TZID=Europe/Brussels:20251205T203000
DTEND;TZID=Europe/Brussels:20251205T203000
END:VEVENT
BEGIN:VEVENT
UID:A0E9B3BE-1D47-428D-8EB5-7807839F7498-32-1358_awayreminder@197.badminton
 ners.net
DTSTAMP:20260420T043557Z
SUMMARY:Uitmatch bevestigd? (Spinners 1G (112) - Klein Boom 9G (131))
DESCRIPTION:Je hebt 72 uur na aanvang om een uitmatch op Badmintonvlaandere
 n in te vullen. Match info: Spinners 1G (112) - Klein Boom 9G (131) - Link
 : https://www.badmintonvlaanderen.be/sport/teammatch.aspx?id=A0E9B3BE-1D47
 -428D-8EB5-7807839F7498&match=1358
DTSTART;TZID=Europe/Brussels:20260202T210000
DTEND;TZID=Europe/Brussels:20260202T210000
END:VEVENT
BEGIN:VEVENT
UID:A0E9B3BE-1D47-428D-8EB5-7807839F7498-32-1364_awayreminder@197.badminton
 ners.net
DTSTAMP:20260420T043557Z
SUMMARY:Uitmatch bevestigd? (Beerke 6G (121) - Klein Boom 9G (131))
DESCRIPTION:Je hebt 72 uur na aanvang om een uitmatch op Badmintonvlaandere
 n in te vullen. Match info: Beerke 6G (121) - Klein Boom 9G (131) - Link: 
 https://www.badmintonvlaanderen.be/sport/teammatch.aspx?id=A0E9B3BE-1D47-4
 28D-8EB5-7807839F7498&match=1364
DTSTART;TZID=Europe/Brussels:20260304T100000
DTEND;TZID=Europe/Brussels:20260304T100000
END:VEVENT
BEGIN:VEVENT
UID:A0E9B3BE-1D47-428D-8EB5-7807839F7498-32-1360_awayreminder@197.badminton
 ners.net
DTSTAMP:20260420T043557Z
SUMMARY:Uitmatch bevestigd? (Kabad 1G (125) - Klein Boom 9G (131))
DESCRIPTION:Je hebt 72 uur na aanvang om een uitmatch op Badmintonvlaandere
 n in te vullen. Match info: Kabad 1G (125) - Klein Boom 9G (131) - Link: h
 ttps://www.badmintonvlaanderen.be/sport/teammatch.aspx?id=A0E9B3BE-1D47-42
 8D-8EB5-7807839F7498&match=1360
DTSTART;TZID=Europe/Brussels:20260311T190000
DTEND;TZID=Europe/Brussels:20260311T190000
END:VEVENT
BEGIN:VEVENT
UID:A0E9B3BE-1D47-428D-8EB5-7807839F7498-32-1362_awayreminder@197.badminton
 ners.net
DTSTAMP:20260420T043557Z
SUMMARY:Uitmatch bevestigd? (Huirtuits Dropke 3G (112) - Klein Boom 9G (131
 ))
DESCRIPTION:Je hebt 72 uur na aanvang om een uitmatch op Badmintonvlaandere
 n in te vullen. Match info: Huirtuits Dropke 3G (112) - Klein Boom 9G (131
 ) - Link: https://www.badmintonvlaanderen.be/sport/teammatch.aspx?id=A0E9B
 3BE-1D47-428D-8EB5-7807839F7498&match=1362
DTSTART;TZID=Europe/Brussels:20260424T200000
DTEND;TZID=Europe/Brussels:20260424T200000
END:VEVENT
END:VCALENDAR