BEGIN:VCALENDAR
VERSION:2.0
PRODID:spatie/icalendar-generator
NAME:plumula_4g_125_reminders
X-WR-CALNAME:plumula_4g_125_reminders
BEGIN:VTIMEZONE
TZID:Europe/Brussels
BEGIN:DAYLIGHT
DTSTART:20250330T010000
TZOFFSETFROM:+0100
TZOFFSETTO:+0200
END:DAYLIGHT
BEGIN:STANDARD
DTSTART:20251026T030000
TZOFFSETFROM:+0200
TZOFFSETTO:+0100
END:STANDARD
BEGIN:DAYLIGHT
DTSTART:20260329T010000
TZOFFSETFROM:+0100
TZOFFSETTO:+0200
END:DAYLIGHT
BEGIN:STANDARD
DTSTART:20261025T030000
TZOFFSETFROM:+0200
TZOFFSETTO:+0100
END:STANDARD
END:VTIMEZONE
BEGIN:VTIMEZONE
TZID:UTC
BEGIN:STANDARD
DTSTART:20250724T041158
TZOFFSETFROM:+0000
TZOFFSETTO:+0000
END:STANDARD
END:VTIMEZONE
BEGIN:VEVENT
UID:A0E9B3BE-1D47-428D-8EB5-7807839F7498-32-1363_homereminder@199.badminton
 ners.net
DTSTAMP:20260420T041158Z
SUMMARY:Thuismatch ingevuld? (Plumula 4G (125) - Klein Boom 9G (131))
DESCRIPTION:Je hebt 36 uur na aanvang om een thuismatch op Badmintonvlaande
 ren in te vullen. Match info: Plumula 4G (125) - Klein Boom 9G (131) - Lin
 k: https://www.badmintonvlaanderen.be/sport/teammatch.aspx?id=A0E9B3BE-1D4
 7-428D-8EB5-7807839F7498&match=1363
DTSTART;TZID=Europe/Brussels:20250916T053000
DTEND;TZID=Europe/Brussels:20250916T053000
END:VEVENT
BEGIN:VEVENT
UID:A0E9B3BE-1D47-428D-8EB5-7807839F7498-32-1377_homereminder@199.badminton
 ners.net
DTSTAMP:20260420T041158Z
SUMMARY:Thuismatch ingevuld? (Plumula 4G (125) - De Nekker 3G (118))
DESCRIPTION:Je hebt 36 uur na aanvang om een thuismatch op Badmintonvlaande
 ren in te vullen. Match info: Plumula 4G (125) - De Nekker 3G (118) - Link
 : https://www.badmintonvlaanderen.be/sport/teammatch.aspx?id=A0E9B3BE-1D47
 -428D-8EB5-7807839F7498&match=1377
DTSTART;TZID=Europe/Brussels:20251014T053000
DTEND;TZID=Europe/Brussels:20251014T053000
END:VEVENT
BEGIN:VEVENT
UID:A0E9B3BE-1D47-428D-8EB5-7807839F7498-32-1349_homereminder@199.badminton
 ners.net
DTSTAMP:20260420T041158Z
SUMMARY:Thuismatch ingevuld? (Plumula 4G (125) - Spinners 1G (112))
DESCRIPTION:Je hebt 36 uur na aanvang om een thuismatch op Badmintonvlaande
 ren in te vullen. Match info: Plumula 4G (125) - Spinners 1G (112) - Link:
  https://www.badmintonvlaanderen.be/sport/teammatch.aspx?id=A0E9B3BE-1D47-
 428D-8EB5-7807839F7498&match=1349
DTSTART;TZID=Europe/Brussels:20251209T053000
DTEND;TZID=Europe/Brussels:20251209T053000
END:VEVENT
BEGIN:VEVENT
UID:A0E9B3BE-1D47-428D-8EB5-7807839F7498-32-1370_homereminder@199.badminton
 ners.net
DTSTAMP:20260420T041158Z
SUMMARY:Thuismatch ingevuld? (Plumula 4G (125) - Kabad 1G (125))
DESCRIPTION:Je hebt 36 uur na aanvang om een thuismatch op Badmintonvlaande
 ren in te vullen. Match info: Plumula 4G (125) - Kabad 1G (125) - Link: ht
 tps://www.badmintonvlaanderen.be/sport/teammatch.aspx?id=A0E9B3BE-1D47-428
 D-8EB5-7807839F7498&match=1370
DTSTART;TZID=Europe/Brussels:20260203T053000
DTEND;TZID=Europe/Brussels:20260203T053000
END:VEVENT
BEGIN:VEVENT
UID:A0E9B3BE-1D47-428D-8EB5-7807839F7498-32-1384_homereminder@199.badminton
 ners.net
DTSTAMP:20260420T041158Z
SUMMARY:Thuismatch ingevuld? (Plumula 4G (125) - Huirtuits Dropke 3G (112))
DESCRIPTION:Je hebt 36 uur na aanvang om een thuismatch op Badmintonvlaande
 ren in te vullen. Match info: Plumula 4G (125) - Huirtuits Dropke 3G (112)
  - Link: https://www.badmintonvlaanderen.be/sport/teammatch.aspx?id=A0E9B3
 BE-1D47-428D-8EB5-7807839F7498&match=1384
DTSTART;TZID=Europe/Brussels:20260310T053000
DTEND;TZID=Europe/Brussels:20260310T053000
END:VEVENT
BEGIN:VEVENT
UID:A0E9B3BE-1D47-428D-8EB5-7807839F7498-32-1399_homereminder@199.badminton
 ners.net
DTSTAMP:20260420T041158Z
SUMMARY:Thuismatch ingevuld? (Plumula 4G (125) - Beerke 6G (121))
DESCRIPTION:Je hebt 36 uur na aanvang om een thuismatch op Badmintonvlaande
 ren in te vullen. Match info: Plumula 4G (125) - Beerke 6G (121) - Link: h
 ttps://www.badmintonvlaanderen.be/sport/teammatch.aspx?id=A0E9B3BE-1D47-42
 8D-8EB5-7807839F7498&match=1399
DTSTART;TZID=Europe/Brussels:20260317T053000
DTEND;TZID=Europe/Brussels:20260317T053000
END:VEVENT
BEGIN:VEVENT
UID:A0E9B3BE-1D47-428D-8EB5-7807839F7498-32-1356_homereminder@199.badminton
 ners.net
DTSTAMP:20260420T041158Z
SUMMARY:Thuismatch ingevuld? (Plumula 4G (125) - Molse 1G (133))
DESCRIPTION:Je hebt 36 uur na aanvang om een thuismatch op Badmintonvlaande
 ren in te vullen. Match info: Plumula 4G (125) - Molse 1G (133) - Link: ht
 tps://www.badmintonvlaanderen.be/sport/teammatch.aspx?id=A0E9B3BE-1D47-428
 D-8EB5-7807839F7498&match=1356
DTSTART;TZID=Europe/Brussels:20260428T053000
DTEND;TZID=Europe/Brussels:20260428T053000
END:VEVENT
BEGIN:VEVENT
UID:A0E9B3BE-1D47-428D-8EB5-7807839F7498-32-1387_awayreminder@199.badminton
 ners.net
DTSTAMP:20260420T041158Z
SUMMARY:Uitmatch bevestigd? (Molse 1G (133) - Plumula 4G (125))
DESCRIPTION:Je hebt 72 uur na aanvang om een uitmatch op Badmintonvlaandere
 n in te vullen. Match info: Molse 1G (133) - Plumula 4G (125) - Link: http
 s://www.badmintonvlaanderen.be/sport/teammatch.aspx?id=A0E9B3BE-1D47-428D-
 8EB5-7807839F7498&match=1387
DTSTART;TZID=Europe/Brussels:20251022T190000
DTEND;TZID=Europe/Brussels:20251022T190000
END:VEVENT
BEGIN:VEVENT
UID:A0E9B3BE-1D47-428D-8EB5-7807839F7498-32-1391_awayreminder@199.badminton
 ners.net
DTSTAMP:20260420T041158Z
SUMMARY:Uitmatch bevestigd? (Huirtuits Dropke 3G (112) - Plumula 4G (125))
DESCRIPTION:Je hebt 72 uur na aanvang om een uitmatch op Badmintonvlaandere
 n in te vullen. Match info: Huirtuits Dropke 3G (112) - Plumula 4G (125) -
  Link: https://www.badmintonvlaanderen.be/sport/teammatch.aspx?id=A0E9B3BE
 -1D47-428D-8EB5-7807839F7498&match=1391
DTSTART;TZID=Europe/Brussels:20251024T200000
DTEND;TZID=Europe/Brussels:20251024T200000
END:VEVENT
BEGIN:VEVENT
UID:A0E9B3BE-1D47-428D-8EB5-7807839F7498-32-1392_awayreminder@199.badminton
 ners.net
DTSTAMP:20260420T041158Z
SUMMARY:Uitmatch bevestigd? (Beerke 6G (121) - Plumula 4G (125))
DESCRIPTION:Je hebt 72 uur na aanvang om een uitmatch op Badmintonvlaandere
 n in te vullen. Match info: Beerke 6G (121) - Plumula 4G (125) - Link: htt
 ps://www.badmintonvlaanderen.be/sport/teammatch.aspx?id=A0E9B3BE-1D47-428D
 -8EB5-7807839F7498&match=1392
DTSTART;TZID=Europe/Brussels:20251126T100000
DTEND;TZID=Europe/Brussels:20251126T100000
END:VEVENT
BEGIN:VEVENT
UID:A0E9B3BE-1D47-428D-8EB5-7807839F7498-32-1389_awayreminder@199.badminton
 ners.net
DTSTAMP:20260420T041158Z
SUMMARY:Uitmatch bevestigd? (Kabad 1G (125) - Plumula 4G (125))
DESCRIPTION:Je hebt 72 uur na aanvang om een uitmatch op Badmintonvlaandere
 n in te vullen. Match info: Kabad 1G (125) - Plumula 4G (125) - Link: http
 s://www.badmintonvlaanderen.be/sport/teammatch.aspx?id=A0E9B3BE-1D47-428D-
 8EB5-7807839F7498&match=1389
DTSTART;TZID=Europe/Brussels:20251203T190000
DTEND;TZID=Europe/Brussels:20251203T190000
END:VEVENT
BEGIN:VEVENT
UID:A0E9B3BE-1D47-428D-8EB5-7807839F7498-32-1388_awayreminder@199.badminton
 ners.net
DTSTAMP:20260420T041158Z
SUMMARY:Uitmatch bevestigd? (Klein Boom 9G (131) - Plumula 4G (125))
DESCRIPTION:Je hebt 72 uur na aanvang om een uitmatch op Badmintonvlaandere
 n in te vullen. Match info: Klein Boom 9G (131) - Plumula 4G (125) - Link:
  https://www.badmintonvlaanderen.be/sport/teammatch.aspx?id=A0E9B3BE-1D47-
 428D-8EB5-7807839F7498&match=1388
DTSTART;TZID=Europe/Brussels:20260121T190000
DTEND;TZID=Europe/Brussels:20260121T190000
END:VEVENT
BEGIN:VEVENT
UID:A0E9B3BE-1D47-428D-8EB5-7807839F7498-32-1390_awayreminder@199.badminton
 ners.net
DTSTAMP:20260420T041158Z
SUMMARY:Uitmatch bevestigd? (De Nekker 3G (118) - Plumula 4G (125))
DESCRIPTION:Je hebt 72 uur na aanvang om een uitmatch op Badmintonvlaandere
 n in te vullen. Match info: De Nekker 3G (118) - Plumula 4G (125) - Link: 
 https://www.badmintonvlaanderen.be/sport/teammatch.aspx?id=A0E9B3BE-1D47-4
 28D-8EB5-7807839F7498&match=1390
DTSTART;TZID=Europe/Brussels:20260213T203000
DTEND;TZID=Europe/Brussels:20260213T203000
END:VEVENT
BEGIN:VEVENT
UID:A0E9B3BE-1D47-428D-8EB5-7807839F7498-32-1386_awayreminder@199.badminton
 ners.net
DTSTAMP:20260420T041158Z
SUMMARY:Uitmatch bevestigd? (Spinners 1G (112) - Plumula 4G (125))
DESCRIPTION:Je hebt 72 uur na aanvang om een uitmatch op Badmintonvlaandere
 n in te vullen. Match info: Spinners 1G (112) - Plumula 4G (125) - Link: h
 ttps://www.badmintonvlaanderen.be/sport/teammatch.aspx?id=A0E9B3BE-1D47-42
 8D-8EB5-7807839F7498&match=1386
DTSTART;TZID=Europe/Brussels:20260330T220000
DTEND;TZID=Europe/Brussels:20260330T220000
END:VEVENT
END:VCALENDAR