BEGIN:VCALENDAR
VERSION:2.0
PRODID:spatie/icalendar-generator
NAME:beerke_6g_121_reminders
X-WR-CALNAME:beerke_6g_121_reminders
BEGIN:VTIMEZONE
TZID:Europe/Brussels
BEGIN:DAYLIGHT
DTSTART:20250330T010000
TZOFFSETFROM:+0100
TZOFFSETTO:+0200
END:DAYLIGHT
BEGIN:STANDARD
DTSTART:20251026T030000
TZOFFSETFROM:+0200
TZOFFSETTO:+0100
END:STANDARD
BEGIN:DAYLIGHT
DTSTART:20260329T010000
TZOFFSETFROM:+0100
TZOFFSETTO:+0200
END:DAYLIGHT
END:VTIMEZONE
BEGIN:VTIMEZONE
TZID:UTC
BEGIN:STANDARD
DTSTART:20250724T055123
TZOFFSETFROM:+0000
TZOFFSETTO:+0000
END:STANDARD
END:VTIMEZONE
BEGIN:VEVENT
UID:A0E9B3BE-1D47-428D-8EB5-7807839F7498-32-1385_homereminder@200.badminton
 ners.net
DTSTAMP:20260420T055123Z
SUMMARY:Thuismatch ingevuld? (Beerke 6G (121) - Huirtuits Dropke 3G (112))
DESCRIPTION:Je hebt 36 uur na aanvang om een thuismatch op Badmintonvlaande
 ren in te vullen. Match info: Beerke 6G (121) - Huirtuits Dropke 3G (112) 
 - Link: https://www.badmintonvlaanderen.be/sport/teammatch.aspx?id=A0E9B3B
 E-1D47-428D-8EB5-7807839F7498&match=1385
DTSTART;TZID=Europe/Brussels:20251013T220000
DTEND;TZID=Europe/Brussels:20251013T220000
END:VEVENT
BEGIN:VEVENT
UID:A0E9B3BE-1D47-428D-8EB5-7807839F7498-32-1378_homereminder@200.badminton
 ners.net
DTSTAMP:20260420T055123Z
SUMMARY:Thuismatch ingevuld? (Beerke 6G (121) - De Nekker 3G (118))
DESCRIPTION:Je hebt 36 uur na aanvang om een thuismatch op Badmintonvlaande
 ren in te vullen. Match info: Beerke 6G (121) - De Nekker 3G (118) - Link:
  https://www.badmintonvlaanderen.be/sport/teammatch.aspx?id=A0E9B3BE-1D47-
 428D-8EB5-7807839F7498&match=1378
DTSTART;TZID=Europe/Brussels:20251117T220000
DTEND;TZID=Europe/Brussels:20251117T220000
END:VEVENT
BEGIN:VEVENT
UID:A0E9B3BE-1D47-428D-8EB5-7807839F7498-32-1392_homereminder@200.badminton
 ners.net
DTSTAMP:20260420T055123Z
SUMMARY:Thuismatch ingevuld? (Beerke 6G (121) - Plumula 4G (125))
DESCRIPTION:Je hebt 36 uur na aanvang om een thuismatch op Badmintonvlaande
 ren in te vullen. Match info: Beerke 6G (121) - Plumula 4G (125) - Link: h
 ttps://www.badmintonvlaanderen.be/sport/teammatch.aspx?id=A0E9B3BE-1D47-42
 8D-8EB5-7807839F7498&match=1392
DTSTART;TZID=Europe/Brussels:20251124T220000
DTEND;TZID=Europe/Brussels:20251124T220000
END:VEVENT
BEGIN:VEVENT
UID:A0E9B3BE-1D47-428D-8EB5-7807839F7498-32-1357_homereminder@200.badminton
 ners.net
DTSTAMP:20260420T055123Z
SUMMARY:Thuismatch ingevuld? (Beerke 6G (121) - Molse 1G (133))
DESCRIPTION:Je hebt 36 uur na aanvang om een thuismatch op Badmintonvlaande
 ren in te vullen. Match info: Beerke 6G (121) - Molse 1G (133) - Link: htt
 ps://www.badmintonvlaanderen.be/sport/teammatch.aspx?id=A0E9B3BE-1D47-428D
 -8EB5-7807839F7498&match=1357
DTSTART;TZID=Europe/Brussels:20260202T220000
DTEND;TZID=Europe/Brussels:20260202T220000
END:VEVENT
BEGIN:VEVENT
UID:A0E9B3BE-1D47-428D-8EB5-7807839F7498-32-1364_homereminder@200.badminton
 ners.net
DTSTAMP:20260420T055123Z
SUMMARY:Thuismatch ingevuld? (Beerke 6G (121) - Klein Boom 9G (131))
DESCRIPTION:Je hebt 36 uur na aanvang om een thuismatch op Badmintonvlaande
 ren in te vullen. Match info: Beerke 6G (121) - Klein Boom 9G (131) - Link
 : https://www.badmintonvlaanderen.be/sport/teammatch.aspx?id=A0E9B3BE-1D47
 -428D-8EB5-7807839F7498&match=1364
DTSTART;TZID=Europe/Brussels:20260302T220000
DTEND;TZID=Europe/Brussels:20260302T220000
END:VEVENT
BEGIN:VEVENT
UID:A0E9B3BE-1D47-428D-8EB5-7807839F7498-32-1371_homereminder@200.badminton
 ners.net
DTSTAMP:20260420T055123Z
SUMMARY:Thuismatch ingevuld? (Beerke 6G (121) - Kabad 1G (125))
DESCRIPTION:Je hebt 36 uur na aanvang om een thuismatch op Badmintonvlaande
 ren in te vullen. Match info: Beerke 6G (121) - Kabad 1G (125) - Link: htt
 ps://www.badmintonvlaanderen.be/sport/teammatch.aspx?id=A0E9B3BE-1D47-428D
 -8EB5-7807839F7498&match=1371
DTSTART;TZID=Europe/Brussels:20260330T220000
DTEND;TZID=Europe/Brussels:20260330T220000
END:VEVENT
BEGIN:VEVENT
UID:A0E9B3BE-1D47-428D-8EB5-7807839F7498-32-1350_homereminder@200.badminton
 ners.net
DTSTAMP:20260420T055123Z
SUMMARY:Thuismatch ingevuld? (Beerke 6G (121) - Spinners 1G (112))
DESCRIPTION:Je hebt 36 uur na aanvang om een thuismatch op Badmintonvlaande
 ren in te vullen. Match info: Beerke 6G (121) - Spinners 1G (112) - Link: 
 https://www.badmintonvlaanderen.be/sport/teammatch.aspx?id=A0E9B3BE-1D47-4
 28D-8EB5-7807839F7498&match=1350
DTSTART;TZID=Europe/Brussels:20260413T220000
DTEND;TZID=Europe/Brussels:20260413T220000
END:VEVENT
BEGIN:VEVENT
UID:A0E9B3BE-1D47-428D-8EB5-7807839F7498-32-1394_awayreminder@200.badminton
 ners.net
DTSTAMP:20260420T055123Z
SUMMARY:Uitmatch bevestigd? (Molse 1G (133) - Beerke 6G (121))
DESCRIPTION:Je hebt 72 uur na aanvang om een uitmatch op Badmintonvlaandere
 n in te vullen. Match info: Molse 1G (133) - Beerke 6G (121) - Link: https
 ://www.badmintonvlaanderen.be/sport/teammatch.aspx?id=A0E9B3BE-1D47-428D-8
 EB5-7807839F7498&match=1394
DTSTART;TZID=Europe/Brussels:20251001T190000
DTEND;TZID=Europe/Brussels:20251001T190000
END:VEVENT
BEGIN:VEVENT
UID:A0E9B3BE-1D47-428D-8EB5-7807839F7498-32-1395_awayreminder@200.badminton
 ners.net
DTSTAMP:20260420T055123Z
SUMMARY:Uitmatch bevestigd? (Klein Boom 9G (131) - Beerke 6G (121))
DESCRIPTION:Je hebt 72 uur na aanvang om een uitmatch op Badmintonvlaandere
 n in te vullen. Match info: Klein Boom 9G (131) - Beerke 6G (121) - Link: 
 https://www.badmintonvlaanderen.be/sport/teammatch.aspx?id=A0E9B3BE-1D47-4
 28D-8EB5-7807839F7498&match=1395
DTSTART;TZID=Europe/Brussels:20251023T200000
DTEND;TZID=Europe/Brussels:20251023T200000
END:VEVENT
BEGIN:VEVENT
UID:A0E9B3BE-1D47-428D-8EB5-7807839F7498-32-1396_awayreminder@200.badminton
 ners.net
DTSTAMP:20260420T055123Z
SUMMARY:Uitmatch bevestigd? (Kabad 1G (125) - Beerke 6G (121))
DESCRIPTION:Je hebt 72 uur na aanvang om een uitmatch op Badmintonvlaandere
 n in te vullen. Match info: Kabad 1G (125) - Beerke 6G (121) - Link: https
 ://www.badmintonvlaanderen.be/sport/teammatch.aspx?id=A0E9B3BE-1D47-428D-8
 EB5-7807839F7498&match=1396
DTSTART;TZID=Europe/Brussels:20251210T190000
DTEND;TZID=Europe/Brussels:20251210T190000
END:VEVENT
BEGIN:VEVENT
UID:A0E9B3BE-1D47-428D-8EB5-7807839F7498-32-1393_awayreminder@200.badminton
 ners.net
DTSTAMP:20260420T055123Z
SUMMARY:Uitmatch bevestigd? (Spinners 1G (112) - Beerke 6G (121))
DESCRIPTION:Je hebt 72 uur na aanvang om een uitmatch op Badmintonvlaandere
 n in te vullen. Match info: Spinners 1G (112) - Beerke 6G (121) - Link: ht
 tps://www.badmintonvlaanderen.be/sport/teammatch.aspx?id=A0E9B3BE-1D47-428
 D-8EB5-7807839F7498&match=1393
DTSTART;TZID=Europe/Brussels:20251222T210000
DTEND;TZID=Europe/Brussels:20251222T210000
END:VEVENT
BEGIN:VEVENT
UID:A0E9B3BE-1D47-428D-8EB5-7807839F7498-32-1397_awayreminder@200.badminton
 ners.net
DTSTAMP:20260420T055123Z
SUMMARY:Uitmatch bevestigd? (De Nekker 3G (118) - Beerke 6G (121))
DESCRIPTION:Je hebt 72 uur na aanvang om een uitmatch op Badmintonvlaandere
 n in te vullen. Match info: De Nekker 3G (118) - Beerke 6G (121) - Link: h
 ttps://www.badmintonvlaanderen.be/sport/teammatch.aspx?id=A0E9B3BE-1D47-42
 8D-8EB5-7807839F7498&match=1397
DTSTART;TZID=Europe/Brussels:20260116T203000
DTEND;TZID=Europe/Brussels:20260116T203000
END:VEVENT
BEGIN:VEVENT
UID:A0E9B3BE-1D47-428D-8EB5-7807839F7498-32-1398_awayreminder@200.badminton
 ners.net
DTSTAMP:20260420T055123Z
SUMMARY:Uitmatch bevestigd? (Huirtuits Dropke 3G (112) - Beerke 6G (121))
DESCRIPTION:Je hebt 72 uur na aanvang om een uitmatch op Badmintonvlaandere
 n in te vullen. Match info: Huirtuits Dropke 3G (112) - Beerke 6G (121) - 
 Link: https://www.badmintonvlaanderen.be/sport/teammatch.aspx?id=A0E9B3BE-
 1D47-428D-8EB5-7807839F7498&match=1398
DTSTART;TZID=Europe/Brussels:20260213T200000
DTEND;TZID=Europe/Brussels:20260213T200000
END:VEVENT
BEGIN:VEVENT
UID:A0E9B3BE-1D47-428D-8EB5-7807839F7498-32-1399_awayreminder@200.badminton
 ners.net
DTSTAMP:20260420T055123Z
SUMMARY:Uitmatch bevestigd? (Plumula 4G (125) - Beerke 6G (121))
DESCRIPTION:Je hebt 72 uur na aanvang om een uitmatch op Badmintonvlaandere
 n in te vullen. Match info: Plumula 4G (125) - Beerke 6G (121) - Link: htt
 ps://www.badmintonvlaanderen.be/sport/teammatch.aspx?id=A0E9B3BE-1D47-428D
 -8EB5-7807839F7498&match=1399
DTSTART;TZID=Europe/Brussels:20260318T173000
DTEND;TZID=Europe/Brussels:20260318T173000
END:VEVENT
END:VCALENDAR