BEGIN:VCALENDAR
VERSION:2.0
PRODID:spatie/icalendar-generator
NAME:spinners_1g_112_reminders
X-WR-CALNAME:spinners_1g_112_reminders
BEGIN:VTIMEZONE
TZID:Europe/Brussels
BEGIN:DAYLIGHT
DTSTART:20250330T010000
TZOFFSETFROM:+0100
TZOFFSETTO:+0200
END:DAYLIGHT
BEGIN:STANDARD
DTSTART:20251026T030000
TZOFFSETFROM:+0200
TZOFFSETTO:+0100
END:STANDARD
BEGIN:DAYLIGHT
DTSTART:20260329T010000
TZOFFSETFROM:+0100
TZOFFSETTO:+0200
END:DAYLIGHT
END:VTIMEZONE
BEGIN:VTIMEZONE
TZID:UTC
BEGIN:STANDARD
DTSTART:20250724T041158
TZOFFSETFROM:+0000
TZOFFSETTO:+0000
END:STANDARD
END:VTIMEZONE
BEGIN:VEVENT
UID:A0E9B3BE-1D47-428D-8EB5-7807839F7498-32-1351_homereminder@202.badminton
 ners.net
DTSTAMP:20260420T041158Z
SUMMARY:Thuismatch ingevuld? (Spinners 1G (112) - Molse 1G (133))
DESCRIPTION:Je hebt 36 uur na aanvang om een thuismatch op Badmintonvlaande
 ren in te vullen. Match info: Spinners 1G (112) - Molse 1G (133) - Link: h
 ttps://www.badmintonvlaanderen.be/sport/teammatch.aspx?id=A0E9B3BE-1D47-42
 8D-8EB5-7807839F7498&match=1351
DTSTART;TZID=Europe/Brussels:20250914T090000
DTEND;TZID=Europe/Brussels:20250914T090000
END:VEVENT
BEGIN:VEVENT
UID:A0E9B3BE-1D47-428D-8EB5-7807839F7498-32-1365_homereminder@202.badminton
 ners.net
DTSTAMP:20260420T041158Z
SUMMARY:Thuismatch ingevuld? (Spinners 1G (112) - Kabad 1G (125))
DESCRIPTION:Je hebt 36 uur na aanvang om een thuismatch op Badmintonvlaande
 ren in te vullen. Match info: Spinners 1G (112) - Kabad 1G (125) - Link: h
 ttps://www.badmintonvlaanderen.be/sport/teammatch.aspx?id=A0E9B3BE-1D47-42
 8D-8EB5-7807839F7498&match=1365
DTSTART;TZID=Europe/Brussels:20251019T090000
DTEND;TZID=Europe/Brussels:20251019T090000
END:VEVENT
BEGIN:VEVENT
UID:A0E9B3BE-1D47-428D-8EB5-7807839F7498-32-1379_homereminder@202.badminton
 ners.net
DTSTAMP:20260420T041158Z
SUMMARY:Thuismatch ingevuld? (Spinners 1G (112) - Huirtuits Dropke 3G (112)
 )
DESCRIPTION:Je hebt 36 uur na aanvang om een thuismatch op Badmintonvlaande
 ren in te vullen. Match info: Spinners 1G (112) - Huirtuits Dropke 3G (112
 ) - Link: https://www.badmintonvlaanderen.be/sport/teammatch.aspx?id=A0E9B
 3BE-1D47-428D-8EB5-7807839F7498&match=1379
DTSTART;TZID=Europe/Brussels:20251130T090000
DTEND;TZID=Europe/Brussels:20251130T090000
END:VEVENT
BEGIN:VEVENT
UID:A0E9B3BE-1D47-428D-8EB5-7807839F7498-32-1393_homereminder@202.badminton
 ners.net
DTSTAMP:20260420T041158Z
SUMMARY:Thuismatch ingevuld? (Spinners 1G (112) - Beerke 6G (121))
DESCRIPTION:Je hebt 36 uur na aanvang om een thuismatch op Badmintonvlaande
 ren in te vullen. Match info: Spinners 1G (112) - Beerke 6G (121) - Link: 
 https://www.badmintonvlaanderen.be/sport/teammatch.aspx?id=A0E9B3BE-1D47-4
 28D-8EB5-7807839F7498&match=1393
DTSTART;TZID=Europe/Brussels:20251221T090000
DTEND;TZID=Europe/Brussels:20251221T090000
END:VEVENT
BEGIN:VEVENT
UID:A0E9B3BE-1D47-428D-8EB5-7807839F7498-32-1358_homereminder@202.badminton
 ners.net
DTSTAMP:20260420T041158Z
SUMMARY:Thuismatch ingevuld? (Spinners 1G (112) - Klein Boom 9G (131))
DESCRIPTION:Je hebt 36 uur na aanvang om een thuismatch op Badmintonvlaande
 ren in te vullen. Match info: Spinners 1G (112) - Klein Boom 9G (131) - Li
 nk: https://www.badmintonvlaanderen.be/sport/teammatch.aspx?id=A0E9B3BE-1D
 47-428D-8EB5-7807839F7498&match=1358
DTSTART;TZID=Europe/Brussels:20260201T090000
DTEND;TZID=Europe/Brussels:20260201T090000
END:VEVENT
BEGIN:VEVENT
UID:A0E9B3BE-1D47-428D-8EB5-7807839F7498-32-1372_homereminder@202.badminton
 ners.net
DTSTAMP:20260420T041158Z
SUMMARY:Thuismatch ingevuld? (Spinners 1G (112) - De Nekker 3G (118))
DESCRIPTION:Je hebt 36 uur na aanvang om een thuismatch op Badmintonvlaande
 ren in te vullen. Match info: Spinners 1G (112) - De Nekker 3G (118) - Lin
 k: https://www.badmintonvlaanderen.be/sport/teammatch.aspx?id=A0E9B3BE-1D4
 7-428D-8EB5-7807839F7498&match=1372
DTSTART;TZID=Europe/Brussels:20260301T090000
DTEND;TZID=Europe/Brussels:20260301T090000
END:VEVENT
BEGIN:VEVENT
UID:A0E9B3BE-1D47-428D-8EB5-7807839F7498-32-1386_homereminder@202.badminton
 ners.net
DTSTAMP:20260420T041158Z
SUMMARY:Thuismatch ingevuld? (Spinners 1G (112) - Plumula 4G (125))
DESCRIPTION:Je hebt 36 uur na aanvang om een thuismatch op Badmintonvlaande
 ren in te vullen. Match info: Spinners 1G (112) - Plumula 4G (125) - Link:
  https://www.badmintonvlaanderen.be/sport/teammatch.aspx?id=A0E9B3BE-1D47-
 428D-8EB5-7807839F7498&match=1386
DTSTART;TZID=Europe/Brussels:20260329T100000
DTEND;TZID=Europe/Brussels:20260329T100000
END:VEVENT
BEGIN:VEVENT
UID:A0E9B3BE-1D47-428D-8EB5-7807839F7498-32-1345_awayreminder@202.badminton
 ners.net
DTSTAMP:20260420T041158Z
SUMMARY:Uitmatch bevestigd? (Klein Boom 9G (131) - Spinners 1G (112))
DESCRIPTION:Je hebt 72 uur na aanvang om een uitmatch op Badmintonvlaandere
 n in te vullen. Match info: Klein Boom 9G (131) - Spinners 1G (112) - Link
 : https://www.badmintonvlaanderen.be/sport/teammatch.aspx?id=A0E9B3BE-1D47
 -428D-8EB5-7807839F7498&match=1345
DTSTART;TZID=Europe/Brussels:20251008T190000
DTEND;TZID=Europe/Brussels:20251008T190000
END:VEVENT
BEGIN:VEVENT
UID:A0E9B3BE-1D47-428D-8EB5-7807839F7498-32-1347_awayreminder@202.badminton
 ners.net
DTSTAMP:20260420T041158Z
SUMMARY:Uitmatch bevestigd? (De Nekker 3G (118) - Spinners 1G (112))
DESCRIPTION:Je hebt 72 uur na aanvang om een uitmatch op Badmintonvlaandere
 n in te vullen. Match info: De Nekker 3G (118) - Spinners 1G (112) - Link:
  https://www.badmintonvlaanderen.be/sport/teammatch.aspx?id=A0E9B3BE-1D47-
 428D-8EB5-7807839F7498&match=1347
DTSTART;TZID=Europe/Brussels:20251024T203000
DTEND;TZID=Europe/Brussels:20251024T203000
END:VEVENT
BEGIN:VEVENT
UID:A0E9B3BE-1D47-428D-8EB5-7807839F7498-32-1349_awayreminder@202.badminton
 ners.net
DTSTAMP:20260420T041158Z
SUMMARY:Uitmatch bevestigd? (Plumula 4G (125) - Spinners 1G (112))
DESCRIPTION:Je hebt 72 uur na aanvang om een uitmatch op Badmintonvlaandere
 n in te vullen. Match info: Plumula 4G (125) - Spinners 1G (112) - Link: h
 ttps://www.badmintonvlaanderen.be/sport/teammatch.aspx?id=A0E9B3BE-1D47-42
 8D-8EB5-7807839F7498&match=1349
DTSTART;TZID=Europe/Brussels:20251210T173000
DTEND;TZID=Europe/Brussels:20251210T173000
END:VEVENT
BEGIN:VEVENT
UID:A0E9B3BE-1D47-428D-8EB5-7807839F7498-32-1344_awayreminder@202.badminton
 ners.net
DTSTAMP:20260420T041158Z
SUMMARY:Uitmatch bevestigd? (Molse 1G (133) - Spinners 1G (112))
DESCRIPTION:Je hebt 72 uur na aanvang om een uitmatch op Badmintonvlaandere
 n in te vullen. Match info: Molse 1G (133) - Spinners 1G (112) - Link: htt
 ps://www.badmintonvlaanderen.be/sport/teammatch.aspx?id=A0E9B3BE-1D47-428D
 -8EB5-7807839F7498&match=1344
DTSTART;TZID=Europe/Brussels:20260121T190000
DTEND;TZID=Europe/Brussels:20260121T190000
END:VEVENT
BEGIN:VEVENT
UID:A0E9B3BE-1D47-428D-8EB5-7807839F7498-32-1348_awayreminder@202.badminton
 ners.net
DTSTAMP:20260420T041158Z
SUMMARY:Uitmatch bevestigd? (Huirtuits Dropke 3G (112) - Spinners 1G (112))
DESCRIPTION:Je hebt 72 uur na aanvang om een uitmatch op Badmintonvlaandere
 n in te vullen. Match info: Huirtuits Dropke 3G (112) - Spinners 1G (112) 
 - Link: https://www.badmintonvlaanderen.be/sport/teammatch.aspx?id=A0E9B3B
 E-1D47-428D-8EB5-7807839F7498&match=1348
DTSTART;TZID=Europe/Brussels:20260313T200000
DTEND;TZID=Europe/Brussels:20260313T200000
END:VEVENT
BEGIN:VEVENT
UID:A0E9B3BE-1D47-428D-8EB5-7807839F7498-32-1350_awayreminder@202.badminton
 ners.net
DTSTAMP:20260420T041158Z
SUMMARY:Uitmatch bevestigd? (Beerke 6G (121) - Spinners 1G (112))
DESCRIPTION:Je hebt 72 uur na aanvang om een uitmatch op Badmintonvlaandere
 n in te vullen. Match info: Beerke 6G (121) - Spinners 1G (112) - Link: ht
 tps://www.badmintonvlaanderen.be/sport/teammatch.aspx?id=A0E9B3BE-1D47-428
 D-8EB5-7807839F7498&match=1350
DTSTART;TZID=Europe/Brussels:20260415T100000
DTEND;TZID=Europe/Brussels:20260415T100000
END:VEVENT
BEGIN:VEVENT
UID:A0E9B3BE-1D47-428D-8EB5-7807839F7498-32-1346_awayreminder@202.badminton
 ners.net
DTSTAMP:20260420T041158Z
SUMMARY:Uitmatch bevestigd? (Kabad 1G (125) - Spinners 1G (112))
DESCRIPTION:Je hebt 72 uur na aanvang om een uitmatch op Badmintonvlaandere
 n in te vullen. Match info: Kabad 1G (125) - Spinners 1G (112) - Link: htt
 ps://www.badmintonvlaanderen.be/sport/teammatch.aspx?id=A0E9B3BE-1D47-428D
 -8EB5-7807839F7498&match=1346
DTSTART;TZID=Europe/Brussels:20260422T190000
DTEND;TZID=Europe/Brussels:20260422T190000
END:VEVENT
END:VCALENDAR