BEGIN:VCALENDAR
VERSION:2.0
PRODID:spatie/icalendar-generator
NAME:molse_1g_133_reminders
X-WR-CALNAME:molse_1g_133_reminders
BEGIN:VTIMEZONE
TZID:Europe/Brussels
BEGIN:DAYLIGHT
DTSTART:20250330T010000
TZOFFSETFROM:+0100
TZOFFSETTO:+0200
END:DAYLIGHT
BEGIN:STANDARD
DTSTART:20251026T030000
TZOFFSETFROM:+0200
TZOFFSETTO:+0100
END:STANDARD
BEGIN:DAYLIGHT
DTSTART:20260329T010000
TZOFFSETFROM:+0100
TZOFFSETTO:+0200
END:DAYLIGHT
BEGIN:STANDARD
DTSTART:20261025T030000
TZOFFSETFROM:+0200
TZOFFSETTO:+0100
END:STANDARD
END:VTIMEZONE
BEGIN:VTIMEZONE
TZID:UTC
BEGIN:STANDARD
DTSTART:20250724T041158
TZOFFSETFROM:+0000
TZOFFSETTO:+0000
END:STANDARD
END:VTIMEZONE
BEGIN:VEVENT
UID:A0E9B3BE-1D47-428D-8EB5-7807839F7498-32-1394_homereminder@208.badminton
 ners.net
DTSTAMP:20260420T041158Z
SUMMARY:Thuismatch ingevuld? (Molse 1G (133) - Beerke 6G (121))
DESCRIPTION:Je hebt 36 uur na aanvang om een thuismatch op Badmintonvlaande
 ren in te vullen. Match info: Molse 1G (133) - Beerke 6G (121) - Link: htt
 ps://www.badmintonvlaanderen.be/sport/teammatch.aspx?id=A0E9B3BE-1D47-428D
 -8EB5-7807839F7498&match=1394
DTSTART;TZID=Europe/Brussels:20250930T070000
DTEND;TZID=Europe/Brussels:20250930T070000
END:VEVENT
BEGIN:VEVENT
UID:A0E9B3BE-1D47-428D-8EB5-7807839F7498-32-1359_homereminder@208.badminton
 ners.net
DTSTAMP:20260420T041158Z
SUMMARY:Thuismatch ingevuld? (Molse 1G (133) - Klein Boom 9G (131))
DESCRIPTION:Je hebt 36 uur na aanvang om een thuismatch op Badmintonvlaande
 ren in te vullen. Match info: Molse 1G (133) - Klein Boom 9G (131) - Link:
  https://www.badmintonvlaanderen.be/sport/teammatch.aspx?id=A0E9B3BE-1D47-
 428D-8EB5-7807839F7498&match=1359
DTSTART;TZID=Europe/Brussels:20251014T070000
DTEND;TZID=Europe/Brussels:20251014T070000
END:VEVENT
BEGIN:VEVENT
UID:A0E9B3BE-1D47-428D-8EB5-7807839F7498-32-1387_homereminder@208.badminton
 ners.net
DTSTAMP:20260420T041158Z
SUMMARY:Thuismatch ingevuld? (Molse 1G (133) - Plumula 4G (125))
DESCRIPTION:Je hebt 36 uur na aanvang om een thuismatch op Badmintonvlaande
 ren in te vullen. Match info: Molse 1G (133) - Plumula 4G (125) - Link: ht
 tps://www.badmintonvlaanderen.be/sport/teammatch.aspx?id=A0E9B3BE-1D47-428
 D-8EB5-7807839F7498&match=1387
DTSTART;TZID=Europe/Brussels:20251021T070000
DTEND;TZID=Europe/Brussels:20251021T070000
END:VEVENT
BEGIN:VEVENT
UID:A0E9B3BE-1D47-428D-8EB5-7807839F7498-32-1373_homereminder@208.badminton
 ners.net
DTSTAMP:20260420T041158Z
SUMMARY:Thuismatch ingevuld? (Molse 1G (133) - De Nekker 3G (118))
DESCRIPTION:Je hebt 36 uur na aanvang om een thuismatch op Badmintonvlaande
 ren in te vullen. Match info: Molse 1G (133) - De Nekker 3G (118) - Link: 
 https://www.badmintonvlaanderen.be/sport/teammatch.aspx?id=A0E9B3BE-1D47-4
 28D-8EB5-7807839F7498&match=1373
DTSTART;TZID=Europe/Brussels:20251111T070000
DTEND;TZID=Europe/Brussels:20251111T070000
END:VEVENT
BEGIN:VEVENT
UID:A0E9B3BE-1D47-428D-8EB5-7807839F7498-32-1344_homereminder@208.badminton
 ners.net
DTSTAMP:20260420T041158Z
SUMMARY:Thuismatch ingevuld? (Molse 1G (133) - Spinners 1G (112))
DESCRIPTION:Je hebt 36 uur na aanvang om een thuismatch op Badmintonvlaande
 ren in te vullen. Match info: Molse 1G (133) - Spinners 1G (112) - Link: h
 ttps://www.badmintonvlaanderen.be/sport/teammatch.aspx?id=A0E9B3BE-1D47-42
 8D-8EB5-7807839F7498&match=1344
DTSTART;TZID=Europe/Brussels:20260120T070000
DTEND;TZID=Europe/Brussels:20260120T070000
END:VEVENT
BEGIN:VEVENT
UID:A0E9B3BE-1D47-428D-8EB5-7807839F7498-32-1366_homereminder@208.badminton
 ners.net
DTSTAMP:20260420T041158Z
SUMMARY:Thuismatch ingevuld? (Molse 1G (133) - Kabad 1G (125))
DESCRIPTION:Je hebt 36 uur na aanvang om een thuismatch op Badmintonvlaande
 ren in te vullen. Match info: Molse 1G (133) - Kabad 1G (125) - Link: http
 s://www.badmintonvlaanderen.be/sport/teammatch.aspx?id=A0E9B3BE-1D47-428D-
 8EB5-7807839F7498&match=1366
DTSTART;TZID=Europe/Brussels:20260210T070000
DTEND;TZID=Europe/Brussels:20260210T070000
END:VEVENT
BEGIN:VEVENT
UID:A0E9B3BE-1D47-428D-8EB5-7807839F7498-32-1380_homereminder@208.badminton
 ners.net
DTSTAMP:20260420T041158Z
SUMMARY:Thuismatch ingevuld? (Molse 1G (133) - Huirtuits Dropke 3G (112))
DESCRIPTION:Je hebt 36 uur na aanvang om een thuismatch op Badmintonvlaande
 ren in te vullen. Match info: Molse 1G (133) - Huirtuits Dropke 3G (112) -
  Link: https://www.badmintonvlaanderen.be/sport/teammatch.aspx?id=A0E9B3BE
 -1D47-428D-8EB5-7807839F7498&match=1380
DTSTART;TZID=Europe/Brussels:20260421T070000
DTEND;TZID=Europe/Brussels:20260421T070000
END:VEVENT
BEGIN:VEVENT
UID:A0E9B3BE-1D47-428D-8EB5-7807839F7498-32-1351_awayreminder@208.badminton
 ners.net
DTSTAMP:20260420T041158Z
SUMMARY:Uitmatch bevestigd? (Spinners 1G (112) - Molse 1G (133))
DESCRIPTION:Je hebt 72 uur na aanvang om een uitmatch op Badmintonvlaandere
 n in te vullen. Match info: Spinners 1G (112) - Molse 1G (133) - Link: htt
 ps://www.badmintonvlaanderen.be/sport/teammatch.aspx?id=A0E9B3BE-1D47-428D
 -8EB5-7807839F7498&match=1351
DTSTART;TZID=Europe/Brussels:20250915T210000
DTEND;TZID=Europe/Brussels:20250915T210000
END:VEVENT
BEGIN:VEVENT
UID:A0E9B3BE-1D47-428D-8EB5-7807839F7498-32-1353_awayreminder@208.badminton
 ners.net
DTSTAMP:20260420T041158Z
SUMMARY:Uitmatch bevestigd? (Kabad 1G (125) - Molse 1G (133))
DESCRIPTION:Je hebt 72 uur na aanvang om een uitmatch op Badmintonvlaandere
 n in te vullen. Match info: Kabad 1G (125) - Molse 1G (133) - Link: https:
 //www.badmintonvlaanderen.be/sport/teammatch.aspx?id=A0E9B3BE-1D47-428D-8E
 B5-7807839F7498&match=1353
DTSTART;TZID=Europe/Brussels:20251029T190000
DTEND;TZID=Europe/Brussels:20251029T190000
END:VEVENT
BEGIN:VEVENT
UID:A0E9B3BE-1D47-428D-8EB5-7807839F7498-32-1355_awayreminder@208.badminton
 ners.net
DTSTAMP:20260420T041158Z
SUMMARY:Uitmatch bevestigd? (Huirtuits Dropke 3G (112) - Molse 1G (133))
DESCRIPTION:Je hebt 72 uur na aanvang om een uitmatch op Badmintonvlaandere
 n in te vullen. Match info: Huirtuits Dropke 3G (112) - Molse 1G (133) - L
 ink: https://www.badmintonvlaanderen.be/sport/teammatch.aspx?id=A0E9B3BE-1
 D47-428D-8EB5-7807839F7498&match=1355
DTSTART;TZID=Europe/Brussels:20251205T200000
DTEND;TZID=Europe/Brussels:20251205T200000
END:VEVENT
BEGIN:VEVENT
UID:A0E9B3BE-1D47-428D-8EB5-7807839F7498-32-1357_awayreminder@208.badminton
 ners.net
DTSTAMP:20260420T041158Z
SUMMARY:Uitmatch bevestigd? (Beerke 6G (121) - Molse 1G (133))
DESCRIPTION:Je hebt 72 uur na aanvang om een uitmatch op Badmintonvlaandere
 n in te vullen. Match info: Beerke 6G (121) - Molse 1G (133) - Link: https
 ://www.badmintonvlaanderen.be/sport/teammatch.aspx?id=A0E9B3BE-1D47-428D-8
 EB5-7807839F7498&match=1357
DTSTART;TZID=Europe/Brussels:20260204T100000
DTEND;TZID=Europe/Brussels:20260204T100000
END:VEVENT
BEGIN:VEVENT
UID:A0E9B3BE-1D47-428D-8EB5-7807839F7498-32-1352_awayreminder@208.badminton
 ners.net
DTSTAMP:20260420T041158Z
SUMMARY:Uitmatch bevestigd? (Klein Boom 9G (131) - Molse 1G (133))
DESCRIPTION:Je hebt 72 uur na aanvang om een uitmatch op Badmintonvlaandere
 n in te vullen. Match info: Klein Boom 9G (131) - Molse 1G (133) - Link: h
 ttps://www.badmintonvlaanderen.be/sport/teammatch.aspx?id=A0E9B3BE-1D47-42
 8D-8EB5-7807839F7498&match=1352
DTSTART;TZID=Europe/Brussels:20260225T190000
DTEND;TZID=Europe/Brussels:20260225T190000
END:VEVENT
BEGIN:VEVENT
UID:A0E9B3BE-1D47-428D-8EB5-7807839F7498-32-1354_awayreminder@208.badminton
 ners.net
DTSTAMP:20260420T041158Z
SUMMARY:Uitmatch bevestigd? (De Nekker 3G (118) - Molse 1G (133))
DESCRIPTION:Je hebt 72 uur na aanvang om een uitmatch op Badmintonvlaandere
 n in te vullen. Match info: De Nekker 3G (118) - Molse 1G (133) - Link: ht
 tps://www.badmintonvlaanderen.be/sport/teammatch.aspx?id=A0E9B3BE-1D47-428
 D-8EB5-7807839F7498&match=1354
DTSTART;TZID=Europe/Brussels:20260410T203000
DTEND;TZID=Europe/Brussels:20260410T203000
END:VEVENT
BEGIN:VEVENT
UID:A0E9B3BE-1D47-428D-8EB5-7807839F7498-32-1356_awayreminder@208.badminton
 ners.net
DTSTAMP:20260420T041158Z
SUMMARY:Uitmatch bevestigd? (Plumula 4G (125) - Molse 1G (133))
DESCRIPTION:Je hebt 72 uur na aanvang om een uitmatch op Badmintonvlaandere
 n in te vullen. Match info: Plumula 4G (125) - Molse 1G (133) - Link: http
 s://www.badmintonvlaanderen.be/sport/teammatch.aspx?id=A0E9B3BE-1D47-428D-
 8EB5-7807839F7498&match=1356
DTSTART;TZID=Europe/Brussels:20260429T173000
DTEND;TZID=Europe/Brussels:20260429T173000
END:VEVENT
END:VCALENDAR