BEGIN:VCALENDAR
VERSION:2.0
PRODID:spatie/icalendar-generator
NAME:klein_boom_3d_54_reminders
X-WR-CALNAME:klein_boom_3d_54_reminders
BEGIN:VTIMEZONE
TZID:Europe/Brussels
BEGIN:DAYLIGHT
DTSTART:20250330T010000
TZOFFSETFROM:+0100
TZOFFSETTO:+0200
END:DAYLIGHT
BEGIN:STANDARD
DTSTART:20251026T030000
TZOFFSETFROM:+0200
TZOFFSETTO:+0100
END:STANDARD
BEGIN:DAYLIGHT
DTSTART:20260329T010000
TZOFFSETFROM:+0100
TZOFFSETTO:+0200
END:DAYLIGHT
END:VTIMEZONE
BEGIN:VTIMEZONE
TZID:UTC
BEGIN:STANDARD
DTSTART:20250724T042147
TZOFFSETFROM:+0000
TZOFFSETTO:+0000
END:STANDARD
END:VTIMEZONE
BEGIN:VEVENT
UID:A0E9B3BE-1D47-428D-8EB5-7807839F7498-33-1431_homereminder@111.badminton
 ners.net
DTSTAMP:20260420T042147Z
SUMMARY:Thuismatch ingevuld? (Klein Boom 3D (54) - Spinshuttle 2D (64))
DESCRIPTION:Je hebt 36 uur na aanvang om een thuismatch op Badmintonvlaande
 ren in te vullen. Match info: Klein Boom 3D (54) - Spinshuttle 2D (64) - L
 ink: https://www.badmintonvlaanderen.be/sport/teammatch.aspx?id=A0E9B3BE-1
 D47-428D-8EB5-7807839F7498&match=1431
DTSTART;TZID=Europe/Brussels:20251021T070000
DTEND;TZID=Europe/Brussels:20251021T070000
END:VEVENT
BEGIN:VEVENT
UID:A0E9B3BE-1D47-428D-8EB5-7807839F7498-33-1459_homereminder@111.badminton
 ners.net
DTSTAMP:20260420T042147Z
SUMMARY:Thuismatch ingevuld? (Klein Boom 3D (54) - Looise 1D (60))
DESCRIPTION:Je hebt 36 uur na aanvang om een thuismatch op Badmintonvlaande
 ren in te vullen. Match info: Klein Boom 3D (54) - Looise 1D (60) - Link: 
 https://www.badmintonvlaanderen.be/sport/teammatch.aspx?id=A0E9B3BE-1D47-4
 28D-8EB5-7807839F7498&match=1459
DTSTART;TZID=Europe/Brussels:20251118T070000
DTEND;TZID=Europe/Brussels:20251118T070000
END:VEVENT
BEGIN:VEVENT
UID:A0E9B3BE-1D47-428D-8EB5-7807839F7498-33-1409_homereminder@111.badminton
 ners.net
DTSTAMP:20260420T042147Z
SUMMARY:Thuismatch ingevuld? (Klein Boom 3D (54) - Merksplas 1D (62))
DESCRIPTION:Je hebt 36 uur na aanvang om een thuismatch op Badmintonvlaande
 ren in te vullen. Match info: Klein Boom 3D (54) - Merksplas 1D (62) - Lin
 k: https://www.badmintonvlaanderen.be/sport/teammatch.aspx?id=A0E9B3BE-1D4
 7-428D-8EB5-7807839F7498&match=1409
DTSTART;TZID=Europe/Brussels:20251216T070000
DTEND;TZID=Europe/Brussels:20251216T070000
END:VEVENT
BEGIN:VEVENT
UID:A0E9B3BE-1D47-428D-8EB5-7807839F7498-33-1445_homereminder@111.badminton
 ners.net
DTSTAMP:20260420T042147Z
SUMMARY:Thuismatch ingevuld? (Klein Boom 3D (54) - Zandhoven 1D (57))
DESCRIPTION:Je hebt 36 uur na aanvang om een thuismatch op Badmintonvlaande
 ren in te vullen. Match info: Klein Boom 3D (54) - Zandhoven 1D (57) - Lin
 k: https://www.badmintonvlaanderen.be/sport/teammatch.aspx?id=A0E9B3BE-1D4
 7-428D-8EB5-7807839F7498&match=1445
DTSTART;TZID=Europe/Brussels:20260107T080000
DTEND;TZID=Europe/Brussels:20260107T080000
END:VEVENT
BEGIN:VEVENT
UID:A0E9B3BE-1D47-428D-8EB5-7807839F7498-33-1452_homereminder@111.badminton
 ners.net
DTSTAMP:20260420T042147Z
SUMMARY:Thuismatch ingevuld? (Klein Boom 3D (54) - Amateurs 1D (64))
DESCRIPTION:Je hebt 36 uur na aanvang om een thuismatch op Badmintonvlaande
 ren in te vullen. Match info: Klein Boom 3D (54) - Amateurs 1D (64) - Link
 : https://www.badmintonvlaanderen.be/sport/teammatch.aspx?id=A0E9B3BE-1D47
 -428D-8EB5-7807839F7498&match=1452
DTSTART;TZID=Europe/Brussels:20260127T070000
DTEND;TZID=Europe/Brussels:20260127T070000
END:VEVENT
BEGIN:VEVENT
UID:A0E9B3BE-1D47-428D-8EB5-7807839F7498-33-1416_homereminder@111.badminton
 ners.net
DTSTAMP:20260420T042147Z
SUMMARY:Thuismatch ingevuld? (Klein Boom 3D (54) - Beerke 2D (69))
DESCRIPTION:Je hebt 36 uur na aanvang om een thuismatch op Badmintonvlaande
 ren in te vullen. Match info: Klein Boom 3D (54) - Beerke 2D (69) - Link: 
 https://www.badmintonvlaanderen.be/sport/teammatch.aspx?id=A0E9B3BE-1D47-4
 28D-8EB5-7807839F7498&match=1416
DTSTART;TZID=Europe/Brussels:20260224T070000
DTEND;TZID=Europe/Brussels:20260224T070000
END:VEVENT
BEGIN:VEVENT
UID:A0E9B3BE-1D47-428D-8EB5-7807839F7498-33-1438_homereminder@111.badminton
 ners.net
DTSTAMP:20260420T042147Z
SUMMARY:Thuismatch ingevuld? (Klein Boom 3D (54) - Brasschaat 3D (66))
DESCRIPTION:Je hebt 36 uur na aanvang om een thuismatch op Badmintonvlaande
 ren in te vullen. Match info: Klein Boom 3D (54) - Brasschaat 3D (66) - Li
 nk: https://www.badmintonvlaanderen.be/sport/teammatch.aspx?id=A0E9B3BE-1D
 47-428D-8EB5-7807839F7498&match=1438
DTSTART;TZID=Europe/Brussels:20260421T070000
DTEND;TZID=Europe/Brussels:20260421T070000
END:VEVENT
BEGIN:VEVENT
UID:A0E9B3BE-1D47-428D-8EB5-7807839F7498-33-1427_awayreminder@111.badminton
 ners.net
DTSTAMP:20260420T042147Z
SUMMARY:Uitmatch bevestigd? (Amateurs 1D (64) - Klein Boom 3D (54))
DESCRIPTION:Je hebt 72 uur na aanvang om een uitmatch op Badmintonvlaandere
 n in te vullen. Match info: Amateurs 1D (64) - Klein Boom 3D (54) - Link: 
 https://www.badmintonvlaanderen.be/sport/teammatch.aspx?id=A0E9B3BE-1D47-4
 28D-8EB5-7807839F7498&match=1427
DTSTART;TZID=Europe/Brussels:20250907T210000
DTEND;TZID=Europe/Brussels:20250907T210000
END:VEVENT
BEGIN:VEVENT
UID:A0E9B3BE-1D47-428D-8EB5-7807839F7498-33-1425_awayreminder@111.badminton
 ners.net
DTSTAMP:20260420T042147Z
SUMMARY:Uitmatch bevestigd? (Brasschaat 3D (66) - Klein Boom 3D (54))
DESCRIPTION:Je hebt 72 uur na aanvang om een uitmatch op Badmintonvlaandere
 n in te vullen. Match info: Brasschaat 3D (66) - Klein Boom 3D (54) - Link
 : https://www.badmintonvlaanderen.be/sport/teammatch.aspx?id=A0E9B3BE-1D47
 -428D-8EB5-7807839F7498&match=1425
DTSTART;TZID=Europe/Brussels:20251008T190000
DTEND;TZID=Europe/Brussels:20251008T190000
END:VEVENT
BEGIN:VEVENT
UID:A0E9B3BE-1D47-428D-8EB5-7807839F7498-33-1426_awayreminder@111.badminton
 ners.net
DTSTAMP:20260420T042147Z
SUMMARY:Uitmatch bevestigd? (Zandhoven 1D (57) - Klein Boom 3D (54))
DESCRIPTION:Je hebt 72 uur na aanvang om een uitmatch op Badmintonvlaandere
 n in te vullen. Match info: Zandhoven 1D (57) - Klein Boom 3D (54) - Link:
  https://www.badmintonvlaanderen.be/sport/teammatch.aspx?id=A0E9B3BE-1D47-
 428D-8EB5-7807839F7498&match=1426
DTSTART;TZID=Europe/Brussels:20251109T200000
DTEND;TZID=Europe/Brussels:20251109T200000
END:VEVENT
BEGIN:VEVENT
UID:A0E9B3BE-1D47-428D-8EB5-7807839F7498-33-1423_awayreminder@111.badminton
 ners.net
DTSTAMP:20260420T042147Z
SUMMARY:Uitmatch bevestigd? (Beerke 2D (69) - Klein Boom 3D (54))
DESCRIPTION:Je hebt 72 uur na aanvang om een uitmatch op Badmintonvlaandere
 n in te vullen. Match info: Beerke 2D (69) - Klein Boom 3D (54) - Link: ht
 tps://www.badmintonvlaanderen.be/sport/teammatch.aspx?id=A0E9B3BE-1D47-428
 D-8EB5-7807839F7498&match=1423
DTSTART;TZID=Europe/Brussels:20251203T100000
DTEND;TZID=Europe/Brussels:20251203T100000
END:VEVENT
BEGIN:VEVENT
UID:A0E9B3BE-1D47-428D-8EB5-7807839F7498-33-1422_awayreminder@111.badminton
 ners.net
DTSTAMP:20260420T042147Z
SUMMARY:Uitmatch bevestigd? (Merksplas 1D (62) - Klein Boom 3D (54))
DESCRIPTION:Je hebt 72 uur na aanvang om een uitmatch op Badmintonvlaandere
 n in te vullen. Match info: Merksplas 1D (62) - Klein Boom 3D (54) - Link:
  https://www.badmintonvlaanderen.be/sport/teammatch.aspx?id=A0E9B3BE-1D47-
 428D-8EB5-7807839F7498&match=1422
DTSTART;TZID=Europe/Brussels:20260211T183000
DTEND;TZID=Europe/Brussels:20260211T183000
END:VEVENT
BEGIN:VEVENT
UID:A0E9B3BE-1D47-428D-8EB5-7807839F7498-33-1428_awayreminder@111.badminton
 ners.net
DTSTAMP:20260420T042147Z
SUMMARY:Uitmatch bevestigd? (Looise 1D (60) - Klein Boom 3D (54))
DESCRIPTION:Je hebt 72 uur na aanvang om een uitmatch op Badmintonvlaandere
 n in te vullen. Match info: Looise 1D (60) - Klein Boom 3D (54) - Link: ht
 tps://www.badmintonvlaanderen.be/sport/teammatch.aspx?id=A0E9B3BE-1D47-428
 D-8EB5-7807839F7498&match=1428
DTSTART;TZID=Europe/Brussels:20260311T150000
DTEND;TZID=Europe/Brussels:20260311T150000
END:VEVENT
BEGIN:VEVENT
UID:A0E9B3BE-1D47-428D-8EB5-7807839F7498-33-1424_awayreminder@111.badminton
 ners.net
DTSTAMP:20260420T042147Z
SUMMARY:Uitmatch bevestigd? (Spinshuttle 2D (64) - Klein Boom 3D (54))
DESCRIPTION:Je hebt 72 uur na aanvang om een uitmatch op Badmintonvlaandere
 n in te vullen. Match info: Spinshuttle 2D (64) - Klein Boom 3D (54) - Lin
 k: https://www.badmintonvlaanderen.be/sport/teammatch.aspx?id=A0E9B3BE-1D4
 7-428D-8EB5-7807839F7498&match=1424
DTSTART;TZID=Europe/Brussels:20260320T200000
DTEND;TZID=Europe/Brussels:20260320T200000
END:VEVENT
END:VCALENDAR