BEGIN:VCALENDAR
VERSION:2.0
PRODID:spatie/icalendar-generator
NAME:amateurs_1d_64_reminders
X-WR-CALNAME:amateurs_1d_64_reminders
BEGIN:VTIMEZONE
TZID:Europe/Brussels
BEGIN:DAYLIGHT
DTSTART:20250330T010000
TZOFFSETFROM:+0100
TZOFFSETTO:+0200
END:DAYLIGHT
BEGIN:STANDARD
DTSTART:20251026T030000
TZOFFSETFROM:+0200
TZOFFSETTO:+0100
END:STANDARD
BEGIN:DAYLIGHT
DTSTART:20260329T010000
TZOFFSETFROM:+0100
TZOFFSETTO:+0200
END:DAYLIGHT
END:VTIMEZONE
BEGIN:VTIMEZONE
TZID:UTC
BEGIN:STANDARD
DTSTART:20250724T041159
TZOFFSETFROM:+0000
TZOFFSETTO:+0000
END:STANDARD
END:VTIMEZONE
BEGIN:VEVENT
UID:A0E9B3BE-1D47-428D-8EB5-7807839F7498-33-1427_homereminder@116.badminton
 ners.net
DTSTAMP:20260420T041159Z
SUMMARY:Thuismatch ingevuld? (Amateurs 1D (64) - Klein Boom 3D (54))
DESCRIPTION:Je hebt 36 uur na aanvang om een thuismatch op Badmintonvlaande
 ren in te vullen. Match info: Amateurs 1D (64) - Klein Boom 3D (54) - Link
 : https://www.badmintonvlaanderen.be/sport/teammatch.aspx?id=A0E9B3BE-1D47
 -428D-8EB5-7807839F7498&match=1427
DTSTART;TZID=Europe/Brussels:20250906T090000
DTEND;TZID=Europe/Brussels:20250906T090000
END:VEVENT
BEGIN:VEVENT
UID:A0E9B3BE-1D47-428D-8EB5-7807839F7498-33-1413_homereminder@116.badminton
 ners.net
DTSTAMP:20260420T041159Z
SUMMARY:Thuismatch ingevuld? (Amateurs 1D (64) - Merksplas 1D (62))
DESCRIPTION:Je hebt 36 uur na aanvang om een thuismatch op Badmintonvlaande
 ren in te vullen. Match info: Amateurs 1D (64) - Merksplas 1D (62) - Link:
  https://www.badmintonvlaanderen.be/sport/teammatch.aspx?id=A0E9B3BE-1D47-
 428D-8EB5-7807839F7498&match=1413
DTSTART;TZID=Europe/Brussels:20251004T090000
DTEND;TZID=Europe/Brussels:20251004T090000
END:VEVENT
BEGIN:VEVENT
UID:A0E9B3BE-1D47-428D-8EB5-7807839F7498-33-1441_homereminder@116.badminton
 ners.net
DTSTAMP:20260420T041159Z
SUMMARY:Thuismatch ingevuld? (Amateurs 1D (64) - Brasschaat 3D (66))
DESCRIPTION:Je hebt 36 uur na aanvang om een thuismatch op Badmintonvlaande
 ren in te vullen. Match info: Amateurs 1D (64) - Brasschaat 3D (66) - Link
 : https://www.badmintonvlaanderen.be/sport/teammatch.aspx?id=A0E9B3BE-1D47
 -428D-8EB5-7807839F7498&match=1441
DTSTART;TZID=Europe/Brussels:20251129T090000
DTEND;TZID=Europe/Brussels:20251129T090000
END:VEVENT
BEGIN:VEVENT
UID:A0E9B3BE-1D47-428D-8EB5-7807839F7498-33-1420_homereminder@116.badminton
 ners.net
DTSTAMP:20260420T041159Z
SUMMARY:Thuismatch ingevuld? (Amateurs 1D (64) - Beerke 2D (69))
DESCRIPTION:Je hebt 36 uur na aanvang om een thuismatch op Badmintonvlaande
 ren in te vullen. Match info: Amateurs 1D (64) - Beerke 2D (69) - Link: ht
 tps://www.badmintonvlaanderen.be/sport/teammatch.aspx?id=A0E9B3BE-1D47-428
 D-8EB5-7807839F7498&match=1420
DTSTART;TZID=Europe/Brussels:20260110T090000
DTEND;TZID=Europe/Brussels:20260110T090000
END:VEVENT
BEGIN:VEVENT
UID:A0E9B3BE-1D47-428D-8EB5-7807839F7498-33-1434_homereminder@116.badminton
 ners.net
DTSTAMP:20260420T041159Z
SUMMARY:Thuismatch ingevuld? (Amateurs 1D (64) - Spinshuttle 2D (64))
DESCRIPTION:Je hebt 36 uur na aanvang om een thuismatch op Badmintonvlaande
 ren in te vullen. Match info: Amateurs 1D (64) - Spinshuttle 2D (64) - Lin
 k: https://www.badmintonvlaanderen.be/sport/teammatch.aspx?id=A0E9B3BE-1D4
 7-428D-8EB5-7807839F7498&match=1434
DTSTART;TZID=Europe/Brussels:20260207T090000
DTEND;TZID=Europe/Brussels:20260207T090000
END:VEVENT
BEGIN:VEVENT
UID:A0E9B3BE-1D47-428D-8EB5-7807839F7498-33-1448_homereminder@116.badminton
 ners.net
DTSTAMP:20260420T041159Z
SUMMARY:Thuismatch ingevuld? (Amateurs 1D (64) - Zandhoven 1D (57))
DESCRIPTION:Je hebt 36 uur na aanvang om een thuismatch op Badmintonvlaande
 ren in te vullen. Match info: Amateurs 1D (64) - Zandhoven 1D (57) - Link:
  https://www.badmintonvlaanderen.be/sport/teammatch.aspx?id=A0E9B3BE-1D47-
 428D-8EB5-7807839F7498&match=1448
DTSTART;TZID=Europe/Brussels:20260307T090000
DTEND;TZID=Europe/Brussels:20260307T090000
END:VEVENT
BEGIN:VEVENT
UID:A0E9B3BE-1D47-428D-8EB5-7807839F7498-33-1463_homereminder@116.badminton
 ners.net
DTSTAMP:20260420T041159Z
SUMMARY:Thuismatch ingevuld? (Amateurs 1D (64) - Looise 1D (60))
DESCRIPTION:Je hebt 36 uur na aanvang om een thuismatch op Badmintonvlaande
 ren in te vullen. Match info: Amateurs 1D (64) - Looise 1D (60) - Link: ht
 tps://www.badmintonvlaanderen.be/sport/teammatch.aspx?id=A0E9B3BE-1D47-428
 D-8EB5-7807839F7498&match=1463
DTSTART;TZID=Europe/Brussels:20260318T080000
DTEND;TZID=Europe/Brussels:20260318T080000
END:VEVENT
BEGIN:VEVENT
UID:A0E9B3BE-1D47-428D-8EB5-7807839F7498-33-1455_awayreminder@116.badminton
 ners.net
DTSTAMP:20260420T041159Z
SUMMARY:Uitmatch bevestigd? (Zandhoven 1D (57) - Amateurs 1D (64))
DESCRIPTION:Je hebt 72 uur na aanvang om een uitmatch op Badmintonvlaandere
 n in te vullen. Match info: Zandhoven 1D (57) - Amateurs 1D (64) - Link: h
 ttps://www.badmintonvlaanderen.be/sport/teammatch.aspx?id=A0E9B3BE-1D47-42
 8D-8EB5-7807839F7498&match=1455
DTSTART;TZID=Europe/Brussels:20250914T200000
DTEND;TZID=Europe/Brussels:20250914T200000
END:VEVENT
BEGIN:VEVENT
UID:A0E9B3BE-1D47-428D-8EB5-7807839F7498-33-1451_awayreminder@116.badminton
 ners.net
DTSTAMP:20260420T041159Z
SUMMARY:Uitmatch bevestigd? (Beerke 2D (69) - Amateurs 1D (64))
DESCRIPTION:Je hebt 72 uur na aanvang om een uitmatch op Badmintonvlaandere
 n in te vullen. Match info: Beerke 2D (69) - Amateurs 1D (64) - Link: http
 s://www.badmintonvlaanderen.be/sport/teammatch.aspx?id=A0E9B3BE-1D47-428D-
 8EB5-7807839F7498&match=1451
DTSTART;TZID=Europe/Brussels:20250924T100000
DTEND;TZID=Europe/Brussels:20250924T100000
END:VEVENT
BEGIN:VEVENT
UID:A0E9B3BE-1D47-428D-8EB5-7807839F7498-33-1456_awayreminder@116.badminton
 ners.net
DTSTAMP:20260420T041159Z
SUMMARY:Uitmatch bevestigd? (Looise 1D (60) - Amateurs 1D (64))
DESCRIPTION:Je hebt 72 uur na aanvang om een uitmatch op Badmintonvlaandere
 n in te vullen. Match info: Looise 1D (60) - Amateurs 1D (64) - Link: http
 s://www.badmintonvlaanderen.be/sport/teammatch.aspx?id=A0E9B3BE-1D47-428D-
 8EB5-7807839F7498&match=1456
DTSTART;TZID=Europe/Brussels:20251022T150000
DTEND;TZID=Europe/Brussels:20251022T150000
END:VEVENT
BEGIN:VEVENT
UID:A0E9B3BE-1D47-428D-8EB5-7807839F7498-33-1453_awayreminder@116.badminton
 ners.net
DTSTAMP:20260420T041159Z
SUMMARY:Uitmatch bevestigd? (Spinshuttle 2D (64) - Amateurs 1D (64))
DESCRIPTION:Je hebt 72 uur na aanvang om een uitmatch op Badmintonvlaandere
 n in te vullen. Match info: Spinshuttle 2D (64) - Amateurs 1D (64) - Link:
  https://www.badmintonvlaanderen.be/sport/teammatch.aspx?id=A0E9B3BE-1D47-
 428D-8EB5-7807839F7498&match=1453
DTSTART;TZID=Europe/Brussels:20251212T200000
DTEND;TZID=Europe/Brussels:20251212T200000
END:VEVENT
BEGIN:VEVENT
UID:A0E9B3BE-1D47-428D-8EB5-7807839F7498-33-1452_awayreminder@116.badminton
 ners.net
DTSTAMP:20260420T041159Z
SUMMARY:Uitmatch bevestigd? (Klein Boom 3D (54) - Amateurs 1D (64))
DESCRIPTION:Je hebt 72 uur na aanvang om een uitmatch op Badmintonvlaandere
 n in te vullen. Match info: Klein Boom 3D (54) - Amateurs 1D (64) - Link: 
 https://www.badmintonvlaanderen.be/sport/teammatch.aspx?id=A0E9B3BE-1D47-4
 28D-8EB5-7807839F7498&match=1452
DTSTART;TZID=Europe/Brussels:20260128T190000
DTEND;TZID=Europe/Brussels:20260128T190000
END:VEVENT
BEGIN:VEVENT
UID:A0E9B3BE-1D47-428D-8EB5-7807839F7498-33-1454_awayreminder@116.badminton
 ners.net
DTSTAMP:20260420T041159Z
SUMMARY:Uitmatch bevestigd? (Brasschaat 3D (66) - Amateurs 1D (64))
DESCRIPTION:Je hebt 72 uur na aanvang om een uitmatch op Badmintonvlaandere
 n in te vullen. Match info: Brasschaat 3D (66) - Amateurs 1D (64) - Link: 
 https://www.badmintonvlaanderen.be/sport/teammatch.aspx?id=A0E9B3BE-1D47-4
 28D-8EB5-7807839F7498&match=1454
DTSTART;TZID=Europe/Brussels:20260318T190000
DTEND;TZID=Europe/Brussels:20260318T190000
END:VEVENT
BEGIN:VEVENT
UID:A0E9B3BE-1D47-428D-8EB5-7807839F7498-33-1450_awayreminder@116.badminton
 ners.net
DTSTAMP:20260420T041159Z
SUMMARY:Uitmatch bevestigd? (Merksplas 1D (62) - Amateurs 1D (64))
DESCRIPTION:Je hebt 72 uur na aanvang om een uitmatch op Badmintonvlaandere
 n in te vullen. Match info: Merksplas 1D (62) - Amateurs 1D (64) - Link: h
 ttps://www.badmintonvlaanderen.be/sport/teammatch.aspx?id=A0E9B3BE-1D47-42
 8D-8EB5-7807839F7498&match=1450
DTSTART;TZID=Europe/Brussels:20260422T183000
DTEND;TZID=Europe/Brussels:20260422T183000
END:VEVENT
END:VCALENDAR