BEGIN:VCALENDAR
VERSION:2.0
PRODID:spatie/icalendar-generator
NAME:beerke_2d_69_reminders
X-WR-CALNAME:beerke_2d_69_reminders
BEGIN:VTIMEZONE
TZID:Europe/Brussels
BEGIN:DAYLIGHT
DTSTART:20250330T010000
TZOFFSETFROM:+0100
TZOFFSETTO:+0200
END:DAYLIGHT
BEGIN:STANDARD
DTSTART:20251026T030000
TZOFFSETFROM:+0200
TZOFFSETTO:+0100
END:STANDARD
BEGIN:DAYLIGHT
DTSTART:20260329T010000
TZOFFSETFROM:+0100
TZOFFSETTO:+0200
END:DAYLIGHT
END:VTIMEZONE
BEGIN:VTIMEZONE
TZID:UTC
BEGIN:STANDARD
DTSTART:20250724T043741
TZOFFSETFROM:+0000
TZOFFSETTO:+0000
END:STANDARD
END:VTIMEZONE
BEGIN:VEVENT
UID:A0E9B3BE-1D47-428D-8EB5-7807839F7498-33-1451_homereminder@118.badminton
 ners.net
DTSTAMP:20260420T043741Z
SUMMARY:Thuismatch ingevuld? (Beerke 2D (69) - Amateurs 1D (64))
DESCRIPTION:Je hebt 36 uur na aanvang om een thuismatch op Badmintonvlaande
 ren in te vullen. Match info: Beerke 2D (69) - Amateurs 1D (64) - Link: ht
 tps://www.badmintonvlaanderen.be/sport/teammatch.aspx?id=A0E9B3BE-1D47-428
 D-8EB5-7807839F7498&match=1451
DTSTART;TZID=Europe/Brussels:20250922T220000
DTEND;TZID=Europe/Brussels:20250922T220000
END:VEVENT
BEGIN:VEVENT
UID:A0E9B3BE-1D47-428D-8EB5-7807839F7498-33-1437_homereminder@118.badminton
 ners.net
DTSTAMP:20260420T043741Z
SUMMARY:Thuismatch ingevuld? (Beerke 2D (69) - Brasschaat 3D (66))
DESCRIPTION:Je hebt 36 uur na aanvang om een thuismatch op Badmintonvlaande
 ren in te vullen. Match info: Beerke 2D (69) - Brasschaat 3D (66) - Link: 
 https://www.badmintonvlaanderen.be/sport/teammatch.aspx?id=A0E9B3BE-1D47-4
 28D-8EB5-7807839F7498&match=1437
DTSTART;TZID=Europe/Brussels:20251020T220000
DTEND;TZID=Europe/Brussels:20251020T220000
END:VEVENT
BEGIN:VEVENT
UID:A0E9B3BE-1D47-428D-8EB5-7807839F7498-33-1423_homereminder@118.badminton
 ners.net
DTSTAMP:20260420T043741Z
SUMMARY:Thuismatch ingevuld? (Beerke 2D (69) - Klein Boom 3D (54))
DESCRIPTION:Je hebt 36 uur na aanvang om een thuismatch op Badmintonvlaande
 ren in te vullen. Match info: Beerke 2D (69) - Klein Boom 3D (54) - Link: 
 https://www.badmintonvlaanderen.be/sport/teammatch.aspx?id=A0E9B3BE-1D47-4
 28D-8EB5-7807839F7498&match=1423
DTSTART;TZID=Europe/Brussels:20251201T220000
DTEND;TZID=Europe/Brussels:20251201T220000
END:VEVENT
BEGIN:VEVENT
UID:A0E9B3BE-1D47-428D-8EB5-7807839F7498-33-1458_homereminder@118.badminton
 ners.net
DTSTAMP:20260420T043741Z
SUMMARY:Thuismatch ingevuld? (Beerke 2D (69) - Looise 1D (60))
DESCRIPTION:Je hebt 36 uur na aanvang om een thuismatch op Badmintonvlaande
 ren in te vullen. Match info: Beerke 2D (69) - Looise 1D (60) - Link: http
 s://www.badmintonvlaanderen.be/sport/teammatch.aspx?id=A0E9B3BE-1D47-428D-
 8EB5-7807839F7498&match=1458
DTSTART;TZID=Europe/Brussels:20251215T220000
DTEND;TZID=Europe/Brussels:20251215T220000
END:VEVENT
BEGIN:VEVENT
UID:A0E9B3BE-1D47-428D-8EB5-7807839F7498-33-1408_homereminder@118.badminton
 ners.net
DTSTAMP:20260420T043741Z
SUMMARY:Thuismatch ingevuld? (Beerke 2D (69) - Merksplas 1D (62))
DESCRIPTION:Je hebt 36 uur na aanvang om een thuismatch op Badmintonvlaande
 ren in te vullen. Match info: Beerke 2D (69) - Merksplas 1D (62) - Link: h
 ttps://www.badmintonvlaanderen.be/sport/teammatch.aspx?id=A0E9B3BE-1D47-42
 8D-8EB5-7807839F7498&match=1408
DTSTART;TZID=Europe/Brussels:20260126T220000
DTEND;TZID=Europe/Brussels:20260126T220000
END:VEVENT
BEGIN:VEVENT
UID:A0E9B3BE-1D47-428D-8EB5-7807839F7498-33-1430_homereminder@118.badminton
 ners.net
DTSTAMP:20260420T043741Z
SUMMARY:Thuismatch ingevuld? (Beerke 2D (69) - Spinshuttle 2D (64))
DESCRIPTION:Je hebt 36 uur na aanvang om een thuismatch op Badmintonvlaande
 ren in te vullen. Match info: Beerke 2D (69) - Spinshuttle 2D (64) - Link:
  https://www.badmintonvlaanderen.be/sport/teammatch.aspx?id=A0E9B3BE-1D47-
 428D-8EB5-7807839F7498&match=1430
DTSTART;TZID=Europe/Brussels:20260411T080000
DTEND;TZID=Europe/Brussels:20260411T080000
END:VEVENT
BEGIN:VEVENT
UID:A0E9B3BE-1D47-428D-8EB5-7807839F7498-33-1444_homereminder@118.badminton
 ners.net
DTSTAMP:20260420T043741Z
SUMMARY:Thuismatch ingevuld? (Beerke 2D (69) - Zandhoven 1D (57))
DESCRIPTION:Je hebt 36 uur na aanvang om een thuismatch op Badmintonvlaande
 ren in te vullen. Match info: Beerke 2D (69) - Zandhoven 1D (57) - Link: h
 ttps://www.badmintonvlaanderen.be/sport/teammatch.aspx?id=A0E9B3BE-1D47-42
 8D-8EB5-7807839F7498&match=1444
DTSTART;TZID=Europe/Brussels:20260420T220000
DTEND;TZID=Europe/Brussels:20260420T220000
END:VEVENT
BEGIN:VEVENT
UID:A0E9B3BE-1D47-428D-8EB5-7807839F7498-33-1415_awayreminder@118.badminton
 ners.net
DTSTAMP:20260420T043741Z
SUMMARY:Uitmatch bevestigd? (Merksplas 1D (62) - Beerke 2D (69))
DESCRIPTION:Je hebt 72 uur na aanvang om een uitmatch op Badmintonvlaandere
 n in te vullen. Match info: Merksplas 1D (62) - Beerke 2D (69) - Link: htt
 ps://www.badmintonvlaanderen.be/sport/teammatch.aspx?id=A0E9B3BE-1D47-428D
 -8EB5-7807839F7498&match=1415
DTSTART;TZID=Europe/Brussels:20250910T183000
DTEND;TZID=Europe/Brussels:20250910T183000
END:VEVENT
BEGIN:VEVENT
UID:A0E9B3BE-1D47-428D-8EB5-7807839F7498-33-1419_awayreminder@118.badminton
 ners.net
DTSTAMP:20260420T043741Z
SUMMARY:Uitmatch bevestigd? (Zandhoven 1D (57) - Beerke 2D (69))
DESCRIPTION:Je hebt 72 uur na aanvang om een uitmatch op Badmintonvlaandere
 n in te vullen. Match info: Zandhoven 1D (57) - Beerke 2D (69) - Link: htt
 ps://www.badmintonvlaanderen.be/sport/teammatch.aspx?id=A0E9B3BE-1D47-428D
 -8EB5-7807839F7498&match=1419
DTSTART;TZID=Europe/Brussels:20251002T200000
DTEND;TZID=Europe/Brussels:20251002T200000
END:VEVENT
BEGIN:VEVENT
UID:A0E9B3BE-1D47-428D-8EB5-7807839F7498-33-1417_awayreminder@118.badminton
 ners.net
DTSTAMP:20260420T043741Z
SUMMARY:Uitmatch bevestigd? (Spinshuttle 2D (64) - Beerke 2D (69))
DESCRIPTION:Je hebt 72 uur na aanvang om een uitmatch op Badmintonvlaandere
 n in te vullen. Match info: Spinshuttle 2D (64) - Beerke 2D (69) - Link: h
 ttps://www.badmintonvlaanderen.be/sport/teammatch.aspx?id=A0E9B3BE-1D47-42
 8D-8EB5-7807839F7498&match=1417
DTSTART;TZID=Europe/Brussels:20251031T200000
DTEND;TZID=Europe/Brussels:20251031T200000
END:VEVENT
BEGIN:VEVENT
UID:A0E9B3BE-1D47-428D-8EB5-7807839F7498-33-1420_awayreminder@118.badminton
 ners.net
DTSTAMP:20260420T043741Z
SUMMARY:Uitmatch bevestigd? (Amateurs 1D (64) - Beerke 2D (69))
DESCRIPTION:Je hebt 72 uur na aanvang om een uitmatch op Badmintonvlaandere
 n in te vullen. Match info: Amateurs 1D (64) - Beerke 2D (69) - Link: http
 s://www.badmintonvlaanderen.be/sport/teammatch.aspx?id=A0E9B3BE-1D47-428D-
 8EB5-7807839F7498&match=1420
DTSTART;TZID=Europe/Brussels:20260111T210000
DTEND;TZID=Europe/Brussels:20260111T210000
END:VEVENT
BEGIN:VEVENT
UID:A0E9B3BE-1D47-428D-8EB5-7807839F7498-33-1421_awayreminder@118.badminton
 ners.net
DTSTAMP:20260420T043741Z
SUMMARY:Uitmatch bevestigd? (Looise 1D (60) - Beerke 2D (69))
DESCRIPTION:Je hebt 72 uur na aanvang om een uitmatch op Badmintonvlaandere
 n in te vullen. Match info: Looise 1D (60) - Beerke 2D (69) - Link: https:
 //www.badmintonvlaanderen.be/sport/teammatch.aspx?id=A0E9B3BE-1D47-428D-8E
 B5-7807839F7498&match=1421
DTSTART;TZID=Europe/Brussels:20260211T150000
DTEND;TZID=Europe/Brussels:20260211T150000
END:VEVENT
BEGIN:VEVENT
UID:A0E9B3BE-1D47-428D-8EB5-7807839F7498-33-1416_awayreminder@118.badminton
 ners.net
DTSTAMP:20260420T043741Z
SUMMARY:Uitmatch bevestigd? (Klein Boom 3D (54) - Beerke 2D (69))
DESCRIPTION:Je hebt 72 uur na aanvang om een uitmatch op Badmintonvlaandere
 n in te vullen. Match info: Klein Boom 3D (54) - Beerke 2D (69) - Link: ht
 tps://www.badmintonvlaanderen.be/sport/teammatch.aspx?id=A0E9B3BE-1D47-428
 D-8EB5-7807839F7498&match=1416
DTSTART;TZID=Europe/Brussels:20260225T190000
DTEND;TZID=Europe/Brussels:20260225T190000
END:VEVENT
BEGIN:VEVENT
UID:A0E9B3BE-1D47-428D-8EB5-7807839F7498-33-1418_awayreminder@118.badminton
 ners.net
DTSTAMP:20260420T043741Z
SUMMARY:Uitmatch bevestigd? (Brasschaat 3D (66) - Beerke 2D (69))
DESCRIPTION:Je hebt 72 uur na aanvang om een uitmatch op Badmintonvlaandere
 n in te vullen. Match info: Brasschaat 3D (66) - Beerke 2D (69) - Link: ht
 tps://www.badmintonvlaanderen.be/sport/teammatch.aspx?id=A0E9B3BE-1D47-428
 D-8EB5-7807839F7498&match=1418
DTSTART;TZID=Europe/Brussels:20260325T190000
DTEND;TZID=Europe/Brussels:20260325T190000
END:VEVENT
END:VCALENDAR