BEGIN:VCALENDAR
VERSION:2.0
PRODID:spatie/icalendar-generator
NAME:zandhoven_1d_57_reminders
X-WR-CALNAME:zandhoven_1d_57_reminders
BEGIN:VTIMEZONE
TZID:Europe/Brussels
BEGIN:DAYLIGHT
DTSTART:20250330T010000
TZOFFSETFROM:+0100
TZOFFSETTO:+0200
END:DAYLIGHT
BEGIN:STANDARD
DTSTART:20251026T030000
TZOFFSETFROM:+0200
TZOFFSETTO:+0100
END:STANDARD
BEGIN:DAYLIGHT
DTSTART:20260329T010000
TZOFFSETFROM:+0100
TZOFFSETTO:+0200
END:DAYLIGHT
END:VTIMEZONE
BEGIN:VTIMEZONE
TZID:UTC
BEGIN:STANDARD
DTSTART:20250724T055110
TZOFFSETFROM:+0000
TZOFFSETTO:+0000
END:STANDARD
END:VTIMEZONE
BEGIN:VEVENT
UID:A0E9B3BE-1D47-428D-8EB5-7807839F7498-33-1455_homereminder@120.badminton
 ners.net
DTSTAMP:20260420T055110Z
SUMMARY:Thuismatch ingevuld? (Zandhoven 1D (57) - Amateurs 1D (64))
DESCRIPTION:Je hebt 36 uur na aanvang om een thuismatch op Badmintonvlaande
 ren in te vullen. Match info: Zandhoven 1D (57) - Amateurs 1D (64) - Link:
  https://www.badmintonvlaanderen.be/sport/teammatch.aspx?id=A0E9B3BE-1D47-
 428D-8EB5-7807839F7498&match=1455
DTSTART;TZID=Europe/Brussels:20250913T080000
DTEND;TZID=Europe/Brussels:20250913T080000
END:VEVENT
BEGIN:VEVENT
UID:A0E9B3BE-1D47-428D-8EB5-7807839F7498-33-1419_homereminder@120.badminton
 ners.net
DTSTAMP:20260420T055110Z
SUMMARY:Thuismatch ingevuld? (Zandhoven 1D (57) - Beerke 2D (69))
DESCRIPTION:Je hebt 36 uur na aanvang om een thuismatch op Badmintonvlaande
 ren in te vullen. Match info: Zandhoven 1D (57) - Beerke 2D (69) - Link: h
 ttps://www.badmintonvlaanderen.be/sport/teammatch.aspx?id=A0E9B3BE-1D47-42
 8D-8EB5-7807839F7498&match=1419
DTSTART;TZID=Europe/Brussels:20251001T080000
DTEND;TZID=Europe/Brussels:20251001T080000
END:VEVENT
BEGIN:VEVENT
UID:A0E9B3BE-1D47-428D-8EB5-7807839F7498-33-1426_homereminder@120.badminton
 ners.net
DTSTAMP:20260420T055110Z
SUMMARY:Thuismatch ingevuld? (Zandhoven 1D (57) - Klein Boom 3D (54))
DESCRIPTION:Je hebt 36 uur na aanvang om een thuismatch op Badmintonvlaande
 ren in te vullen. Match info: Zandhoven 1D (57) - Klein Boom 3D (54) - Lin
 k: https://www.badmintonvlaanderen.be/sport/teammatch.aspx?id=A0E9B3BE-1D4
 7-428D-8EB5-7807839F7498&match=1426
DTSTART;TZID=Europe/Brussels:20251108T080000
DTEND;TZID=Europe/Brussels:20251108T080000
END:VEVENT
BEGIN:VEVENT
UID:A0E9B3BE-1D47-428D-8EB5-7807839F7498-33-1433_homereminder@120.badminton
 ners.net
DTSTAMP:20260420T055110Z
SUMMARY:Thuismatch ingevuld? (Zandhoven 1D (57) - Spinshuttle 2D (64))
DESCRIPTION:Je hebt 36 uur na aanvang om een thuismatch op Badmintonvlaande
 ren in te vullen. Match info: Zandhoven 1D (57) - Spinshuttle 2D (64) - Li
 nk: https://www.badmintonvlaanderen.be/sport/teammatch.aspx?id=A0E9B3BE-1D
 47-428D-8EB5-7807839F7498&match=1433
DTSTART;TZID=Europe/Brussels:20251122T080000
DTEND;TZID=Europe/Brussels:20251122T080000
END:VEVENT
BEGIN:VEVENT
UID:A0E9B3BE-1D47-428D-8EB5-7807839F7498-33-1440_homereminder@120.badminton
 ners.net
DTSTAMP:20260420T055110Z
SUMMARY:Thuismatch ingevuld? (Zandhoven 1D (57) - Brasschaat 3D (66))
DESCRIPTION:Je hebt 36 uur na aanvang om een thuismatch op Badmintonvlaande
 ren in te vullen. Match info: Zandhoven 1D (57) - Brasschaat 3D (66) - Lin
 k: https://www.badmintonvlaanderen.be/sport/teammatch.aspx?id=A0E9B3BE-1D4
 7-428D-8EB5-7807839F7498&match=1440
DTSTART;TZID=Europe/Brussels:20260204T080000
DTEND;TZID=Europe/Brussels:20260204T080000
END:VEVENT
BEGIN:VEVENT
UID:A0E9B3BE-1D47-428D-8EB5-7807839F7498-33-1462_homereminder@120.badminton
 ners.net
DTSTAMP:20260420T055110Z
SUMMARY:Thuismatch ingevuld? (Zandhoven 1D (57) - Looise 1D (60))
DESCRIPTION:Je hebt 36 uur na aanvang om een thuismatch op Badmintonvlaande
 ren in te vullen. Match info: Zandhoven 1D (57) - Looise 1D (60) - Link: h
 ttps://www.badmintonvlaanderen.be/sport/teammatch.aspx?id=A0E9B3BE-1D47-42
 8D-8EB5-7807839F7498&match=1462
DTSTART;TZID=Europe/Brussels:20260218T080000
DTEND;TZID=Europe/Brussels:20260218T080000
END:VEVENT
BEGIN:VEVENT
UID:A0E9B3BE-1D47-428D-8EB5-7807839F7498-33-1412_homereminder@120.badminton
 ners.net
DTSTAMP:20260420T055110Z
SUMMARY:Thuismatch ingevuld? (Zandhoven 1D (57) - Merksplas 1D (62))
DESCRIPTION:Je hebt 36 uur na aanvang om een thuismatch op Badmintonvlaande
 ren in te vullen. Match info: Zandhoven 1D (57) - Merksplas 1D (62) - Link
 : https://www.badmintonvlaanderen.be/sport/teammatch.aspx?id=A0E9B3BE-1D47
 -428D-8EB5-7807839F7498&match=1412
DTSTART;TZID=Europe/Brussels:20260318T080000
DTEND;TZID=Europe/Brussels:20260318T080000
END:VEVENT
BEGIN:VEVENT
UID:A0E9B3BE-1D47-428D-8EB5-7807839F7498-33-1443_awayreminder@120.badminton
 ners.net
DTSTAMP:20260420T055110Z
SUMMARY:Uitmatch bevestigd? (Merksplas 1D (62) - Zandhoven 1D (57))
DESCRIPTION:Je hebt 72 uur na aanvang om een uitmatch op Badmintonvlaandere
 n in te vullen. Match info: Merksplas 1D (62) - Zandhoven 1D (57) - Link: 
 https://www.badmintonvlaanderen.be/sport/teammatch.aspx?id=A0E9B3BE-1D47-4
 28D-8EB5-7807839F7498&match=1443
DTSTART;TZID=Europe/Brussels:20251022T183000
DTEND;TZID=Europe/Brussels:20251022T183000
END:VEVENT
BEGIN:VEVENT
UID:A0E9B3BE-1D47-428D-8EB5-7807839F7498-33-1449_awayreminder@120.badminton
 ners.net
DTSTAMP:20260420T055110Z
SUMMARY:Uitmatch bevestigd? (Looise 1D (60) - Zandhoven 1D (57))
DESCRIPTION:Je hebt 72 uur na aanvang om een uitmatch op Badmintonvlaandere
 n in te vullen. Match info: Looise 1D (60) - Zandhoven 1D (57) - Link: htt
 ps://www.badmintonvlaanderen.be/sport/teammatch.aspx?id=A0E9B3BE-1D47-428D
 -8EB5-7807839F7498&match=1449
DTSTART;TZID=Europe/Brussels:20251203T150000
DTEND;TZID=Europe/Brussels:20251203T150000
END:VEVENT
BEGIN:VEVENT
UID:A0E9B3BE-1D47-428D-8EB5-7807839F7498-33-1447_awayreminder@120.badminton
 ners.net
DTSTAMP:20260420T055110Z
SUMMARY:Uitmatch bevestigd? (Brasschaat 3D (66) - Zandhoven 1D (57))
DESCRIPTION:Je hebt 72 uur na aanvang om een uitmatch op Badmintonvlaandere
 n in te vullen. Match info: Brasschaat 3D (66) - Zandhoven 1D (57) - Link:
  https://www.badmintonvlaanderen.be/sport/teammatch.aspx?id=A0E9B3BE-1D47-
 428D-8EB5-7807839F7498&match=1447
DTSTART;TZID=Europe/Brussels:20251217T190000
DTEND;TZID=Europe/Brussels:20251217T190000
END:VEVENT
BEGIN:VEVENT
UID:A0E9B3BE-1D47-428D-8EB5-7807839F7498-33-1445_awayreminder@120.badminton
 ners.net
DTSTAMP:20260420T055110Z
SUMMARY:Uitmatch bevestigd? (Klein Boom 3D (54) - Zandhoven 1D (57))
DESCRIPTION:Je hebt 72 uur na aanvang om een uitmatch op Badmintonvlaandere
 n in te vullen. Match info: Klein Boom 3D (54) - Zandhoven 1D (57) - Link:
  https://www.badmintonvlaanderen.be/sport/teammatch.aspx?id=A0E9B3BE-1D47-
 428D-8EB5-7807839F7498&match=1445
DTSTART;TZID=Europe/Brussels:20260108T200000
DTEND;TZID=Europe/Brussels:20260108T200000
END:VEVENT
BEGIN:VEVENT
UID:A0E9B3BE-1D47-428D-8EB5-7807839F7498-33-1446_awayreminder@120.badminton
 ners.net
DTSTAMP:20260420T055110Z
SUMMARY:Uitmatch bevestigd? (Spinshuttle 2D (64) - Zandhoven 1D (57))
DESCRIPTION:Je hebt 72 uur na aanvang om een uitmatch op Badmintonvlaandere
 n in te vullen. Match info: Spinshuttle 2D (64) - Zandhoven 1D (57) - Link
 : https://www.badmintonvlaanderen.be/sport/teammatch.aspx?id=A0E9B3BE-1D47
 -428D-8EB5-7807839F7498&match=1446
DTSTART;TZID=Europe/Brussels:20260123T200000
DTEND;TZID=Europe/Brussels:20260123T200000
END:VEVENT
BEGIN:VEVENT
UID:A0E9B3BE-1D47-428D-8EB5-7807839F7498-33-1448_awayreminder@120.badminton
 ners.net
DTSTAMP:20260420T055110Z
SUMMARY:Uitmatch bevestigd? (Amateurs 1D (64) - Zandhoven 1D (57))
DESCRIPTION:Je hebt 72 uur na aanvang om een uitmatch op Badmintonvlaandere
 n in te vullen. Match info: Amateurs 1D (64) - Zandhoven 1D (57) - Link: h
 ttps://www.badmintonvlaanderen.be/sport/teammatch.aspx?id=A0E9B3BE-1D47-42
 8D-8EB5-7807839F7498&match=1448
DTSTART;TZID=Europe/Brussels:20260308T210000
DTEND;TZID=Europe/Brussels:20260308T210000
END:VEVENT
BEGIN:VEVENT
UID:A0E9B3BE-1D47-428D-8EB5-7807839F7498-33-1444_awayreminder@120.badminton
 ners.net
DTSTAMP:20260420T055110Z
SUMMARY:Uitmatch bevestigd? (Beerke 2D (69) - Zandhoven 1D (57))
DESCRIPTION:Je hebt 72 uur na aanvang om een uitmatch op Badmintonvlaandere
 n in te vullen. Match info: Beerke 2D (69) - Zandhoven 1D (57) - Link: htt
 ps://www.badmintonvlaanderen.be/sport/teammatch.aspx?id=A0E9B3BE-1D47-428D
 -8EB5-7807839F7498&match=1444
DTSTART;TZID=Europe/Brussels:20260422T100000
DTEND;TZID=Europe/Brussels:20260422T100000
END:VEVENT
END:VCALENDAR