BEGIN:VCALENDAR
VERSION:2.0
PRODID:spatie/icalendar-generator
NAME:spinshuttle_2d_64_reminders
X-WR-CALNAME:spinshuttle_2d_64_reminders
BEGIN:VTIMEZONE
TZID:Europe/Brussels
BEGIN:DAYLIGHT
DTSTART:20250330T010000
TZOFFSETFROM:+0100
TZOFFSETTO:+0200
END:DAYLIGHT
BEGIN:STANDARD
DTSTART:20251026T030000
TZOFFSETFROM:+0200
TZOFFSETTO:+0100
END:STANDARD
BEGIN:DAYLIGHT
DTSTART:20260329T010000
TZOFFSETFROM:+0100
TZOFFSETTO:+0200
END:DAYLIGHT
END:VTIMEZONE
BEGIN:VTIMEZONE
TZID:UTC
BEGIN:STANDARD
DTSTART:20250724T041158
TZOFFSETFROM:+0000
TZOFFSETTO:+0000
END:STANDARD
END:VTIMEZONE
BEGIN:VEVENT
UID:A0E9B3BE-1D47-428D-8EB5-7807839F7498-33-1460_homereminder@122.badminton
 ners.net
DTSTAMP:20260420T041158Z
SUMMARY:Thuismatch ingevuld? (Spinshuttle 2D (64) - Looise 1D (60))
DESCRIPTION:Je hebt 36 uur na aanvang om een thuismatch op Badmintonvlaande
 ren in te vullen. Match info: Spinshuttle 2D (64) - Looise 1D (60) - Link:
  https://www.badmintonvlaanderen.be/sport/teammatch.aspx?id=A0E9B3BE-1D47-
 428D-8EB5-7807839F7498&match=1460
DTSTART;TZID=Europe/Brussels:20251002T080000
DTEND;TZID=Europe/Brussels:20251002T080000
END:VEVENT
BEGIN:VEVENT
UID:A0E9B3BE-1D47-428D-8EB5-7807839F7498-33-1417_homereminder@122.badminton
 ners.net
DTSTAMP:20260420T041158Z
SUMMARY:Thuismatch ingevuld? (Spinshuttle 2D (64) - Beerke 2D (69))
DESCRIPTION:Je hebt 36 uur na aanvang om een thuismatch op Badmintonvlaande
 ren in te vullen. Match info: Spinshuttle 2D (64) - Beerke 2D (69) - Link:
  https://www.badmintonvlaanderen.be/sport/teammatch.aspx?id=A0E9B3BE-1D47-
 428D-8EB5-7807839F7498&match=1417
DTSTART;TZID=Europe/Brussels:20251030T080000
DTEND;TZID=Europe/Brussels:20251030T080000
END:VEVENT
BEGIN:VEVENT
UID:A0E9B3BE-1D47-428D-8EB5-7807839F7498-33-1439_homereminder@122.badminton
 ners.net
DTSTAMP:20260420T041158Z
SUMMARY:Thuismatch ingevuld? (Spinshuttle 2D (64) - Brasschaat 3D (66))
DESCRIPTION:Je hebt 36 uur na aanvang om een thuismatch op Badmintonvlaande
 ren in te vullen. Match info: Spinshuttle 2D (64) - Brasschaat 3D (66) - L
 ink: https://www.badmintonvlaanderen.be/sport/teammatch.aspx?id=A0E9B3BE-1
 D47-428D-8EB5-7807839F7498&match=1439
DTSTART;TZID=Europe/Brussels:20251204T080000
DTEND;TZID=Europe/Brussels:20251204T080000
END:VEVENT
BEGIN:VEVENT
UID:A0E9B3BE-1D47-428D-8EB5-7807839F7498-33-1453_homereminder@122.badminton
 ners.net
DTSTAMP:20260420T041158Z
SUMMARY:Thuismatch ingevuld? (Spinshuttle 2D (64) - Amateurs 1D (64))
DESCRIPTION:Je hebt 36 uur na aanvang om een thuismatch op Badmintonvlaande
 ren in te vullen. Match info: Spinshuttle 2D (64) - Amateurs 1D (64) - Lin
 k: https://www.badmintonvlaanderen.be/sport/teammatch.aspx?id=A0E9B3BE-1D4
 7-428D-8EB5-7807839F7498&match=1453
DTSTART;TZID=Europe/Brussels:20251211T080000
DTEND;TZID=Europe/Brussels:20251211T080000
END:VEVENT
BEGIN:VEVENT
UID:A0E9B3BE-1D47-428D-8EB5-7807839F7498-33-1446_homereminder@122.badminton
 ners.net
DTSTAMP:20260420T041158Z
SUMMARY:Thuismatch ingevuld? (Spinshuttle 2D (64) - Zandhoven 1D (57))
DESCRIPTION:Je hebt 36 uur na aanvang om een thuismatch op Badmintonvlaande
 ren in te vullen. Match info: Spinshuttle 2D (64) - Zandhoven 1D (57) - Li
 nk: https://www.badmintonvlaanderen.be/sport/teammatch.aspx?id=A0E9B3BE-1D
 47-428D-8EB5-7807839F7498&match=1446
DTSTART;TZID=Europe/Brussels:20260122T080000
DTEND;TZID=Europe/Brussels:20260122T080000
END:VEVENT
BEGIN:VEVENT
UID:A0E9B3BE-1D47-428D-8EB5-7807839F7498-33-1410_homereminder@122.badminton
 ners.net
DTSTAMP:20260420T041158Z
SUMMARY:Thuismatch ingevuld? (Spinshuttle 2D (64) - Merksplas 1D (62))
DESCRIPTION:Je hebt 36 uur na aanvang om een thuismatch op Badmintonvlaande
 ren in te vullen. Match info: Spinshuttle 2D (64) - Merksplas 1D (62) - Li
 nk: https://www.badmintonvlaanderen.be/sport/teammatch.aspx?id=A0E9B3BE-1D
 47-428D-8EB5-7807839F7498&match=1410
DTSTART;TZID=Europe/Brussels:20260219T080000
DTEND;TZID=Europe/Brussels:20260219T080000
END:VEVENT
BEGIN:VEVENT
UID:A0E9B3BE-1D47-428D-8EB5-7807839F7498-33-1424_homereminder@122.badminton
 ners.net
DTSTAMP:20260420T041158Z
SUMMARY:Thuismatch ingevuld? (Spinshuttle 2D (64) - Klein Boom 3D (54))
DESCRIPTION:Je hebt 36 uur na aanvang om een thuismatch op Badmintonvlaande
 ren in te vullen. Match info: Spinshuttle 2D (64) - Klein Boom 3D (54) - L
 ink: https://www.badmintonvlaanderen.be/sport/teammatch.aspx?id=A0E9B3BE-1
 D47-428D-8EB5-7807839F7498&match=1424
DTSTART;TZID=Europe/Brussels:20260319T080000
DTEND;TZID=Europe/Brussels:20260319T080000
END:VEVENT
BEGIN:VEVENT
UID:A0E9B3BE-1D47-428D-8EB5-7807839F7498-33-1431_awayreminder@122.badminton
 ners.net
DTSTAMP:20260420T041158Z
SUMMARY:Uitmatch bevestigd? (Klein Boom 3D (54) - Spinshuttle 2D (64))
DESCRIPTION:Je hebt 72 uur na aanvang om een uitmatch op Badmintonvlaandere
 n in te vullen. Match info: Klein Boom 3D (54) - Spinshuttle 2D (64) - Lin
 k: https://www.badmintonvlaanderen.be/sport/teammatch.aspx?id=A0E9B3BE-1D4
 7-428D-8EB5-7807839F7498&match=1431
DTSTART;TZID=Europe/Brussels:20251022T190000
DTEND;TZID=Europe/Brussels:20251022T190000
END:VEVENT
BEGIN:VEVENT
UID:A0E9B3BE-1D47-428D-8EB5-7807839F7498-33-1433_awayreminder@122.badminton
 ners.net
DTSTAMP:20260420T041158Z
SUMMARY:Uitmatch bevestigd? (Zandhoven 1D (57) - Spinshuttle 2D (64))
DESCRIPTION:Je hebt 72 uur na aanvang om een uitmatch op Badmintonvlaandere
 n in te vullen. Match info: Zandhoven 1D (57) - Spinshuttle 2D (64) - Link
 : https://www.badmintonvlaanderen.be/sport/teammatch.aspx?id=A0E9B3BE-1D47
 -428D-8EB5-7807839F7498&match=1433
DTSTART;TZID=Europe/Brussels:20251123T200000
DTEND;TZID=Europe/Brussels:20251123T200000
END:VEVENT
BEGIN:VEVENT
UID:A0E9B3BE-1D47-428D-8EB5-7807839F7498-33-1429_awayreminder@122.badminton
 ners.net
DTSTAMP:20260420T041158Z
SUMMARY:Uitmatch bevestigd? (Merksplas 1D (62) - Spinshuttle 2D (64))
DESCRIPTION:Je hebt 72 uur na aanvang om een uitmatch op Badmintonvlaandere
 n in te vullen. Match info: Merksplas 1D (62) - Spinshuttle 2D (64) - Link
 : https://www.badmintonvlaanderen.be/sport/teammatch.aspx?id=A0E9B3BE-1D47
 -428D-8EB5-7807839F7498&match=1429
DTSTART;TZID=Europe/Brussels:20251203T183000
DTEND;TZID=Europe/Brussels:20251203T183000
END:VEVENT
BEGIN:VEVENT
UID:A0E9B3BE-1D47-428D-8EB5-7807839F7498-33-1432_awayreminder@122.badminton
 ners.net
DTSTAMP:20260420T041158Z
SUMMARY:Uitmatch bevestigd? (Brasschaat 3D (66) - Spinshuttle 2D (64))
DESCRIPTION:Je hebt 72 uur na aanvang om een uitmatch op Badmintonvlaandere
 n in te vullen. Match info: Brasschaat 3D (66) - Spinshuttle 2D (64) - Lin
 k: https://www.badmintonvlaanderen.be/sport/teammatch.aspx?id=A0E9B3BE-1D4
 7-428D-8EB5-7807839F7498&match=1432
DTSTART;TZID=Europe/Brussels:20260114T190000
DTEND;TZID=Europe/Brussels:20260114T190000
END:VEVENT
BEGIN:VEVENT
UID:A0E9B3BE-1D47-428D-8EB5-7807839F7498-33-1434_awayreminder@122.badminton
 ners.net
DTSTAMP:20260420T041158Z
SUMMARY:Uitmatch bevestigd? (Amateurs 1D (64) - Spinshuttle 2D (64))
DESCRIPTION:Je hebt 72 uur na aanvang om een uitmatch op Badmintonvlaandere
 n in te vullen. Match info: Amateurs 1D (64) - Spinshuttle 2D (64) - Link:
  https://www.badmintonvlaanderen.be/sport/teammatch.aspx?id=A0E9B3BE-1D47-
 428D-8EB5-7807839F7498&match=1434
DTSTART;TZID=Europe/Brussels:20260208T210000
DTEND;TZID=Europe/Brussels:20260208T210000
END:VEVENT
BEGIN:VEVENT
UID:A0E9B3BE-1D47-428D-8EB5-7807839F7498-33-1430_awayreminder@122.badminton
 ners.net
DTSTAMP:20260420T041158Z
SUMMARY:Uitmatch bevestigd? (Beerke 2D (69) - Spinshuttle 2D (64))
DESCRIPTION:Je hebt 72 uur na aanvang om een uitmatch op Badmintonvlaandere
 n in te vullen. Match info: Beerke 2D (69) - Spinshuttle 2D (64) - Link: h
 ttps://www.badmintonvlaanderen.be/sport/teammatch.aspx?id=A0E9B3BE-1D47-42
 8D-8EB5-7807839F7498&match=1430
DTSTART;TZID=Europe/Brussels:20260412T200000
DTEND;TZID=Europe/Brussels:20260412T200000
END:VEVENT
BEGIN:VEVENT
UID:A0E9B3BE-1D47-428D-8EB5-7807839F7498-33-1435_awayreminder@122.badminton
 ners.net
DTSTAMP:20260420T041158Z
SUMMARY:Uitmatch bevestigd? (Looise 1D (60) - Spinshuttle 2D (64))
DESCRIPTION:Je hebt 72 uur na aanvang om een uitmatch op Badmintonvlaandere
 n in te vullen. Match info: Looise 1D (60) - Spinshuttle 2D (64) - Link: h
 ttps://www.badmintonvlaanderen.be/sport/teammatch.aspx?id=A0E9B3BE-1D47-42
 8D-8EB5-7807839F7498&match=1435
DTSTART;TZID=Europe/Brussels:20260422T150000
DTEND;TZID=Europe/Brussels:20260422T150000
END:VEVENT
END:VCALENDAR