BEGIN:VCALENDAR
VERSION:2.0
PRODID:spatie/icalendar-generator
NAME:looise_1d_60_reminders
X-WR-CALNAME:looise_1d_60_reminders
BEGIN:VTIMEZONE
TZID:Europe/Brussels
BEGIN:DAYLIGHT
DTSTART:20250330T010000
TZOFFSETFROM:+0100
TZOFFSETTO:+0200
END:DAYLIGHT
BEGIN:STANDARD
DTSTART:20251026T030000
TZOFFSETFROM:+0200
TZOFFSETTO:+0100
END:STANDARD
BEGIN:DAYLIGHT
DTSTART:20260329T010000
TZOFFSETFROM:+0100
TZOFFSETTO:+0200
END:DAYLIGHT
BEGIN:STANDARD
DTSTART:20261025T030000
TZOFFSETFROM:+0200
TZOFFSETTO:+0100
END:STANDARD
END:VTIMEZONE
BEGIN:VTIMEZONE
TZID:UTC
BEGIN:STANDARD
DTSTART:20250724T055107
TZOFFSETFROM:+0000
TZOFFSETTO:+0000
END:STANDARD
END:VTIMEZONE
BEGIN:VEVENT
UID:A0E9B3BE-1D47-428D-8EB5-7807839F7498-33-1442_homereminder@212.badminton
 ners.net
DTSTAMP:20260420T055107Z
SUMMARY:Thuismatch ingevuld? (Looise 1D (60) - Brasschaat 3D (66))
DESCRIPTION:Je hebt 36 uur na aanvang om een thuismatch op Badmintonvlaande
 ren in te vullen. Match info: Looise 1D (60) - Brasschaat 3D (66) - Link: 
 https://www.badmintonvlaanderen.be/sport/teammatch.aspx?id=A0E9B3BE-1D47-4
 28D-8EB5-7807839F7498&match=1442
DTSTART;TZID=Europe/Brussels:20250909T030000
DTEND;TZID=Europe/Brussels:20250909T030000
END:VEVENT
BEGIN:VEVENT
UID:A0E9B3BE-1D47-428D-8EB5-7807839F7498-33-1456_homereminder@212.badminton
 ners.net
DTSTAMP:20260420T055107Z
SUMMARY:Thuismatch ingevuld? (Looise 1D (60) - Amateurs 1D (64))
DESCRIPTION:Je hebt 36 uur na aanvang om een thuismatch op Badmintonvlaande
 ren in te vullen. Match info: Looise 1D (60) - Amateurs 1D (64) - Link: ht
 tps://www.badmintonvlaanderen.be/sport/teammatch.aspx?id=A0E9B3BE-1D47-428
 D-8EB5-7807839F7498&match=1456
DTSTART;TZID=Europe/Brussels:20251021T030000
DTEND;TZID=Europe/Brussels:20251021T030000
END:VEVENT
BEGIN:VEVENT
UID:A0E9B3BE-1D47-428D-8EB5-7807839F7498-33-1449_homereminder@212.badminton
 ners.net
DTSTAMP:20260420T055107Z
SUMMARY:Thuismatch ingevuld? (Looise 1D (60) - Zandhoven 1D (57))
DESCRIPTION:Je hebt 36 uur na aanvang om een thuismatch op Badmintonvlaande
 ren in te vullen. Match info: Looise 1D (60) - Zandhoven 1D (57) - Link: h
 ttps://www.badmintonvlaanderen.be/sport/teammatch.aspx?id=A0E9B3BE-1D47-42
 8D-8EB5-7807839F7498&match=1449
DTSTART;TZID=Europe/Brussels:20251202T030000
DTEND;TZID=Europe/Brussels:20251202T030000
END:VEVENT
BEGIN:VEVENT
UID:A0E9B3BE-1D47-428D-8EB5-7807839F7498-33-1421_homereminder@212.badminton
 ners.net
DTSTAMP:20260420T055107Z
SUMMARY:Thuismatch ingevuld? (Looise 1D (60) - Beerke 2D (69))
DESCRIPTION:Je hebt 36 uur na aanvang om een thuismatch op Badmintonvlaande
 ren in te vullen. Match info: Looise 1D (60) - Beerke 2D (69) - Link: http
 s://www.badmintonvlaanderen.be/sport/teammatch.aspx?id=A0E9B3BE-1D47-428D-
 8EB5-7807839F7498&match=1421
DTSTART;TZID=Europe/Brussels:20260210T030000
DTEND;TZID=Europe/Brussels:20260210T030000
END:VEVENT
BEGIN:VEVENT
UID:A0E9B3BE-1D47-428D-8EB5-7807839F7498-33-1428_homereminder@212.badminton
 ners.net
DTSTAMP:20260420T055107Z
SUMMARY:Thuismatch ingevuld? (Looise 1D (60) - Klein Boom 3D (54))
DESCRIPTION:Je hebt 36 uur na aanvang om een thuismatch op Badmintonvlaande
 ren in te vullen. Match info: Looise 1D (60) - Klein Boom 3D (54) - Link: 
 https://www.badmintonvlaanderen.be/sport/teammatch.aspx?id=A0E9B3BE-1D47-4
 28D-8EB5-7807839F7498&match=1428
DTSTART;TZID=Europe/Brussels:20260310T030000
DTEND;TZID=Europe/Brussels:20260310T030000
END:VEVENT
BEGIN:VEVENT
UID:A0E9B3BE-1D47-428D-8EB5-7807839F7498-33-1435_homereminder@212.badminton
 ners.net
DTSTAMP:20260420T055107Z
SUMMARY:Thuismatch ingevuld? (Looise 1D (60) - Spinshuttle 2D (64))
DESCRIPTION:Je hebt 36 uur na aanvang om een thuismatch op Badmintonvlaande
 ren in te vullen. Match info: Looise 1D (60) - Spinshuttle 2D (64) - Link:
  https://www.badmintonvlaanderen.be/sport/teammatch.aspx?id=A0E9B3BE-1D47-
 428D-8EB5-7807839F7498&match=1435
DTSTART;TZID=Europe/Brussels:20260421T030000
DTEND;TZID=Europe/Brussels:20260421T030000
END:VEVENT
BEGIN:VEVENT
UID:A0E9B3BE-1D47-428D-8EB5-7807839F7498-33-1414_homereminder@212.badminton
 ners.net
DTSTAMP:20260420T055107Z
SUMMARY:Thuismatch ingevuld? (Looise 1D (60) - Merksplas 1D (62))
DESCRIPTION:Je hebt 36 uur na aanvang om een thuismatch op Badmintonvlaande
 ren in te vullen. Match info: Looise 1D (60) - Merksplas 1D (62) - Link: h
 ttps://www.badmintonvlaanderen.be/sport/teammatch.aspx?id=A0E9B3BE-1D47-42
 8D-8EB5-7807839F7498&match=1414
DTSTART;TZID=Europe/Brussels:20260428T030000
DTEND;TZID=Europe/Brussels:20260428T030000
END:VEVENT
BEGIN:VEVENT
UID:A0E9B3BE-1D47-428D-8EB5-7807839F7498-33-1457_awayreminder@212.badminton
 ners.net
DTSTAMP:20260420T055107Z
SUMMARY:Uitmatch bevestigd? (Merksplas 1D (62) - Looise 1D (60))
DESCRIPTION:Je hebt 72 uur na aanvang om een uitmatch op Badmintonvlaandere
 n in te vullen. Match info: Merksplas 1D (62) - Looise 1D (60) - Link: htt
 ps://www.badmintonvlaanderen.be/sport/teammatch.aspx?id=A0E9B3BE-1D47-428D
 -8EB5-7807839F7498&match=1457
DTSTART;TZID=Europe/Brussels:20250924T183000
DTEND;TZID=Europe/Brussels:20250924T183000
END:VEVENT
BEGIN:VEVENT
UID:A0E9B3BE-1D47-428D-8EB5-7807839F7498-33-1460_awayreminder@212.badminton
 ners.net
DTSTAMP:20260420T055107Z
SUMMARY:Uitmatch bevestigd? (Spinshuttle 2D (64) - Looise 1D (60))
DESCRIPTION:Je hebt 72 uur na aanvang om een uitmatch op Badmintonvlaandere
 n in te vullen. Match info: Spinshuttle 2D (64) - Looise 1D (60) - Link: h
 ttps://www.badmintonvlaanderen.be/sport/teammatch.aspx?id=A0E9B3BE-1D47-42
 8D-8EB5-7807839F7498&match=1460
DTSTART;TZID=Europe/Brussels:20251003T200000
DTEND;TZID=Europe/Brussels:20251003T200000
END:VEVENT
BEGIN:VEVENT
UID:A0E9B3BE-1D47-428D-8EB5-7807839F7498-33-1459_awayreminder@212.badminton
 ners.net
DTSTAMP:20260420T055107Z
SUMMARY:Uitmatch bevestigd? (Klein Boom 3D (54) - Looise 1D (60))
DESCRIPTION:Je hebt 72 uur na aanvang om een uitmatch op Badmintonvlaandere
 n in te vullen. Match info: Klein Boom 3D (54) - Looise 1D (60) - Link: ht
 tps://www.badmintonvlaanderen.be/sport/teammatch.aspx?id=A0E9B3BE-1D47-428
 D-8EB5-7807839F7498&match=1459
DTSTART;TZID=Europe/Brussels:20251119T190000
DTEND;TZID=Europe/Brussels:20251119T190000
END:VEVENT
BEGIN:VEVENT
UID:A0E9B3BE-1D47-428D-8EB5-7807839F7498-33-1458_awayreminder@212.badminton
 ners.net
DTSTAMP:20260420T055107Z
SUMMARY:Uitmatch bevestigd? (Beerke 2D (69) - Looise 1D (60))
DESCRIPTION:Je hebt 72 uur na aanvang om een uitmatch op Badmintonvlaandere
 n in te vullen. Match info: Beerke 2D (69) - Looise 1D (60) - Link: https:
 //www.badmintonvlaanderen.be/sport/teammatch.aspx?id=A0E9B3BE-1D47-428D-8E
 B5-7807839F7498&match=1458
DTSTART;TZID=Europe/Brussels:20251217T100000
DTEND;TZID=Europe/Brussels:20251217T100000
END:VEVENT
BEGIN:VEVENT
UID:A0E9B3BE-1D47-428D-8EB5-7807839F7498-33-1462_awayreminder@212.badminton
 ners.net
DTSTAMP:20260420T055107Z
SUMMARY:Uitmatch bevestigd? (Zandhoven 1D (57) - Looise 1D (60))
DESCRIPTION:Je hebt 72 uur na aanvang om een uitmatch op Badmintonvlaandere
 n in te vullen. Match info: Zandhoven 1D (57) - Looise 1D (60) - Link: htt
 ps://www.badmintonvlaanderen.be/sport/teammatch.aspx?id=A0E9B3BE-1D47-428D
 -8EB5-7807839F7498&match=1462
DTSTART;TZID=Europe/Brussels:20260219T200000
DTEND;TZID=Europe/Brussels:20260219T200000
END:VEVENT
BEGIN:VEVENT
UID:A0E9B3BE-1D47-428D-8EB5-7807839F7498-33-1463_awayreminder@212.badminton
 ners.net
DTSTAMP:20260420T055107Z
SUMMARY:Uitmatch bevestigd? (Amateurs 1D (64) - Looise 1D (60))
DESCRIPTION:Je hebt 72 uur na aanvang om een uitmatch op Badmintonvlaandere
 n in te vullen. Match info: Amateurs 1D (64) - Looise 1D (60) - Link: http
 s://www.badmintonvlaanderen.be/sport/teammatch.aspx?id=A0E9B3BE-1D47-428D-
 8EB5-7807839F7498&match=1463
DTSTART;TZID=Europe/Brussels:20260319T200000
DTEND;TZID=Europe/Brussels:20260319T200000
END:VEVENT
BEGIN:VEVENT
UID:A0E9B3BE-1D47-428D-8EB5-7807839F7498-33-1461_awayreminder@212.badminton
 ners.net
DTSTAMP:20260420T055107Z
SUMMARY:Uitmatch bevestigd? (Brasschaat 3D (66) - Looise 1D (60))
DESCRIPTION:Je hebt 72 uur na aanvang om een uitmatch op Badmintonvlaandere
 n in te vullen. Match info: Brasschaat 3D (66) - Looise 1D (60) - Link: ht
 tps://www.badmintonvlaanderen.be/sport/teammatch.aspx?id=A0E9B3BE-1D47-428
 D-8EB5-7807839F7498&match=1461
DTSTART;TZID=Europe/Brussels:20260426T200000
DTEND;TZID=Europe/Brussels:20260426T200000
END:VEVENT
END:VCALENDAR