BEGIN:VCALENDAR
VERSION:2.0
PRODID:spatie/icalendar-generator
NAME:klein_boom_1h_38_reminders
X-WR-CALNAME:klein_boom_1h_38_reminders
BEGIN:VTIMEZONE
TZID:Europe/Brussels
BEGIN:DAYLIGHT
DTSTART:20250330T010000
TZOFFSETFROM:+0100
TZOFFSETTO:+0200
END:DAYLIGHT
BEGIN:STANDARD
DTSTART:20251026T030000
TZOFFSETFROM:+0200
TZOFFSETTO:+0100
END:STANDARD
BEGIN:DAYLIGHT
DTSTART:20260329T010000
TZOFFSETFROM:+0100
TZOFFSETTO:+0200
END:DAYLIGHT
END:VTIMEZONE
BEGIN:VTIMEZONE
TZID:UTC
BEGIN:STANDARD
DTSTART:20250724T042224
TZOFFSETFROM:+0000
TZOFFSETTO:+0000
END:STANDARD
END:VTIMEZONE
BEGIN:VEVENT
UID:A0E9B3BE-1D47-428D-8EB5-7807839F7498-6-259_homereminder@12.badmintonner
 s.net
DTSTAMP:20260420T042224Z
SUMMARY:Thuismatch ingevuld? (Klein Boom 1H (38) - Olve 3H (36))
DESCRIPTION:Je hebt 36 uur na aanvang om een thuismatch op Badmintonvlaande
 ren in te vullen. Match info: Klein Boom 1H (38) - Olve 3H (36) - Link: ht
 tps://www.badmintonvlaanderen.be/sport/teammatch.aspx?id=A0E9B3BE-1D47-428
 D-8EB5-7807839F7498&match=259
DTSTART;TZID=Europe/Brussels:20251021T070000
DTEND;TZID=Europe/Brussels:20251021T070000
END:VEVENT
BEGIN:VEVENT
UID:A0E9B3BE-1D47-428D-8EB5-7807839F7498-6-254_homereminder@12.badmintonner
 s.net
DTSTAMP:20260420T042224Z
SUMMARY:Thuismatch ingevuld? (Klein Boom 1H (38) - De Klamp 1H (41))
DESCRIPTION:Je hebt 36 uur na aanvang om een thuismatch op Badmintonvlaande
 ren in te vullen. Match info: Klein Boom 1H (38) - De Klamp 1H (41) - Link
 : https://www.badmintonvlaanderen.be/sport/teammatch.aspx?id=A0E9B3BE-1D47
 -428D-8EB5-7807839F7498&match=254
DTSTART;TZID=Europe/Brussels:20251216T070000
DTEND;TZID=Europe/Brussels:20251216T070000
END:VEVENT
BEGIN:VEVENT
UID:A0E9B3BE-1D47-428D-8EB5-7807839F7498-6-249_homereminder@12.badmintonner
 s.net
DTSTAMP:20260420T042224Z
SUMMARY:Thuismatch ingevuld? (Klein Boom 1H (38) - Plumula 1H (42))
DESCRIPTION:Je hebt 36 uur na aanvang om een thuismatch op Badmintonvlaande
 ren in te vullen. Match info: Klein Boom 1H (38) - Plumula 1H (42) - Link:
  https://www.badmintonvlaanderen.be/sport/teammatch.aspx?id=A0E9B3BE-1D47-
 428D-8EB5-7807839F7498&match=249
DTSTART;TZID=Europe/Brussels:20260113T070000
DTEND;TZID=Europe/Brussels:20260113T070000
END:VEVENT
BEGIN:VEVENT
UID:A0E9B3BE-1D47-428D-8EB5-7807839F7498-6-239_homereminder@12.badmintonner
 s.net
DTSTAMP:20260420T042224Z
SUMMARY:Thuismatch ingevuld? (Klein Boom 1H (38) - Herentals 1H (42))
DESCRIPTION:Je hebt 36 uur na aanvang om een thuismatch op Badmintonvlaande
 ren in te vullen. Match info: Klein Boom 1H (38) - Herentals 1H (42) - Lin
 k: https://www.badmintonvlaanderen.be/sport/teammatch.aspx?id=A0E9B3BE-1D4
 7-428D-8EB5-7807839F7498&match=239
DTSTART;TZID=Europe/Brussels:20260210T070000
DTEND;TZID=Europe/Brussels:20260210T070000
END:VEVENT
BEGIN:VEVENT
UID:A0E9B3BE-1D47-428D-8EB5-7807839F7498-6-244_homereminder@12.badmintonner
 s.net
DTSTAMP:20260420T042224Z
SUMMARY:Thuismatch ingevuld? (Klein Boom 1H (38) - Smash 1H (42))
DESCRIPTION:Je hebt 36 uur na aanvang om een thuismatch op Badmintonvlaande
 ren in te vullen. Match info: Klein Boom 1H (38) - Smash 1H (42) - Link: h
 ttps://www.badmintonvlaanderen.be/sport/teammatch.aspx?id=A0E9B3BE-1D47-42
 8D-8EB5-7807839F7498&match=244
DTSTART;TZID=Europe/Brussels:20260224T070000
DTEND;TZID=Europe/Brussels:20260224T070000
END:VEVENT
BEGIN:VEVENT
UID:A0E9B3BE-1D47-428D-8EB5-7807839F7498-6-260_awayreminder@12.badmintonner
 s.net
DTSTAMP:20260420T042224Z
SUMMARY:Uitmatch bevestigd? (Herentals 1H (42) - Klein Boom 1H (38))
DESCRIPTION:Je hebt 72 uur na aanvang om een uitmatch op Badmintonvlaandere
 n in te vullen. Match info: Herentals 1H (42) - Klein Boom 1H (38) - Link:
  https://www.badmintonvlaanderen.be/sport/teammatch.aspx?id=A0E9B3BE-1D47-
 428D-8EB5-7807839F7498&match=260
DTSTART;TZID=Europe/Brussels:20251027T193000
DTEND;TZID=Europe/Brussels:20251027T193000
END:VEVENT
BEGIN:VEVENT
UID:A0E9B3BE-1D47-428D-8EB5-7807839F7498-6-261_awayreminder@12.badmintonner
 s.net
DTSTAMP:20260420T042224Z
SUMMARY:Uitmatch bevestigd? (Smash 1H (42) - Klein Boom 1H (38))
DESCRIPTION:Je hebt 72 uur na aanvang om een uitmatch op Badmintonvlaandere
 n in te vullen. Match info: Smash 1H (42) - Klein Boom 1H (38) - Link: htt
 ps://www.badmintonvlaanderen.be/sport/teammatch.aspx?id=A0E9B3BE-1D47-428D
 -8EB5-7807839F7498&match=261
DTSTART;TZID=Europe/Brussels:20251119T100000
DTEND;TZID=Europe/Brussels:20251119T100000
END:VEVENT
BEGIN:VEVENT
UID:A0E9B3BE-1D47-428D-8EB5-7807839F7498-6-262_awayreminder@12.badmintonner
 s.net
DTSTAMP:20260420T042224Z
SUMMARY:Uitmatch bevestigd? (Plumula 1H (42) - Klein Boom 1H (38))
DESCRIPTION:Je hebt 72 uur na aanvang om een uitmatch op Badmintonvlaandere
 n in te vullen. Match info: Plumula 1H (42) - Klein Boom 1H (38) - Link: h
 ttps://www.badmintonvlaanderen.be/sport/teammatch.aspx?id=A0E9B3BE-1D47-42
 8D-8EB5-7807839F7498&match=262
DTSTART;TZID=Europe/Brussels:20251203T173000
DTEND;TZID=Europe/Brussels:20251203T173000
END:VEVENT
BEGIN:VEVENT
UID:A0E9B3BE-1D47-428D-8EB5-7807839F7498-6-263_awayreminder@12.badmintonner
 s.net
DTSTAMP:20260420T042224Z
SUMMARY:Uitmatch bevestigd? (De Klamp 1H (41) - Klein Boom 1H (38))
DESCRIPTION:Je hebt 72 uur na aanvang om een uitmatch op Badmintonvlaandere
 n in te vullen. Match info: De Klamp 1H (41) - Klein Boom 1H (38) - Link: 
 https://www.badmintonvlaanderen.be/sport/teammatch.aspx?id=A0E9B3BE-1D47-4
 28D-8EB5-7807839F7498&match=263
DTSTART;TZID=Europe/Brussels:20260311T181500
DTEND;TZID=Europe/Brussels:20260311T181500
END:VEVENT
BEGIN:VEVENT
UID:A0E9B3BE-1D47-428D-8EB5-7807839F7498-6-264_awayreminder@12.badmintonner
 s.net
DTSTAMP:20260420T042224Z
SUMMARY:Uitmatch bevestigd? (Olve 3H (36) - Klein Boom 1H (38))
DESCRIPTION:Je hebt 72 uur na aanvang om een uitmatch op Badmintonvlaandere
 n in te vullen. Match info: Olve 3H (36) - Klein Boom 1H (38) - Link: http
 s://www.badmintonvlaanderen.be/sport/teammatch.aspx?id=A0E9B3BE-1D47-428D-
 8EB5-7807839F7498&match=264
DTSTART;TZID=Europe/Brussels:20260421T103000
DTEND;TZID=Europe/Brussels:20260421T103000
END:VEVENT
END:VCALENDAR