BEGIN:VCALENDAR
VERSION:2.0
PRODID:spatie/icalendar-generator
NAME:de_klamp_1h_41_reminders
X-WR-CALNAME:de_klamp_1h_41_reminders
BEGIN:VTIMEZONE
TZID:Europe/Brussels
BEGIN:DAYLIGHT
DTSTART:20250330T010000
TZOFFSETFROM:+0100
TZOFFSETTO:+0200
END:DAYLIGHT
BEGIN:STANDARD
DTSTART:20251026T030000
TZOFFSETFROM:+0200
TZOFFSETTO:+0100
END:STANDARD
BEGIN:DAYLIGHT
DTSTART:20260329T010000
TZOFFSETFROM:+0100
TZOFFSETTO:+0200
END:DAYLIGHT
END:VTIMEZONE
BEGIN:VTIMEZONE
TZID:UTC
BEGIN:STANDARD
DTSTART:20250724T055120
TZOFFSETFROM:+0000
TZOFFSETTO:+0000
END:STANDARD
END:VTIMEZONE
BEGIN:VEVENT
UID:A0E9B3BE-1D47-428D-8EB5-7807839F7498-6-242_homereminder@14.badmintonner
 s.net
DTSTAMP:20260420T055120Z
SUMMARY:Thuismatch ingevuld? (De Klamp 1H (41) - Smash 1H (42))
DESCRIPTION:Je hebt 36 uur na aanvang om een thuismatch op Badmintonvlaande
 ren in te vullen. Match info: De Klamp 1H (41) - Smash 1H (42) - Link: htt
 ps://www.badmintonvlaanderen.be/sport/teammatch.aspx?id=A0E9B3BE-1D47-428D
 -8EB5-7807839F7498&match=242
DTSTART;TZID=Europe/Brussels:20251111T061500
DTEND;TZID=Europe/Brussels:20251111T061500
END:VEVENT
BEGIN:VEVENT
UID:A0E9B3BE-1D47-428D-8EB5-7807839F7498-6-258_homereminder@14.badmintonner
 s.net
DTSTAMP:20260420T055120Z
SUMMARY:Thuismatch ingevuld? (De Klamp 1H (41) - Olve 3H (36))
DESCRIPTION:Je hebt 36 uur na aanvang om een thuismatch op Badmintonvlaande
 ren in te vullen. Match info: De Klamp 1H (41) - Olve 3H (36) - Link: http
 s://www.badmintonvlaanderen.be/sport/teammatch.aspx?id=A0E9B3BE-1D47-428D-
 8EB5-7807839F7498&match=258
DTSTART;TZID=Europe/Brussels:20251118T061500
DTEND;TZID=Europe/Brussels:20251118T061500
END:VEVENT
BEGIN:VEVENT
UID:A0E9B3BE-1D47-428D-8EB5-7807839F7498-6-247_homereminder@14.badmintonner
 s.net
DTSTAMP:20260420T055120Z
SUMMARY:Thuismatch ingevuld? (De Klamp 1H (41) - Plumula 1H (42))
DESCRIPTION:Je hebt 36 uur na aanvang om een thuismatch op Badmintonvlaande
 ren in te vullen. Match info: De Klamp 1H (41) - Plumula 1H (42) - Link: h
 ttps://www.badmintonvlaanderen.be/sport/teammatch.aspx?id=A0E9B3BE-1D47-42
 8D-8EB5-7807839F7498&match=247
DTSTART;TZID=Europe/Brussels:20260127T061500
DTEND;TZID=Europe/Brussels:20260127T061500
END:VEVENT
BEGIN:VEVENT
UID:A0E9B3BE-1D47-428D-8EB5-7807839F7498-6-237_homereminder@14.badmintonner
 s.net
DTSTAMP:20260420T055120Z
SUMMARY:Thuismatch ingevuld? (De Klamp 1H (41) - Herentals 1H (42))
DESCRIPTION:Je hebt 36 uur na aanvang om een thuismatch op Badmintonvlaande
 ren in te vullen. Match info: De Klamp 1H (41) - Herentals 1H (42) - Link:
  https://www.badmintonvlaanderen.be/sport/teammatch.aspx?id=A0E9B3BE-1D47-
 428D-8EB5-7807839F7498&match=237
DTSTART;TZID=Europe/Brussels:20260224T061500
DTEND;TZID=Europe/Brussels:20260224T061500
END:VEVENT
BEGIN:VEVENT
UID:A0E9B3BE-1D47-428D-8EB5-7807839F7498-6-263_homereminder@14.badmintonner
 s.net
DTSTAMP:20260420T055120Z
SUMMARY:Thuismatch ingevuld? (De Klamp 1H (41) - Klein Boom 1H (38))
DESCRIPTION:Je hebt 36 uur na aanvang om een thuismatch op Badmintonvlaande
 ren in te vullen. Match info: De Klamp 1H (41) - Klein Boom 1H (38) - Link
 : https://www.badmintonvlaanderen.be/sport/teammatch.aspx?id=A0E9B3BE-1D47
 -428D-8EB5-7807839F7498&match=263
DTSTART;TZID=Europe/Brussels:20260310T061500
DTEND;TZID=Europe/Brussels:20260310T061500
END:VEVENT
BEGIN:VEVENT
UID:A0E9B3BE-1D47-428D-8EB5-7807839F7498-6-252_awayreminder@14.badmintonner
 s.net
DTSTAMP:20260420T055120Z
SUMMARY:Uitmatch bevestigd? (Plumula 1H (42) - De Klamp 1H (41))
DESCRIPTION:Je hebt 72 uur na aanvang om een uitmatch op Badmintonvlaandere
 n in te vullen. Match info: Plumula 1H (42) - De Klamp 1H (41) - Link: htt
 ps://www.badmintonvlaanderen.be/sport/teammatch.aspx?id=A0E9B3BE-1D47-428D
 -8EB5-7807839F7498&match=252
DTSTART;TZID=Europe/Brussels:20250924T173000
DTEND;TZID=Europe/Brussels:20250924T173000
END:VEVENT
BEGIN:VEVENT
UID:A0E9B3BE-1D47-428D-8EB5-7807839F7498-6-250_awayreminder@14.badmintonner
 s.net
DTSTAMP:20260420T055120Z
SUMMARY:Uitmatch bevestigd? (Herentals 1H (42) - De Klamp 1H (41))
DESCRIPTION:Je hebt 72 uur na aanvang om een uitmatch op Badmintonvlaandere
 n in te vullen. Match info: Herentals 1H (42) - De Klamp 1H (41) - Link: h
 ttps://www.badmintonvlaanderen.be/sport/teammatch.aspx?id=A0E9B3BE-1D47-42
 8D-8EB5-7807839F7498&match=250
DTSTART;TZID=Europe/Brussels:20251208T203000
DTEND;TZID=Europe/Brussels:20251208T203000
END:VEVENT
BEGIN:VEVENT
UID:A0E9B3BE-1D47-428D-8EB5-7807839F7498-6-254_awayreminder@14.badmintonner
 s.net
DTSTAMP:20260420T055120Z
SUMMARY:Uitmatch bevestigd? (Klein Boom 1H (38) - De Klamp 1H (41))
DESCRIPTION:Je hebt 72 uur na aanvang om een uitmatch op Badmintonvlaandere
 n in te vullen. Match info: Klein Boom 1H (38) - De Klamp 1H (41) - Link: 
 https://www.badmintonvlaanderen.be/sport/teammatch.aspx?id=A0E9B3BE-1D47-4
 28D-8EB5-7807839F7498&match=254
DTSTART;TZID=Europe/Brussels:20251217T190000
DTEND;TZID=Europe/Brussels:20251217T190000
END:VEVENT
BEGIN:VEVENT
UID:A0E9B3BE-1D47-428D-8EB5-7807839F7498-6-251_awayreminder@14.badmintonner
 s.net
DTSTAMP:20260420T055120Z
SUMMARY:Uitmatch bevestigd? (Smash 1H (42) - De Klamp 1H (41))
DESCRIPTION:Je hebt 72 uur na aanvang om een uitmatch op Badmintonvlaandere
 n in te vullen. Match info: Smash 1H (42) - De Klamp 1H (41) - Link: https
 ://www.badmintonvlaanderen.be/sport/teammatch.aspx?id=A0E9B3BE-1D47-428D-8
 EB5-7807839F7498&match=251
DTSTART;TZID=Europe/Brussels:20260315T200000
DTEND;TZID=Europe/Brussels:20260315T200000
END:VEVENT
BEGIN:VEVENT
UID:A0E9B3BE-1D47-428D-8EB5-7807839F7498-6-253_awayreminder@14.badmintonner
 s.net
DTSTAMP:20260420T055120Z
SUMMARY:Uitmatch bevestigd? (Olve 3H (36) - De Klamp 1H (41))
DESCRIPTION:Je hebt 72 uur na aanvang om een uitmatch op Badmintonvlaandere
 n in te vullen. Match info: Olve 3H (36) - De Klamp 1H (41) - Link: https:
 //www.badmintonvlaanderen.be/sport/teammatch.aspx?id=A0E9B3BE-1D47-428D-8E
 B5-7807839F7498&match=253
DTSTART;TZID=Europe/Brussels:20260324T103000
DTEND;TZID=Europe/Brussels:20260324T103000
END:VEVENT
END:VCALENDAR