BEGIN:VCALENDAR
VERSION:2.0
PRODID:spatie/icalendar-generator
NAME:herentals_1h_42_reminders
X-WR-CALNAME:herentals_1h_42_reminders
BEGIN:VTIMEZONE
TZID:Europe/Brussels
BEGIN:DAYLIGHT
DTSTART:20250330T010000
TZOFFSETFROM:+0100
TZOFFSETTO:+0200
END:DAYLIGHT
BEGIN:STANDARD
DTSTART:20251026T030000
TZOFFSETFROM:+0200
TZOFFSETTO:+0100
END:STANDARD
BEGIN:DAYLIGHT
DTSTART:20260329T010000
TZOFFSETFROM:+0100
TZOFFSETTO:+0200
END:DAYLIGHT
END:VTIMEZONE
BEGIN:VTIMEZONE
TZID:UTC
BEGIN:STANDARD
DTSTART:20250724T042147
TZOFFSETFROM:+0000
TZOFFSETTO:+0000
END:STANDARD
END:VTIMEZONE
BEGIN:VEVENT
UID:A0E9B3BE-1D47-428D-8EB5-7807839F7498-6-260_homereminder@16.badmintonner
 s.net
DTSTAMP:20260420T042147Z
SUMMARY:Thuismatch ingevuld? (Herentals 1H (42) - Klein Boom 1H (38))
DESCRIPTION:Je hebt 36 uur na aanvang om een thuismatch op Badmintonvlaande
 ren in te vullen. Match info: Herentals 1H (42) - Klein Boom 1H (38) - Lin
 k: https://www.badmintonvlaanderen.be/sport/teammatch.aspx?id=A0E9B3BE-1D4
 7-428D-8EB5-7807839F7498&match=260
DTSTART;TZID=Europe/Brussels:20251026T073000
DTEND;TZID=Europe/Brussels:20251026T073000
END:VEVENT
BEGIN:VEVENT
UID:A0E9B3BE-1D47-428D-8EB5-7807839F7498-6-250_homereminder@16.badmintonner
 s.net
DTSTAMP:20260420T042147Z
SUMMARY:Thuismatch ingevuld? (Herentals 1H (42) - De Klamp 1H (41))
DESCRIPTION:Je hebt 36 uur na aanvang om een thuismatch op Badmintonvlaande
 ren in te vullen. Match info: Herentals 1H (42) - De Klamp 1H (41) - Link:
  https://www.badmintonvlaanderen.be/sport/teammatch.aspx?id=A0E9B3BE-1D47-
 428D-8EB5-7807839F7498&match=250
DTSTART;TZID=Europe/Brussels:20251207T083000
DTEND;TZID=Europe/Brussels:20251207T083000
END:VEVENT
BEGIN:VEVENT
UID:A0E9B3BE-1D47-428D-8EB5-7807839F7498-6-240_homereminder@16.badmintonner
 s.net
DTSTAMP:20260420T042147Z
SUMMARY:Thuismatch ingevuld? (Herentals 1H (42) - Smash 1H (42))
DESCRIPTION:Je hebt 36 uur na aanvang om een thuismatch op Badmintonvlaande
 ren in te vullen. Match info: Herentals 1H (42) - Smash 1H (42) - Link: ht
 tps://www.badmintonvlaanderen.be/sport/teammatch.aspx?id=A0E9B3BE-1D47-428
 D-8EB5-7807839F7498&match=240
DTSTART;TZID=Europe/Brussels:20251214T083000
DTEND;TZID=Europe/Brussels:20251214T083000
END:VEVENT
BEGIN:VEVENT
UID:A0E9B3BE-1D47-428D-8EB5-7807839F7498-6-255_homereminder@16.badmintonner
 s.net
DTSTAMP:20260420T042147Z
SUMMARY:Thuismatch ingevuld? (Herentals 1H (42) - Olve 3H (36))
DESCRIPTION:Je hebt 36 uur na aanvang om een thuismatch op Badmintonvlaande
 ren in te vullen. Match info: Herentals 1H (42) - Olve 3H (36) - Link: htt
 ps://www.badmintonvlaanderen.be/sport/teammatch.aspx?id=A0E9B3BE-1D47-428D
 -8EB5-7807839F7498&match=255
DTSTART;TZID=Europe/Brussels:20260118T083000
DTEND;TZID=Europe/Brussels:20260118T083000
END:VEVENT
BEGIN:VEVENT
UID:A0E9B3BE-1D47-428D-8EB5-7807839F7498-6-245_homereminder@16.badmintonner
 s.net
DTSTAMP:20260420T042147Z
SUMMARY:Thuismatch ingevuld? (Herentals 1H (42) - Plumula 1H (42))
DESCRIPTION:Je hebt 36 uur na aanvang om een thuismatch op Badmintonvlaande
 ren in te vullen. Match info: Herentals 1H (42) - Plumula 1H (42) - Link: 
 https://www.badmintonvlaanderen.be/sport/teammatch.aspx?id=A0E9B3BE-1D47-4
 28D-8EB5-7807839F7498&match=245
DTSTART;TZID=Europe/Brussels:20260322T083000
DTEND;TZID=Europe/Brussels:20260322T083000
END:VEVENT
BEGIN:VEVENT
UID:A0E9B3BE-1D47-428D-8EB5-7807839F7498-6-238_awayreminder@16.badmintonner
 s.net
DTSTAMP:20260420T042147Z
SUMMARY:Uitmatch bevestigd? (Olve 3H (36) - Herentals 1H (42))
DESCRIPTION:Je hebt 72 uur na aanvang om een uitmatch op Badmintonvlaandere
 n in te vullen. Match info: Olve 3H (36) - Herentals 1H (42) - Link: https
 ://www.badmintonvlaanderen.be/sport/teammatch.aspx?id=A0E9B3BE-1D47-428D-8
 EB5-7807839F7498&match=238
DTSTART;TZID=Europe/Brussels:20251007T103000
DTEND;TZID=Europe/Brussels:20251007T103000
END:VEVENT
BEGIN:VEVENT
UID:A0E9B3BE-1D47-428D-8EB5-7807839F7498-6-236_awayreminder@16.badmintonner
 s.net
DTSTAMP:20260420T042147Z
SUMMARY:Uitmatch bevestigd? (Plumula 1H (42) - Herentals 1H (42))
DESCRIPTION:Je hebt 72 uur na aanvang om een uitmatch op Badmintonvlaandere
 n in te vullen. Match info: Plumula 1H (42) - Herentals 1H (42) - Link: ht
 tps://www.badmintonvlaanderen.be/sport/teammatch.aspx?id=A0E9B3BE-1D47-428
 D-8EB5-7807839F7498&match=236
DTSTART;TZID=Europe/Brussels:20251119T173000
DTEND;TZID=Europe/Brussels:20251119T173000
END:VEVENT
BEGIN:VEVENT
UID:A0E9B3BE-1D47-428D-8EB5-7807839F7498-6-239_awayreminder@16.badmintonner
 s.net
DTSTAMP:20260420T042147Z
SUMMARY:Uitmatch bevestigd? (Klein Boom 1H (38) - Herentals 1H (42))
DESCRIPTION:Je hebt 72 uur na aanvang om een uitmatch op Badmintonvlaandere
 n in te vullen. Match info: Klein Boom 1H (38) - Herentals 1H (42) - Link:
  https://www.badmintonvlaanderen.be/sport/teammatch.aspx?id=A0E9B3BE-1D47-
 428D-8EB5-7807839F7498&match=239
DTSTART;TZID=Europe/Brussels:20260211T190000
DTEND;TZID=Europe/Brussels:20260211T190000
END:VEVENT
BEGIN:VEVENT
UID:A0E9B3BE-1D47-428D-8EB5-7807839F7498-6-237_awayreminder@16.badmintonner
 s.net
DTSTAMP:20260420T042147Z
SUMMARY:Uitmatch bevestigd? (De Klamp 1H (41) - Herentals 1H (42))
DESCRIPTION:Je hebt 72 uur na aanvang om een uitmatch op Badmintonvlaandere
 n in te vullen. Match info: De Klamp 1H (41) - Herentals 1H (42) - Link: h
 ttps://www.badmintonvlaanderen.be/sport/teammatch.aspx?id=A0E9B3BE-1D47-42
 8D-8EB5-7807839F7498&match=237
DTSTART;TZID=Europe/Brussels:20260225T181500
DTEND;TZID=Europe/Brussels:20260225T181500
END:VEVENT
BEGIN:VEVENT
UID:A0E9B3BE-1D47-428D-8EB5-7807839F7498-6-235_awayreminder@16.badmintonner
 s.net
DTSTAMP:20260420T042147Z
SUMMARY:Uitmatch bevestigd? (Smash 1H (42) - Herentals 1H (42))
DESCRIPTION:Je hebt 72 uur na aanvang om een uitmatch op Badmintonvlaandere
 n in te vullen. Match info: Smash 1H (42) - Herentals 1H (42) - Link: http
 s://www.badmintonvlaanderen.be/sport/teammatch.aspx?id=A0E9B3BE-1D47-428D-
 8EB5-7807839F7498&match=235
DTSTART;TZID=Europe/Brussels:20260412T200000
DTEND;TZID=Europe/Brussels:20260412T200000
END:VEVENT
END:VCALENDAR