BEGIN:VCALENDAR
VERSION:2.0
PRODID:spatie/icalendar-generator
NAME:olve_3h_36_reminders
X-WR-CALNAME:olve_3h_36_reminders
BEGIN:VTIMEZONE
TZID:Europe/Brussels
BEGIN:DAYLIGHT
DTSTART:20250330T010000
TZOFFSETFROM:+0100
TZOFFSETTO:+0200
END:DAYLIGHT
BEGIN:STANDARD
DTSTART:20251026T030000
TZOFFSETFROM:+0200
TZOFFSETTO:+0100
END:STANDARD
BEGIN:DAYLIGHT
DTSTART:20260329T010000
TZOFFSETFROM:+0100
TZOFFSETTO:+0200
END:DAYLIGHT
END:VTIMEZONE
BEGIN:VTIMEZONE
TZID:UTC
BEGIN:STANDARD
DTSTART:20250724T041159
TZOFFSETFROM:+0000
TZOFFSETTO:+0000
END:STANDARD
END:VTIMEZONE
BEGIN:VEVENT
UID:A0E9B3BE-1D47-428D-8EB5-7807839F7498-6-238_homereminder@7.badmintonners
 .net
DTSTAMP:20260420T041159Z
SUMMARY:Thuismatch ingevuld? (Olve 3H (36) - Herentals 1H (42))
DESCRIPTION:Je hebt 36 uur na aanvang om een thuismatch op Badmintonvlaande
 ren in te vullen. Match info: Olve 3H (36) - Herentals 1H (42) - Link: htt
 ps://www.badmintonvlaanderen.be/sport/teammatch.aspx?id=A0E9B3BE-1D47-428D
 -8EB5-7807839F7498&match=238
DTSTART;TZID=Europe/Brussels:20251005T223000
DTEND;TZID=Europe/Brussels:20251005T223000
END:VEVENT
BEGIN:VEVENT
UID:A0E9B3BE-1D47-428D-8EB5-7807839F7498-6-248_homereminder@7.badmintonners
 .net
DTSTAMP:20260420T041159Z
SUMMARY:Thuismatch ingevuld? (Olve 3H (36) - Plumula 1H (42))
DESCRIPTION:Je hebt 36 uur na aanvang om een thuismatch op Badmintonvlaande
 ren in te vullen. Match info: Olve 3H (36) - Plumula 1H (42) - Link: https
 ://www.badmintonvlaanderen.be/sport/teammatch.aspx?id=A0E9B3BE-1D47-428D-8
 EB5-7807839F7498&match=248
DTSTART;TZID=Europe/Brussels:20251214T223000
DTEND;TZID=Europe/Brussels:20251214T223000
END:VEVENT
BEGIN:VEVENT
UID:A0E9B3BE-1D47-428D-8EB5-7807839F7498-6-243_homereminder@7.badmintonners
 .net
DTSTAMP:20260420T041159Z
SUMMARY:Thuismatch ingevuld? (Olve 3H (36) - Smash 1H (42))
DESCRIPTION:Je hebt 36 uur na aanvang om een thuismatch op Badmintonvlaande
 ren in te vullen. Match info: Olve 3H (36) - Smash 1H (42) - Link: https:/
 /www.badmintonvlaanderen.be/sport/teammatch.aspx?id=A0E9B3BE-1D47-428D-8EB
 5-7807839F7498&match=243
DTSTART;TZID=Europe/Brussels:20260315T223000
DTEND;TZID=Europe/Brussels:20260315T223000
END:VEVENT
BEGIN:VEVENT
UID:A0E9B3BE-1D47-428D-8EB5-7807839F7498-6-253_homereminder@7.badmintonners
 .net
DTSTAMP:20260420T041159Z
SUMMARY:Thuismatch ingevuld? (Olve 3H (36) - De Klamp 1H (41))
DESCRIPTION:Je hebt 36 uur na aanvang om een thuismatch op Badmintonvlaande
 ren in te vullen. Match info: Olve 3H (36) - De Klamp 1H (41) - Link: http
 s://www.badmintonvlaanderen.be/sport/teammatch.aspx?id=A0E9B3BE-1D47-428D-
 8EB5-7807839F7498&match=253
DTSTART;TZID=Europe/Brussels:20260322T223000
DTEND;TZID=Europe/Brussels:20260322T223000
END:VEVENT
BEGIN:VEVENT
UID:A0E9B3BE-1D47-428D-8EB5-7807839F7498-6-264_homereminder@7.badmintonners
 .net
DTSTAMP:20260420T041159Z
SUMMARY:Thuismatch ingevuld? (Olve 3H (36) - Klein Boom 1H (38))
DESCRIPTION:Je hebt 36 uur na aanvang om een thuismatch op Badmintonvlaande
 ren in te vullen. Match info: Olve 3H (36) - Klein Boom 1H (38) - Link: ht
 tps://www.badmintonvlaanderen.be/sport/teammatch.aspx?id=A0E9B3BE-1D47-428
 D-8EB5-7807839F7498&match=264
DTSTART;TZID=Europe/Brussels:20260419T223000
DTEND;TZID=Europe/Brussels:20260419T223000
END:VEVENT
BEGIN:VEVENT
UID:A0E9B3BE-1D47-428D-8EB5-7807839F7498-6-259_awayreminder@7.badmintonners
 .net
DTSTAMP:20260420T041159Z
SUMMARY:Uitmatch bevestigd? (Klein Boom 1H (38) - Olve 3H (36))
DESCRIPTION:Je hebt 72 uur na aanvang om een uitmatch op Badmintonvlaandere
 n in te vullen. Match info: Klein Boom 1H (38) - Olve 3H (36) - Link: http
 s://www.badmintonvlaanderen.be/sport/teammatch.aspx?id=A0E9B3BE-1D47-428D-
 8EB5-7807839F7498&match=259
DTSTART;TZID=Europe/Brussels:20251022T190000
DTEND;TZID=Europe/Brussels:20251022T190000
END:VEVENT
BEGIN:VEVENT
UID:A0E9B3BE-1D47-428D-8EB5-7807839F7498-6-256_awayreminder@7.badmintonners
 .net
DTSTAMP:20260420T041159Z
SUMMARY:Uitmatch bevestigd? (Smash 1H (42) - Olve 3H (36))
DESCRIPTION:Je hebt 72 uur na aanvang om een uitmatch op Badmintonvlaandere
 n in te vullen. Match info: Smash 1H (42) - Olve 3H (36) - Link: https://w
 ww.badmintonvlaanderen.be/sport/teammatch.aspx?id=A0E9B3BE-1D47-428D-8EB5-
 7807839F7498&match=256
DTSTART;TZID=Europe/Brussels:20251109T200000
DTEND;TZID=Europe/Brussels:20251109T200000
END:VEVENT
BEGIN:VEVENT
UID:A0E9B3BE-1D47-428D-8EB5-7807839F7498-6-258_awayreminder@7.badmintonners
 .net
DTSTAMP:20260420T041159Z
SUMMARY:Uitmatch bevestigd? (De Klamp 1H (41) - Olve 3H (36))
DESCRIPTION:Je hebt 72 uur na aanvang om een uitmatch op Badmintonvlaandere
 n in te vullen. Match info: De Klamp 1H (41) - Olve 3H (36) - Link: https:
 //www.badmintonvlaanderen.be/sport/teammatch.aspx?id=A0E9B3BE-1D47-428D-8E
 B5-7807839F7498&match=258
DTSTART;TZID=Europe/Brussels:20251119T181500
DTEND;TZID=Europe/Brussels:20251119T181500
END:VEVENT
BEGIN:VEVENT
UID:A0E9B3BE-1D47-428D-8EB5-7807839F7498-6-255_awayreminder@7.badmintonners
 .net
DTSTAMP:20260420T041159Z
SUMMARY:Uitmatch bevestigd? (Herentals 1H (42) - Olve 3H (36))
DESCRIPTION:Je hebt 72 uur na aanvang om een uitmatch op Badmintonvlaandere
 n in te vullen. Match info: Herentals 1H (42) - Olve 3H (36) - Link: https
 ://www.badmintonvlaanderen.be/sport/teammatch.aspx?id=A0E9B3BE-1D47-428D-8
 EB5-7807839F7498&match=255
DTSTART;TZID=Europe/Brussels:20260119T203000
DTEND;TZID=Europe/Brussels:20260119T203000
END:VEVENT
BEGIN:VEVENT
UID:A0E9B3BE-1D47-428D-8EB5-7807839F7498-6-257_awayreminder@7.badmintonners
 .net
DTSTAMP:20260420T041159Z
SUMMARY:Uitmatch bevestigd? (Plumula 1H (42) - Olve 3H (36))
DESCRIPTION:Je hebt 72 uur na aanvang om een uitmatch op Badmintonvlaandere
 n in te vullen. Match info: Plumula 1H (42) - Olve 3H (36) - Link: https:/
 /www.badmintonvlaanderen.be/sport/teammatch.aspx?id=A0E9B3BE-1D47-428D-8EB
 5-7807839F7498&match=257
DTSTART;TZID=Europe/Brussels:20260311T173000
DTEND;TZID=Europe/Brussels:20260311T173000
END:VEVENT
END:VCALENDAR