BEGIN:VCALENDAR
VERSION:2.0
PRODID:spatie/icalendar-generator
NAME:plumula_1h_42_reminders
X-WR-CALNAME:plumula_1h_42_reminders
BEGIN:VTIMEZONE
TZID:Europe/Brussels
BEGIN:DAYLIGHT
DTSTART:20250330T010000
TZOFFSETFROM:+0100
TZOFFSETTO:+0200
END:DAYLIGHT
BEGIN:STANDARD
DTSTART:20251026T030000
TZOFFSETFROM:+0200
TZOFFSETTO:+0100
END:STANDARD
BEGIN:DAYLIGHT
DTSTART:20260329T010000
TZOFFSETFROM:+0100
TZOFFSETTO:+0200
END:DAYLIGHT
END:VTIMEZONE
BEGIN:VTIMEZONE
TZID:UTC
BEGIN:STANDARD
DTSTART:20250724T041158
TZOFFSETFROM:+0000
TZOFFSETTO:+0000
END:STANDARD
END:VTIMEZONE
BEGIN:VEVENT
UID:A0E9B3BE-1D47-428D-8EB5-7807839F7498-6-252_homereminder@9.badmintonners
 .net
DTSTAMP:20260420T041158Z
SUMMARY:Thuismatch ingevuld? (Plumula 1H (42) - De Klamp 1H (41))
DESCRIPTION:Je hebt 36 uur na aanvang om een thuismatch op Badmintonvlaande
 ren in te vullen. Match info: Plumula 1H (42) - De Klamp 1H (41) - Link: h
 ttps://www.badmintonvlaanderen.be/sport/teammatch.aspx?id=A0E9B3BE-1D47-42
 8D-8EB5-7807839F7498&match=252
DTSTART;TZID=Europe/Brussels:20250923T053000
DTEND;TZID=Europe/Brussels:20250923T053000
END:VEVENT
BEGIN:VEVENT
UID:A0E9B3BE-1D47-428D-8EB5-7807839F7498-6-236_homereminder@9.badmintonners
 .net
DTSTAMP:20260420T041158Z
SUMMARY:Thuismatch ingevuld? (Plumula 1H (42) - Herentals 1H (42))
DESCRIPTION:Je hebt 36 uur na aanvang om een thuismatch op Badmintonvlaande
 ren in te vullen. Match info: Plumula 1H (42) - Herentals 1H (42) - Link: 
 https://www.badmintonvlaanderen.be/sport/teammatch.aspx?id=A0E9B3BE-1D47-4
 28D-8EB5-7807839F7498&match=236
DTSTART;TZID=Europe/Brussels:20251118T053000
DTEND;TZID=Europe/Brussels:20251118T053000
END:VEVENT
BEGIN:VEVENT
UID:A0E9B3BE-1D47-428D-8EB5-7807839F7498-6-262_homereminder@9.badmintonners
 .net
DTSTAMP:20260420T041158Z
SUMMARY:Thuismatch ingevuld? (Plumula 1H (42) - Klein Boom 1H (38))
DESCRIPTION:Je hebt 36 uur na aanvang om een thuismatch op Badmintonvlaande
 ren in te vullen. Match info: Plumula 1H (42) - Klein Boom 1H (38) - Link:
  https://www.badmintonvlaanderen.be/sport/teammatch.aspx?id=A0E9B3BE-1D47-
 428D-8EB5-7807839F7498&match=262
DTSTART;TZID=Europe/Brussels:20251202T053000
DTEND;TZID=Europe/Brussels:20251202T053000
END:VEVENT
BEGIN:VEVENT
UID:A0E9B3BE-1D47-428D-8EB5-7807839F7498-6-241_homereminder@9.badmintonners
 .net
DTSTAMP:20260420T041158Z
SUMMARY:Thuismatch ingevuld? (Plumula 1H (42) - Smash 1H (42))
DESCRIPTION:Je hebt 36 uur na aanvang om een thuismatch op Badmintonvlaande
 ren in te vullen. Match info: Plumula 1H (42) - Smash 1H (42) - Link: http
 s://www.badmintonvlaanderen.be/sport/teammatch.aspx?id=A0E9B3BE-1D47-428D-
 8EB5-7807839F7498&match=241
DTSTART;TZID=Europe/Brussels:20260303T053000
DTEND;TZID=Europe/Brussels:20260303T053000
END:VEVENT
BEGIN:VEVENT
UID:A0E9B3BE-1D47-428D-8EB5-7807839F7498-6-257_homereminder@9.badmintonners
 .net
DTSTAMP:20260420T041158Z
SUMMARY:Thuismatch ingevuld? (Plumula 1H (42) - Olve 3H (36))
DESCRIPTION:Je hebt 36 uur na aanvang om een thuismatch op Badmintonvlaande
 ren in te vullen. Match info: Plumula 1H (42) - Olve 3H (36) - Link: https
 ://www.badmintonvlaanderen.be/sport/teammatch.aspx?id=A0E9B3BE-1D47-428D-8
 EB5-7807839F7498&match=257
DTSTART;TZID=Europe/Brussels:20260310T053000
DTEND;TZID=Europe/Brussels:20260310T053000
END:VEVENT
BEGIN:VEVENT
UID:A0E9B3BE-1D47-428D-8EB5-7807839F7498-6-248_awayreminder@9.badmintonners
 .net
DTSTAMP:20260420T041158Z
SUMMARY:Uitmatch bevestigd? (Olve 3H (36) - Plumula 1H (42))
DESCRIPTION:Je hebt 72 uur na aanvang om een uitmatch op Badmintonvlaandere
 n in te vullen. Match info: Olve 3H (36) - Plumula 1H (42) - Link: https:/
 /www.badmintonvlaanderen.be/sport/teammatch.aspx?id=A0E9B3BE-1D47-428D-8EB
 5-7807839F7498&match=248
DTSTART;TZID=Europe/Brussels:20251216T103000
DTEND;TZID=Europe/Brussels:20251216T103000
END:VEVENT
BEGIN:VEVENT
UID:A0E9B3BE-1D47-428D-8EB5-7807839F7498-6-246_awayreminder@9.badmintonners
 .net
DTSTAMP:20260420T041158Z
SUMMARY:Uitmatch bevestigd? (Smash 1H (42) - Plumula 1H (42))
DESCRIPTION:Je hebt 72 uur na aanvang om een uitmatch op Badmintonvlaandere
 n in te vullen. Match info: Smash 1H (42) - Plumula 1H (42) - Link: https:
 //www.badmintonvlaanderen.be/sport/teammatch.aspx?id=A0E9B3BE-1D47-428D-8E
 B5-7807839F7498&match=246
DTSTART;TZID=Europe/Brussels:20251217T100000
DTEND;TZID=Europe/Brussels:20251217T100000
END:VEVENT
BEGIN:VEVENT
UID:A0E9B3BE-1D47-428D-8EB5-7807839F7498-6-249_awayreminder@9.badmintonners
 .net
DTSTAMP:20260420T041158Z
SUMMARY:Uitmatch bevestigd? (Klein Boom 1H (38) - Plumula 1H (42))
DESCRIPTION:Je hebt 72 uur na aanvang om een uitmatch op Badmintonvlaandere
 n in te vullen. Match info: Klein Boom 1H (38) - Plumula 1H (42) - Link: h
 ttps://www.badmintonvlaanderen.be/sport/teammatch.aspx?id=A0E9B3BE-1D47-42
 8D-8EB5-7807839F7498&match=249
DTSTART;TZID=Europe/Brussels:20260114T190000
DTEND;TZID=Europe/Brussels:20260114T190000
END:VEVENT
BEGIN:VEVENT
UID:A0E9B3BE-1D47-428D-8EB5-7807839F7498-6-247_awayreminder@9.badmintonners
 .net
DTSTAMP:20260420T041158Z
SUMMARY:Uitmatch bevestigd? (De Klamp 1H (41) - Plumula 1H (42))
DESCRIPTION:Je hebt 72 uur na aanvang om een uitmatch op Badmintonvlaandere
 n in te vullen. Match info: De Klamp 1H (41) - Plumula 1H (42) - Link: htt
 ps://www.badmintonvlaanderen.be/sport/teammatch.aspx?id=A0E9B3BE-1D47-428D
 -8EB5-7807839F7498&match=247
DTSTART;TZID=Europe/Brussels:20260128T181500
DTEND;TZID=Europe/Brussels:20260128T181500
END:VEVENT
BEGIN:VEVENT
UID:A0E9B3BE-1D47-428D-8EB5-7807839F7498-6-245_awayreminder@9.badmintonners
 .net
DTSTAMP:20260420T041158Z
SUMMARY:Uitmatch bevestigd? (Herentals 1H (42) - Plumula 1H (42))
DESCRIPTION:Je hebt 72 uur na aanvang om een uitmatch op Badmintonvlaandere
 n in te vullen. Match info: Herentals 1H (42) - Plumula 1H (42) - Link: ht
 tps://www.badmintonvlaanderen.be/sport/teammatch.aspx?id=A0E9B3BE-1D47-428
 D-8EB5-7807839F7498&match=245
DTSTART;TZID=Europe/Brussels:20260323T203000
DTEND;TZID=Europe/Brussels:20260323T203000
END:VEVENT
END:VCALENDAR